| Back to Multiple platform build/check report for BioC 3.12 | 
  | 
This page was generated on 2021-05-06 12:34:22 -0400 (Thu, 06 May 2021).
| 
To the developers/maintainers of the basilisk package: Please make sure to use the following settings in order to reproduce any error or warning you see on this page.  | 
| Package 121/1974 | Hostname | OS / Arch | INSTALL | BUILD | CHECK | BUILD BIN | ||||||||
| basilisk 1.2.1  (landing page) Aaron Lun 
  | malbec1 | Linux (Ubuntu 18.04.5 LTS) / x86_64 | OK | OK | OK | |||||||||
| tokay1 | Windows Server 2012 R2 Standard / x64 | OK | OK | ERROR | OK | |||||||||
| merida1 | macOS 10.14.6 Mojave / x86_64 | OK | OK | OK | OK | |||||||||
| Package: basilisk | 
| Version: 1.2.1 | 
| Command: rm -rf basilisk.buildbin-libdir && mkdir basilisk.buildbin-libdir && /Users/biocbuild/BBS/utils/build-universal.sh basilisk_1.2.1.tar.gz /Library/Frameworks/R.framework/Versions/Current/Resources/bin/R basilisk.buildbin-libdir | 
| StartedAt: 2021-05-06 07:58:05 -0400 (Thu, 06 May 2021) | 
| EndedAt: 2021-05-06 07:59:04 -0400 (Thu, 06 May 2021) | 
| EllapsedTime: 59.6 seconds | 
| RetCode: 0 | 
| Status: OK | 
| PackageFile: basilisk_1.2.1.tgz | 
| PackageFileSize: 287.8 KiB | 
############################################################################## ############################################################################## ### ### Running command: ### ### rm -rf basilisk.buildbin-libdir && mkdir basilisk.buildbin-libdir && /Users/biocbuild/BBS/utils/build-universal.sh basilisk_1.2.1.tar.gz /Library/Frameworks/R.framework/Versions/Current/Resources/bin/R basilisk.buildbin-libdir ### ############################################################################## ############################################################################## >>>>>>> >>>>>>> INSTALLATION WITH 'R CMD INSTALL --preclean --no-multiarch --library=basilisk.buildbin-libdir basilisk_1.2.1.tar.gz' >>>>>>> * installing *source* package ‘basilisk’ ... ** using non-staged installation via StagedInstall field ** R ** inst ** byte-compile and prepare package for lazy loading ** help *** installing help indices ** building package indices ** installing vignettes ** testing if installed package can be loaded * DONE (basilisk)