| Back to Multiple platform build/check report for BioC 3.12 |
|
This page was generated on 2021-05-06 12:29:49 -0400 (Thu, 06 May 2021).
|
To the developers/maintainers of the adductomicsR package: Please make sure to use the following settings in order to reproduce any error or warning you see on this page. |
| Package 19/1974 | Hostname | OS / Arch | INSTALL | BUILD | CHECK | BUILD BIN | ||||||||
| adductomicsR 1.6.0 (landing page) Josie Hayes
| malbec1 | Linux (Ubuntu 18.04.5 LTS) / x86_64 | OK | OK | WARNINGS | |||||||||
| tokay1 | Windows Server 2012 R2 Standard / x64 | OK | OK | WARNINGS | OK | |||||||||
| merida1 | macOS 10.14.6 Mojave / x86_64 | OK | OK | WARNINGS | OK | |||||||||
| Package: adductomicsR |
| Version: 1.6.0 |
| Command: C:\cygwin\bin\curl.exe -O http://172.29.0.3/BBS/3.12/bioc/src/contrib/adductomicsR_1.6.0.tar.gz && rm -rf adductomicsR.buildbin-libdir && mkdir adductomicsR.buildbin-libdir && C:\Users\biocbuild\bbs-3.12-bioc\R\bin\R.exe CMD INSTALL --merge-multiarch --build --library=adductomicsR.buildbin-libdir adductomicsR_1.6.0.tar.gz && C:\Users\biocbuild\bbs-3.12-bioc\R\bin\R.exe CMD INSTALL adductomicsR_1.6.0.zip && rm adductomicsR_1.6.0.tar.gz adductomicsR_1.6.0.zip |
| StartedAt: 2021-05-05 19:12:57 -0400 (Wed, 05 May 2021) |
| EndedAt: 2021-05-05 19:14:07 -0400 (Wed, 05 May 2021) |
| EllapsedTime: 69.2 seconds |
| RetCode: 0 |
| Status: OK |
##############################################################################
##############################################################################
###
### Running command:
###
### C:\cygwin\bin\curl.exe -O http://172.29.0.3/BBS/3.12/bioc/src/contrib/adductomicsR_1.6.0.tar.gz && rm -rf adductomicsR.buildbin-libdir && mkdir adductomicsR.buildbin-libdir && C:\Users\biocbuild\bbs-3.12-bioc\R\bin\R.exe CMD INSTALL --merge-multiarch --build --library=adductomicsR.buildbin-libdir adductomicsR_1.6.0.tar.gz && C:\Users\biocbuild\bbs-3.12-bioc\R\bin\R.exe CMD INSTALL adductomicsR_1.6.0.zip && rm adductomicsR_1.6.0.tar.gz adductomicsR_1.6.0.zip
###
##############################################################################
##############################################################################
% Total % Received % Xferd Average Speed Time Time Time Current
Dload Upload Total Spent Left Speed
0 0 0 0 0 0 0 0 --:--:-- --:--:-- --:--:-- 0
100 741k 100 741k 0 0 22.4M 0 --:--:-- --:--:-- --:--:-- 23.3M
install for i386
* installing *source* package 'adductomicsR' ...
** using staged installation
** R
** inst
** byte-compile and prepare package for lazy loading
** help
*** installing help indices
converting help for package 'adductomicsR'
finding HTML links ... done
IsotopicDistributionMod html
adductQuant html
adductQuantif-class html
adductSpec-class html
adductSpecGen html
digestMod html
finding level-2 HTML links ... done
dotProdMatrix html
dotProdSpectra html
dynamicNoiseFilter html
filterAdductTable html
findPeaks html
generateTargTable html
loessWrapperMod html
ms2Group html
nAdjPeaks html
outputPeakTable html
peakIdQuant_newMethod html
peakIntegrate html
peakListId html
peakRangeSum html
probPeaks html
retentionCorr html
rtDevModelSave html
rtDevModelling html
signalGrouping html
specSimPepId html
spectraCreate html
truePeakTrough html
** building package indices
** installing vignettes
** testing if installed package can be loaded from temporary location
** testing if installed package can be loaded from final location
** testing if installed package keeps a record of temporary installation path
install for x64
* installing *source* package 'adductomicsR' ...
** testing if installed package can be loaded
* MD5 sums
packaged installation of 'adductomicsR' as adductomicsR_1.6.0.zip
* DONE (adductomicsR)
* installing to library 'C:/Users/biocbuild/bbs-3.12-bioc/R/library'
package 'adductomicsR' successfully unpacked and MD5 sums checked