| Back to Multiple platform build/check report for BioC 3.12 | 
  | 
This page was generated on 2021-05-06 12:37:22 -0400 (Thu, 06 May 2021).
| 
To the developers/maintainers of the XINA package: Please make sure to use the following settings in order to reproduce any error or warning you see on this page.  | 
| Package 1963/1974 | Hostname | OS / Arch | INSTALL | BUILD | CHECK | BUILD BIN | ||||||||
| XINA 1.8.0  (landing page) Lang Ho Lee 
  | malbec1 | Linux (Ubuntu 18.04.5 LTS) / x86_64 | OK | OK | OK | |||||||||
| tokay1 | Windows Server 2012 R2 Standard / x64 | OK | OK | OK | OK | |||||||||
| merida1 | macOS 10.14.6 Mojave / x86_64 | OK | OK | OK | OK | |||||||||
| Package: XINA | 
| Version: 1.8.0 | 
| Command: /Library/Frameworks/R.framework/Versions/Current/Resources/bin/R CMD check --install=check:XINA.install-out.txt --library=/Library/Frameworks/R.framework/Versions/Current/Resources/library --no-vignettes --timings XINA_1.8.0.tar.gz | 
| StartedAt: 2021-05-06 07:21:48 -0400 (Thu, 06 May 2021) | 
| EndedAt: 2021-05-06 07:24:22 -0400 (Thu, 06 May 2021) | 
| EllapsedTime: 154.4 seconds | 
| RetCode: 0 | 
| Status: OK | 
| CheckDir: XINA.Rcheck | 
| Warnings: 0 | 
##############################################################################
##############################################################################
###
### Running command:
###
###   /Library/Frameworks/R.framework/Versions/Current/Resources/bin/R CMD check --install=check:XINA.install-out.txt --library=/Library/Frameworks/R.framework/Versions/Current/Resources/library --no-vignettes --timings XINA_1.8.0.tar.gz
###
##############################################################################
##############################################################################
* using log directory ‘/Users/biocbuild/bbs-3.12-bioc/meat/XINA.Rcheck’
* using R version 4.0.5 (2021-03-31)
* using platform: x86_64-apple-darwin17.0 (64-bit)
* using session charset: UTF-8
* using option ‘--no-vignettes’
* checking for file ‘XINA/DESCRIPTION’ ... OK
* checking extension type ... Package
* this is package ‘XINA’ version ‘1.8.0’
* package encoding: UTF-8
* checking package namespace information ... OK
* checking package dependencies ... OK
* checking if this is a source package ... OK
* checking if there is a namespace ... OK
* checking for hidden files and directories ... OK
* checking for portable file names ... OK
* checking for sufficient/correct file permissions ... OK
* checking whether package ‘XINA’ can be installed ... OK
* checking installed package size ... OK
* checking package directory ... OK
* checking ‘build’ directory ... OK
* checking DESCRIPTION meta-information ... OK
* checking top-level files ... OK
* checking for left-over files ... OK
* checking index information ... OK
* checking package subdirectories ... OK
* checking R files for non-ASCII characters ... OK
* checking R files for syntax errors ... OK
* checking whether the package can be loaded ... OK
* checking whether the package can be loaded with stated dependencies ... OK
* checking whether the package can be unloaded cleanly ... OK
* checking whether the namespace can be loaded with stated dependencies ... OK
* checking whether the namespace can be unloaded cleanly ... OK
* checking dependencies in R code ... OK
* checking S3 generic/method consistency ... OK
* checking replacement functions ... OK
* checking foreign function calls ... OK
* checking R code for possible problems ... OK
* checking Rd files ... OK
* checking Rd metadata ... OK
* checking Rd cross-references ... OK
* checking for missing documentation entries ... OK
* checking for code/documentation mismatches ... OK
* checking Rd \usage sections ... OK
* checking Rd contents ... OK
* checking for unstated dependencies in examples ... OK
* checking contents of ‘data’ directory ... OK
* checking data for non-ASCII characters ... OK
* checking data for ASCII and uncompressed saves ... OK
* checking files in ‘vignettes’ ... OK
* checking examples ... OK
Examples with CPU (user + system) or elapsed time > 5s
                                    user system elapsed
xina_clustering                   34.999  0.269  35.324
plot_condition_compositions       16.507  0.120  16.731
plot_clusters                     10.205  0.079  10.322
mutate_colors                      9.568  0.055   9.633
get_condition_biased_comigrations  5.444  0.031   5.487
xina_plot_all                      4.900  0.136   5.050
* checking for unstated dependencies in vignettes ... OK
* checking package vignettes in ‘inst/doc’ ... OK
* checking running R code from vignettes ... SKIPPED
* checking re-building of vignette outputs ... SKIPPED
* checking PDF version of manual ... OK
* DONE
Status: OK
XINA.Rcheck/00install.out
############################################################################## ############################################################################## ### ### Running command: ### ### /Library/Frameworks/R.framework/Versions/Current/Resources/bin/R CMD INSTALL XINA ### ############################################################################## ############################################################################## * installing to library ‘/Library/Frameworks/R.framework/Versions/4.0/Resources/library’ * installing *source* package ‘XINA’ ... ** using staged installation ** R ** data ** inst ** byte-compile and prepare package for lazy loading ** help *** installing help indices ** building package indices ** installing vignettes ** testing if installed package can be loaded from temporary location ** testing if installed package can be loaded from final location ** testing if installed package keeps a record of temporary installation path * DONE (XINA)
XINA.Rcheck/XINA-Ex.timings
| name | user | system | elapsed | |
| alluvial_enriched | 3.036 | 0.105 | 3.147 | |
| draw_alluvial_plot | 0.076 | 0.007 | 0.083 | |
| get_comigrations_by_name | 0.044 | 0.003 | 0.048 | |
| get_condition_biased_comigrations | 5.444 | 0.031 | 5.487 | |
| get_unknown_ppi_nodes | 0.073 | 0.003 | 0.077 | |
| load_previous_results | 1.447 | 0.021 | 1.470 | |
| make_random_xina_data | 0.273 | 0.022 | 0.295 | |
| mutate_colors | 9.568 | 0.055 | 9.633 | |
| plot_clusters | 10.205 | 0.079 | 10.322 | |
| plot_clusters_all | 3.910 | 0.059 | 3.982 | |
| plot_condition_compositions | 16.507 | 0.120 | 16.731 | |
| plot_enrichment_results | 0.001 | 0.000 | 0.000 | |
| xina_analysis | 0.000 | 0.001 | 0.001 | |
| xina_clustering | 34.999 | 0.269 | 35.324 | |
| xina_enrichment | 0.000 | 0.001 | 0.001 | |
| xina_plot_all | 4.900 | 0.136 | 5.050 | |
| xina_plot_bycluster | 0.214 | 0.006 | 0.222 | |
| xina_plot_single | 0.164 | 0.005 | 0.171 | |