| Back to Multiple platform build/check report for BioC 3.12 |
|
This page was generated on 2021-05-06 12:33:59 -0400 (Thu, 06 May 2021).
|
To the developers/maintainers of the TOAST package: Please make sure to use the following settings in order to reproduce any error or warning you see on this page. |
| Package 1873/1974 | Hostname | OS / Arch | INSTALL | BUILD | CHECK | BUILD BIN | ||||||||
| TOAST 1.4.0 (landing page) Ziyi Li
| malbec1 | Linux (Ubuntu 18.04.5 LTS) / x86_64 | OK | OK | OK | |||||||||
| tokay1 | Windows Server 2012 R2 Standard / x64 | OK | OK | OK | OK | |||||||||
| merida1 | macOS 10.14.6 Mojave / x86_64 | OK | OK | OK | OK | |||||||||
| Package: TOAST |
| Version: 1.4.0 |
| Command: C:\Users\biocbuild\bbs-3.12-bioc\R\bin\R.exe CMD check --force-multiarch --install=check:TOAST.install-out.txt --library=C:\Users\biocbuild\bbs-3.12-bioc\R\library --no-vignettes --timings TOAST_1.4.0.tar.gz |
| StartedAt: 2021-05-06 07:35:12 -0400 (Thu, 06 May 2021) |
| EndedAt: 2021-05-06 07:40:40 -0400 (Thu, 06 May 2021) |
| EllapsedTime: 327.9 seconds |
| RetCode: 0 |
| Status: OK |
| CheckDir: TOAST.Rcheck |
| Warnings: 0 |
##############################################################################
##############################################################################
###
### Running command:
###
### C:\Users\biocbuild\bbs-3.12-bioc\R\bin\R.exe CMD check --force-multiarch --install=check:TOAST.install-out.txt --library=C:\Users\biocbuild\bbs-3.12-bioc\R\library --no-vignettes --timings TOAST_1.4.0.tar.gz
###
##############################################################################
##############################################################################
* using log directory 'C:/Users/biocbuild/bbs-3.12-bioc/meat/TOAST.Rcheck'
* using R version 4.0.5 (2021-03-31)
* using platform: x86_64-w64-mingw32 (64-bit)
* using session charset: ISO8859-1
* using option '--no-vignettes'
* checking for file 'TOAST/DESCRIPTION' ... OK
* checking extension type ... Package
* this is package 'TOAST' version '1.4.0'
* package encoding: UTF-8
* checking package namespace information ... OK
* checking package dependencies ... OK
* checking if this is a source package ... OK
* checking if there is a namespace ... OK
* checking for hidden files and directories ... OK
* checking for portable file names ... OK
* checking whether package 'TOAST' can be installed ... OK
* checking installed package size ... OK
* checking package directory ... OK
* checking 'build' directory ... OK
* checking DESCRIPTION meta-information ... OK
* checking top-level files ... OK
* checking for left-over files ... OK
* checking index information ... OK
* checking package subdirectories ... OK
* checking R files for non-ASCII characters ... OK
* checking R files for syntax errors ... OK
* loading checks for arch 'i386'
** checking whether the package can be loaded ... OK
** checking whether the package can be loaded with stated dependencies ... OK
** checking whether the package can be unloaded cleanly ... OK
** checking whether the namespace can be loaded with stated dependencies ... OK
** checking whether the namespace can be unloaded cleanly ... OK
* loading checks for arch 'x64'
** checking whether the package can be loaded ... OK
** checking whether the package can be loaded with stated dependencies ... OK
** checking whether the package can be unloaded cleanly ... OK
** checking whether the namespace can be loaded with stated dependencies ... OK
** checking whether the namespace can be unloaded cleanly ... OK
* checking dependencies in R code ... OK
* checking S3 generic/method consistency ... OK
* checking replacement functions ... OK
* checking foreign function calls ... OK
* checking R code for possible problems ... OK
* checking Rd files ... OK
* checking Rd metadata ... OK
* checking Rd cross-references ... OK
* checking for missing documentation entries ... OK
* checking for code/documentation mismatches ... OK
* checking Rd \usage sections ... OK
* checking Rd contents ... OK
* checking for unstated dependencies in examples ... OK
* checking contents of 'data' directory ... OK
* checking data for non-ASCII characters ... OK
* checking data for ASCII and uncompressed saves ... OK
* checking files in 'vignettes' ... OK
* checking examples ...
** running examples for arch 'i386' ... OK
Examples with CPU (user + system) or elapsed time > 5s
user system elapsed
csDeconv 55.70 1.03 56.74
Tsisal 8.43 0.25 8.81
** running examples for arch 'x64' ... OK
Examples with CPU (user + system) or elapsed time > 5s
user system elapsed
csDeconv 51.20 1.53 52.88
Tsisal 6.11 0.19 6.29
* checking for unstated dependencies in vignettes ... OK
* checking package vignettes in 'inst/doc' ... OK
* checking running R code from vignettes ... SKIPPED
* checking re-building of vignette outputs ... SKIPPED
* checking PDF version of manual ... OK
* DONE
Status: OK
TOAST.Rcheck/00install.out
##############################################################################
##############################################################################
###
### Running command:
###
### C:\cygwin\bin\curl.exe -O http://172.29.0.3/BBS/3.12/bioc/src/contrib/TOAST_1.4.0.tar.gz && rm -rf TOAST.buildbin-libdir && mkdir TOAST.buildbin-libdir && C:\Users\biocbuild\bbs-3.12-bioc\R\bin\R.exe CMD INSTALL --merge-multiarch --build --library=TOAST.buildbin-libdir TOAST_1.4.0.tar.gz && C:\Users\biocbuild\bbs-3.12-bioc\R\bin\R.exe CMD INSTALL TOAST_1.4.0.zip && rm TOAST_1.4.0.tar.gz TOAST_1.4.0.zip
###
##############################################################################
##############################################################################
% Total % Received % Xferd Average Speed Time Time Time Current
Dload Upload Total Spent Left Speed
0 0 0 0 0 0 0 0 --:--:-- --:--:-- --:--:-- 0
1 2920k 1 46475 0 0 209k 0 0:00:13 --:--:-- 0:00:13 210k
54 2920k 54 1579k 0 0 1271k 0 0:00:02 0:00:01 0:00:01 1271k
100 2920k 100 2920k 0 0 2327k 0 0:00:01 0:00:01 --:--:-- 2327k
install for i386
* installing *source* package 'TOAST' ...
** using staged installation
** R
** data
** inst
** byte-compile and prepare package for lazy loading
** help
*** installing help indices
converting help for package 'TOAST'
finding HTML links ... done
CBS_PBMC_array html
ChooseMarker html
DEVarSelect html
GetPrior html
MDeconv html
RA_100samples html
Tsisal html
assignCellType html
beta_emp html
csDeconv html
csTest html
findRefinx html
fitModel html
makeDesign html
** building package indices
** installing vignettes
** testing if installed package can be loaded from temporary location
** testing if installed package can be loaded from final location
** testing if installed package keeps a record of temporary installation path
install for x64
* installing *source* package 'TOAST' ...
** testing if installed package can be loaded
* MD5 sums
packaged installation of 'TOAST' as TOAST_1.4.0.zip
* DONE (TOAST)
* installing to library 'C:/Users/biocbuild/bbs-3.12-bioc/R/library'
package 'TOAST' successfully unpacked and MD5 sums checked
|
TOAST.Rcheck/examples_i386/TOAST-Ex.timings
|
TOAST.Rcheck/examples_x64/TOAST-Ex.timings
|