| Back to Multiple platform build/check report for BioC 3.12 |
|
This page was generated on 2021-05-06 12:33:59 -0400 (Thu, 06 May 2021).
|
To the developers/maintainers of the TIN package: Please make sure to use the following settings in order to reproduce any error or warning you see on this page. |
| Package 1866/1974 | Hostname | OS / Arch | INSTALL | BUILD | CHECK | BUILD BIN | ||||||||
| TIN 1.22.0 (landing page) Bjarne Johannessen
| malbec1 | Linux (Ubuntu 18.04.5 LTS) / x86_64 | OK | OK | OK | |||||||||
| tokay1 | Windows Server 2012 R2 Standard / x64 | OK | OK | OK | OK | |||||||||
| merida1 | macOS 10.14.6 Mojave / x86_64 | OK | OK | OK | OK | |||||||||
| Package: TIN |
| Version: 1.22.0 |
| Command: C:\cygwin\bin\curl.exe -O http://172.29.0.3/BBS/3.12/bioc/src/contrib/TIN_1.22.0.tar.gz && rm -rf TIN.buildbin-libdir && mkdir TIN.buildbin-libdir && C:\Users\biocbuild\bbs-3.12-bioc\R\bin\R.exe CMD INSTALL --merge-multiarch --build --library=TIN.buildbin-libdir TIN_1.22.0.tar.gz && C:\Users\biocbuild\bbs-3.12-bioc\R\bin\R.exe CMD INSTALL TIN_1.22.0.zip && rm TIN_1.22.0.tar.gz TIN_1.22.0.zip |
| StartedAt: 2021-05-05 17:53:41 -0400 (Wed, 05 May 2021) |
| EndedAt: 2021-05-05 17:55:16 -0400 (Wed, 05 May 2021) |
| EllapsedTime: 94.4 seconds |
| RetCode: 0 |
| Status: OK |
##############################################################################
##############################################################################
###
### Running command:
###
### C:\cygwin\bin\curl.exe -O http://172.29.0.3/BBS/3.12/bioc/src/contrib/TIN_1.22.0.tar.gz && rm -rf TIN.buildbin-libdir && mkdir TIN.buildbin-libdir && C:\Users\biocbuild\bbs-3.12-bioc\R\bin\R.exe CMD INSTALL --merge-multiarch --build --library=TIN.buildbin-libdir TIN_1.22.0.tar.gz && C:\Users\biocbuild\bbs-3.12-bioc\R\bin\R.exe CMD INSTALL TIN_1.22.0.zip && rm TIN_1.22.0.tar.gz TIN_1.22.0.zip
###
##############################################################################
##############################################################################
% Total % Received % Xferd Average Speed Time Time Time Current
Dload Upload Total Spent Left Speed
0 0 0 0 0 0 0 0 --:--:-- --:--:-- --:--:-- 0
100 4577k 100 4577k 0 0 11.0M 0 --:--:-- --:--:-- --:--:-- 11.1M
install for i386
* installing *source* package 'TIN' ...
** using staged installation
** R
** data
** inst
** byte-compile and prepare package for lazy loading
The following object is masked _by_ package:aroma.affymetrix:
writeCdf
The following object is masked from package:R.utils:
findFiles
** help
*** installing help indices
converting help for package 'TIN'
finding HTML links ... done
aberrantExonUsage html
clusterPlot html
correlation html
correlationPlot html
firmaAnalysis html
geneAnnotation html
geneSetCorrelation html
geneSets html
posNegCorrPlot html
probesetPermutations html
readGeneSummaries html
sampleSetFirmaScores html
sampleSetGeneSummaries html
scatterPlot html
splicingFactors html
** building package indices
** installing vignettes
** testing if installed package can be loaded from temporary location
The following object is masked _by_ package:aroma.affymetrix:
writeCdf
The following object is masked from package:R.utils:
findFiles
** testing if installed package can be loaded from final location
The following object is masked _by_ package:aroma.affymetrix:
writeCdf
The following object is masked from package:R.utils:
findFiles
** testing if installed package keeps a record of temporary installation path
install for x64
* installing *source* package 'TIN' ...
** testing if installed package can be loaded
The following object is masked _by_ package:aroma.affymetrix:
writeCdf
The following object is masked from package:R.utils:
findFiles
* MD5 sums
packaged installation of 'TIN' as TIN_1.22.0.zip
* DONE (TIN)
* installing to library 'C:/Users/biocbuild/bbs-3.12-bioc/R/library'
package 'TIN' successfully unpacked and MD5 sums checked