| Back to Multiple platform build/check report for BioC 3.12 |
|
This page was generated on 2021-05-06 12:33:50 -0400 (Thu, 06 May 2021).
|
To the developers/maintainers of the Streamer package: Please make sure to use the following settings in order to reproduce any error or warning you see on this page. |
| Package 1804/1974 | Hostname | OS / Arch | INSTALL | BUILD | CHECK | BUILD BIN | ||||||||
| Streamer 1.36.0 (landing page) Martin Morgan
| malbec1 | Linux (Ubuntu 18.04.5 LTS) / x86_64 | OK | OK | OK | |||||||||
| tokay1 | Windows Server 2012 R2 Standard / x64 | OK | OK | OK | OK | |||||||||
| merida1 | macOS 10.14.6 Mojave / x86_64 | OK | OK | OK | OK | |||||||||
| Package: Streamer |
| Version: 1.36.0 |
| Command: C:\cygwin\bin\curl.exe -O http://172.29.0.3/BBS/3.12/bioc/src/contrib/Streamer_1.36.0.tar.gz && rm -rf Streamer.buildbin-libdir && mkdir Streamer.buildbin-libdir && C:\Users\biocbuild\bbs-3.12-bioc\R\bin\R.exe CMD INSTALL --merge-multiarch --build --library=Streamer.buildbin-libdir Streamer_1.36.0.tar.gz && C:\Users\biocbuild\bbs-3.12-bioc\R\bin\R.exe CMD INSTALL Streamer_1.36.0.zip && rm Streamer_1.36.0.tar.gz Streamer_1.36.0.zip |
| StartedAt: 2021-05-05 17:05:27 -0400 (Wed, 05 May 2021) |
| EndedAt: 2021-05-05 17:05:51 -0400 (Wed, 05 May 2021) |
| EllapsedTime: 24.3 seconds |
| RetCode: 0 |
| Status: OK |
##############################################################################
##############################################################################
###
### Running command:
###
### C:\cygwin\bin\curl.exe -O http://172.29.0.3/BBS/3.12/bioc/src/contrib/Streamer_1.36.0.tar.gz && rm -rf Streamer.buildbin-libdir && mkdir Streamer.buildbin-libdir && C:\Users\biocbuild\bbs-3.12-bioc\R\bin\R.exe CMD INSTALL --merge-multiarch --build --library=Streamer.buildbin-libdir Streamer_1.36.0.tar.gz && C:\Users\biocbuild\bbs-3.12-bioc\R\bin\R.exe CMD INSTALL Streamer_1.36.0.zip && rm Streamer_1.36.0.tar.gz Streamer_1.36.0.zip
###
##############################################################################
##############################################################################
% Total % Received % Xferd Average Speed Time Time Time Current
Dload Upload Total Spent Left Speed
0 0 0 0 0 0 0 0 --:--:-- --:--:-- --:--:-- 0
100 43912 100 43912 0 0 2746k 0 --:--:-- --:--:-- --:--:-- 2858k
install for i386
* installing *source* package 'Streamer' ...
** using staged installation
** libs
"C:/rtools40/mingw32/bin/"gcc -I"C:/Users/BIOCBU~1/BBS-3~1.12-/R/include" -DNDEBUG -I"C:/extsoft/include" -O2 -Wall -std=gnu99 -mfpmath=sse -msse2 -mstackrealign -c R_init_Streamer.c -o R_init_Streamer.o
"C:/rtools40/mingw32/bin/"gcc -I"C:/Users/BIOCBU~1/BBS-3~1.12-/R/include" -DNDEBUG -I"C:/extsoft/include" -O2 -Wall -std=gnu99 -mfpmath=sse -msse2 -mstackrealign -c raw_input.c -o raw_input.o
C:/rtools40/mingw32/bin/gcc -shared -s -static-libgcc -o Streamer.dll tmp.def R_init_Streamer.o raw_input.o -LC:/extsoft/lib/i386 -LC:/extsoft/lib -LC:/Users/BIOCBU~1/BBS-3~1.12-/R/bin/i386 -lR
installing to C:/Users/biocbuild/bbs-3.12-bioc/meat/Streamer.buildbin-libdir/00LOCK-Streamer/00new/Streamer/libs/i386
** R
** inst
** byte-compile and prepare package for lazy loading
** help
*** installing help indices
converting help for package 'Streamer'
finding HTML links ... done
ConnectionProducer-classes html
Consumer-class html
DAGTeam-class html
finding level-2 HTML links ... done
Downsample-class html
FunctionProducerConsumer-classes html
ParallelParam-classes html
Producer-class html
RawInput-class html
Reducer-class html
Seq-class html
Stream-class html
Streamer-package html
Team-class html
Utility-classes html
reset html
status html
yield html
** building package indices
** installing vignettes
** testing if installed package can be loaded from temporary location
** testing if installed package can be loaded from final location
** testing if installed package keeps a record of temporary installation path
install for x64
* installing *source* package 'Streamer' ...
** libs
"C:/rtools40/mingw64/bin/"gcc -I"C:/Users/BIOCBU~1/BBS-3~1.12-/R/include" -DNDEBUG -I"C:/extsoft/include" -O2 -Wall -std=gnu99 -mfpmath=sse -msse2 -mstackrealign -c R_init_Streamer.c -o R_init_Streamer.o
"C:/rtools40/mingw64/bin/"gcc -I"C:/Users/BIOCBU~1/BBS-3~1.12-/R/include" -DNDEBUG -I"C:/extsoft/include" -O2 -Wall -std=gnu99 -mfpmath=sse -msse2 -mstackrealign -c raw_input.c -o raw_input.o
C:/rtools40/mingw64/bin/gcc -shared -s -static-libgcc -o Streamer.dll tmp.def R_init_Streamer.o raw_input.o -LC:/extsoft/lib/x64 -LC:/extsoft/lib -LC:/Users/BIOCBU~1/BBS-3~1.12-/R/bin/x64 -lR
installing to C:/Users/biocbuild/bbs-3.12-bioc/meat/Streamer.buildbin-libdir/Streamer/libs/x64
** testing if installed package can be loaded
* MD5 sums
packaged installation of 'Streamer' as Streamer_1.36.0.zip
* DONE (Streamer)
* installing to library 'C:/Users/biocbuild/bbs-3.12-bioc/R/library'
package 'Streamer' successfully unpacked and MD5 sums checked