| Back to Multiple platform build/check report for BioC 3.12 | 
  | 
This page was generated on 2021-05-06 12:33:46 -0400 (Thu, 06 May 2021).
| 
To the developers/maintainers of the SPsimSeq package: Please make sure to use the following settings in order to reproduce any error or warning you see on this page.  | 
| Package 1780/1974 | Hostname | OS / Arch | INSTALL | BUILD | CHECK | BUILD BIN | ||||||||
| SPsimSeq 1.0.0  (landing page) Joris Meys 
  | malbec1 | Linux (Ubuntu 18.04.5 LTS) / x86_64 | OK | OK | OK | |||||||||
| tokay1 | Windows Server 2012 R2 Standard / x64 | OK | OK | OK | OK | |||||||||
| merida1 | macOS 10.14.6 Mojave / x86_64 | OK | OK | OK | OK | |||||||||
| Package: SPsimSeq | 
| Version: 1.0.0 | 
| Command: C:\cygwin\bin\curl.exe -O http://172.29.0.3/BBS/3.12/bioc/src/contrib/SPsimSeq_1.0.0.tar.gz && rm -rf SPsimSeq.buildbin-libdir && mkdir SPsimSeq.buildbin-libdir && C:\Users\biocbuild\bbs-3.12-bioc\R\bin\R.exe CMD INSTALL --merge-multiarch --build --library=SPsimSeq.buildbin-libdir SPsimSeq_1.0.0.tar.gz && C:\Users\biocbuild\bbs-3.12-bioc\R\bin\R.exe CMD INSTALL SPsimSeq_1.0.0.zip && rm SPsimSeq_1.0.0.tar.gz SPsimSeq_1.0.0.zip | 
| StartedAt: 2021-05-05 18:09:03 -0400 (Wed, 05 May 2021) | 
| EndedAt: 2021-05-05 18:10:24 -0400 (Wed, 05 May 2021) | 
| EllapsedTime: 80.6 seconds | 
| RetCode: 0 | 
| Status: OK | 
##############################################################################
##############################################################################
###
### Running command:
###
###   C:\cygwin\bin\curl.exe -O http://172.29.0.3/BBS/3.12/bioc/src/contrib/SPsimSeq_1.0.0.tar.gz && rm -rf SPsimSeq.buildbin-libdir && mkdir SPsimSeq.buildbin-libdir && C:\Users\biocbuild\bbs-3.12-bioc\R\bin\R.exe CMD INSTALL --merge-multiarch --build --library=SPsimSeq.buildbin-libdir SPsimSeq_1.0.0.tar.gz && C:\Users\biocbuild\bbs-3.12-bioc\R\bin\R.exe CMD INSTALL SPsimSeq_1.0.0.zip && rm SPsimSeq_1.0.0.tar.gz SPsimSeq_1.0.0.zip
###
##############################################################################
##############################################################################
  % Total    % Received % Xferd  Average Speed   Time    Time     Time  Current
                                 Dload  Upload   Total   Spent    Left  Speed
  0     0    0     0    0     0      0      0 --:--:-- --:--:-- --:--:--     0
100  266k  100  266k    0     0  15.2M      0 --:--:-- --:--:-- --:--:-- 16.2M
install for i386
* installing *source* package 'SPsimSeq' ...
** using staged installation
** R
** data
*** moving datasets to lazyload DB
** inst
** byte-compile and prepare package for lazy loading
** help
*** installing help indices
  converting help for package 'SPsimSeq'
    finding HTML links ... done
    SPsimPerGene                            html  
    SPsimSeq-package                        html  
    SPsimSeq                                html  
    buildXmat                               html  
    calculateCPM                            html  
    checkInputValidity                      html  
    chooseCandGenes                         html  
    configExperiment                        html  
    constructDens                           html  
    estLibSizeDistr                         html  
    evaluateDensities                       html  
    expit                                   html  
    extractMat                              html  
    fitLLmodel                              html  
    fitPoisGlm                              html  
    fracZeroLogitModel                      html  
    genCopula                               html  
    genLibSizes                             html  
    geneParmEst                             html  
    matchCopula                             html  
    obtCorMatsBatch                         html  
    obtCount                                html  
    parmEstDensVec                          html  
    prepareSPsimOutputs                     html  
    samZeroID                               html  
    scNGP.data                              html  
    selectGenes                             html  
    zeroProbModel                           html  
    zhang.data.sub                          html  
** building package indices
** installing vignettes
** testing if installed package can be loaded from temporary location
** testing if installed package can be loaded from final location
** testing if installed package keeps a record of temporary installation path
install for x64
* installing *source* package 'SPsimSeq' ...
** testing if installed package can be loaded
* MD5 sums
packaged installation of 'SPsimSeq' as SPsimSeq_1.0.0.zip
* DONE (SPsimSeq)
* installing to library 'C:/Users/biocbuild/bbs-3.12-bioc/R/library'
package 'SPsimSeq' successfully unpacked and MD5 sums checked