| Back to Multiple platform build/check report for BioC 3.12 |
|
This page was generated on 2021-05-06 12:29:04 -0400 (Thu, 06 May 2021).
|
To the developers/maintainers of the SELEX package: Please make sure to use the following settings in order to reproduce any error or warning you see on this page. |
| Package 1670/1974 | Hostname | OS / Arch | INSTALL | BUILD | CHECK | BUILD BIN | ||||||||
| SELEX 1.22.0 (landing page) Harmen J. Bussemaker
| malbec1 | Linux (Ubuntu 18.04.5 LTS) / x86_64 | OK | OK | OK | |||||||||
| tokay1 | Windows Server 2012 R2 Standard / x64 | OK | OK | OK | OK | |||||||||
| merida1 | macOS 10.14.6 Mojave / x86_64 | OK | OK | OK | OK | |||||||||
| Package: SELEX |
| Version: 1.22.0 |
| Command: /home/biocbuild/bbs-3.12-bioc/R/bin/R CMD check --install=check:SELEX.install-out.txt --library=/home/biocbuild/bbs-3.12-bioc/R/library --no-vignettes --timings SELEX_1.22.0.tar.gz |
| StartedAt: 2021-05-06 05:53:55 -0400 (Thu, 06 May 2021) |
| EndedAt: 2021-05-06 05:55:46 -0400 (Thu, 06 May 2021) |
| EllapsedTime: 111.1 seconds |
| RetCode: 0 |
| Status: OK |
| CheckDir: SELEX.Rcheck |
| Warnings: 0 |
##############################################################################
##############################################################################
###
### Running command:
###
### /home/biocbuild/bbs-3.12-bioc/R/bin/R CMD check --install=check:SELEX.install-out.txt --library=/home/biocbuild/bbs-3.12-bioc/R/library --no-vignettes --timings SELEX_1.22.0.tar.gz
###
##############################################################################
##############################################################################
* using log directory ‘/home/biocbuild/bbs-3.12-bioc/meat/SELEX.Rcheck’
* using R version 4.0.5 (2021-03-31)
* using platform: x86_64-pc-linux-gnu (64-bit)
* using session charset: UTF-8
* using option ‘--no-vignettes’
* checking for file ‘SELEX/DESCRIPTION’ ... OK
* this is package ‘SELEX’ version ‘1.22.0’
* checking package namespace information ... OK
* checking package dependencies ... OK
* checking if this is a source package ... OK
* checking if there is a namespace ... OK
* checking for hidden files and directories ... NOTE
Found the following hidden files and directories:
.BBSoptions
These were most likely included in error. See section ‘Package
structure’ in the ‘Writing R Extensions’ manual.
* checking for portable file names ... OK
* checking for sufficient/correct file permissions ... OK
* checking whether package ‘SELEX’ can be installed ... OK
* checking installed package size ... OK
* checking package directory ... OK
* checking ‘build’ directory ... OK
* checking DESCRIPTION meta-information ... OK
* checking top-level files ... OK
* checking for left-over files ... OK
* checking index information ... OK
* checking package subdirectories ... OK
* checking R files for non-ASCII characters ... OK
* checking R files for syntax errors ... OK
* checking whether the package can be loaded ... OK
* checking whether the package can be loaded with stated dependencies ... OK
* checking whether the package can be unloaded cleanly ... OK
* checking whether the namespace can be loaded with stated dependencies ... OK
* checking whether the namespace can be unloaded cleanly ... OK
* checking dependencies in R code ... OK
* checking S3 generic/method consistency ... OK
* checking replacement functions ... OK
* checking foreign function calls ... OK
* checking R code for possible problems ... OK
* checking Rd files ... OK
* checking Rd metadata ... OK
* checking Rd cross-references ... OK
* checking for missing documentation entries ... OK
* checking for code/documentation mismatches ... OK
* checking Rd \usage sections ... OK
* checking Rd contents ... OK
* checking for unstated dependencies in examples ... OK
* checking line endings in Makefiles ... OK
* checking for GNU extensions in Makefiles ... OK
* checking include directives in Makefiles ... OK
* checking files in ‘vignettes’ ... OK
* checking examples ... OK
Examples with CPU (user + system) or elapsed time > 5s
user system elapsed
SELEX 24.072 1.236 8.836
selex.seqfilter 12.676 0.196 3.711
* checking for unstated dependencies in vignettes ... OK
* checking package vignettes in ‘inst/doc’ ... OK
* checking running R code from vignettes ... SKIPPED
* checking re-building of vignette outputs ... SKIPPED
* checking PDF version of manual ... OK
* DONE
Status: 1 NOTE
See
‘/home/biocbuild/bbs-3.12-bioc/meat/SELEX.Rcheck/00check.log’
for details.
SELEX.Rcheck/00install.out
############################################################################## ############################################################################## ### ### Running command: ### ### /home/biocbuild/bbs-3.12-bioc/R/bin/R CMD INSTALL SELEX ### ############################################################################## ############################################################################## * installing to library ‘/home/biocbuild/bbs-3.12-bioc/R/library’ * installing *source* package ‘SELEX’ ... ** using staged installation ** R ** inst ** byte-compile and prepare package for lazy loading ** help *** installing help indices ** building package indices ** installing vignettes ** testing if installed package can be loaded from temporary location ** testing if installed package can be loaded from final location ** testing if installed package keeps a record of temporary installation path * DONE (SELEX)
SELEX.Rcheck/SELEX-Ex.timings
| name | user | system | elapsed | |
| SELEX | 24.072 | 1.236 | 8.836 | |
| selex.affinities | 1.368 | 0.004 | 0.381 | |
| selex.config | 0.160 | 0.000 | 0.045 | |
| selex.countSummary | 1.036 | 0.024 | 0.346 | |
| selex.counts | 1.296 | 0.044 | 0.700 | |
| selex.defineSample | 0.060 | 0.012 | 0.052 | |
| selex.exampledata | 0.072 | 0.004 | 0.037 | |
| selex.fastqPSFM | 0.580 | 0.016 | 0.372 | |
| selex.getAttributes | 0.300 | 0.000 | 0.121 | |
| selex.getRound0 | 0.212 | 0.000 | 0.091 | |
| selex.getSeqfilter | 0.132 | 0.000 | 0.033 | |
| selex.infogain | 1.952 | 0.028 | 0.529 | |
| selex.infogainSummary | 0.796 | 0.012 | 0.310 | |
| selex.jvmStatus | 0.064 | 0.004 | 0.034 | |
| selex.kmax | 0.888 | 0.172 | 0.736 | |
| selex.kmerPSFM | 0.432 | 0.016 | 0.234 | |
| selex.loadAnnotation | 0.184 | 0.000 | 0.136 | |
| selex.mm | 0.920 | 0.016 | 0.311 | |
| selex.mmProb | 0.596 | 0.004 | 0.252 | |
| selex.mmSummary | 0.348 | 0.016 | 0.252 | |
| selex.revcomp | 0.824 | 0.012 | 0.457 | |
| selex.run | 1.732 | 0.028 | 0.707 | |
| selex.sample | 0.280 | 0.000 | 0.108 | |
| selex.samplePSFM | 0.636 | 0.004 | 0.259 | |
| selex.sampleSummary | 0.196 | 0.000 | 0.093 | |
| selex.saveAnnotation | 0.208 | 0.008 | 0.085 | |
| selex.seqfilter | 12.676 | 0.196 | 3.711 | |
| selex.setwd | 0.072 | 0.000 | 0.020 | |
| selex.split | 0.400 | 0.004 | 0.164 | |
| selex.summary | 0.828 | 0.020 | 0.462 | |