| Back to Multiple platform build/check report for BioC 3.12 |
|
This page was generated on 2021-05-06 12:33:09 -0400 (Thu, 06 May 2021).
|
To the developers/maintainers of the ReadqPCR package: Please make sure to use the following settings in order to reproduce any error or warning you see on this page. |
| Package 1483/1974 | Hostname | OS / Arch | INSTALL | BUILD | CHECK | BUILD BIN | ||||||||
| ReadqPCR 1.36.0 (landing page) James Perkins
| malbec1 | Linux (Ubuntu 18.04.5 LTS) / x86_64 | OK | OK | OK | |||||||||
| tokay1 | Windows Server 2012 R2 Standard / x64 | OK | OK | WARNINGS | OK | |||||||||
| merida1 | macOS 10.14.6 Mojave / x86_64 | OK | OK | ERROR | OK | |||||||||
| Package: ReadqPCR |
| Version: 1.36.0 |
| Command: C:\cygwin\bin\curl.exe -O http://172.29.0.3/BBS/3.12/bioc/src/contrib/ReadqPCR_1.36.0.tar.gz && rm -rf ReadqPCR.buildbin-libdir && mkdir ReadqPCR.buildbin-libdir && C:\Users\biocbuild\bbs-3.12-bioc\R\bin\R.exe CMD INSTALL --merge-multiarch --build --library=ReadqPCR.buildbin-libdir ReadqPCR_1.36.0.tar.gz && C:\Users\biocbuild\bbs-3.12-bioc\R\bin\R.exe CMD INSTALL ReadqPCR_1.36.0.zip && rm ReadqPCR_1.36.0.tar.gz ReadqPCR_1.36.0.zip |
| StartedAt: 2021-05-05 16:59:38 -0400 (Wed, 05 May 2021) |
| EndedAt: 2021-05-05 17:00:32 -0400 (Wed, 05 May 2021) |
| EllapsedTime: 54.0 seconds |
| RetCode: 0 |
| Status: OK |
##############################################################################
##############################################################################
###
### Running command:
###
### C:\cygwin\bin\curl.exe -O http://172.29.0.3/BBS/3.12/bioc/src/contrib/ReadqPCR_1.36.0.tar.gz && rm -rf ReadqPCR.buildbin-libdir && mkdir ReadqPCR.buildbin-libdir && C:\Users\biocbuild\bbs-3.12-bioc\R\bin\R.exe CMD INSTALL --merge-multiarch --build --library=ReadqPCR.buildbin-libdir ReadqPCR_1.36.0.tar.gz && C:\Users\biocbuild\bbs-3.12-bioc\R\bin\R.exe CMD INSTALL ReadqPCR_1.36.0.zip && rm ReadqPCR_1.36.0.tar.gz ReadqPCR_1.36.0.zip
###
##############################################################################
##############################################################################
% Total % Received % Xferd Average Speed Time Time Time Current
Dload Upload Total Spent Left Speed
0 0 0 0 0 0 0 0 --:--:-- --:--:-- --:--:-- 0
100 431k 100 431k 0 0 22.5M 0 --:--:-- --:--:-- --:--:-- 23.4M
install for i386
* installing *source* package 'ReadqPCR' ...
** using staged installation
** R
** inst
** byte-compile and prepare package for lazy loading
** help
*** installing help indices
converting help for package 'ReadqPCR'
finding HTML links ... done
CyclesSet-class html
ReadqPCR-package html
merge html
qPCRBatch-class html
qpcR2CyclesSet html
Rd warning: C:/Users/biocbuild/bbs-3.12-bioc/tmpdir/RtmpQ7YePK/R.INSTALL9ac7bcd5519/ReadqPCR/man/qpcR2CyclesSet.Rd:30: file link 'reps' in package 'qpcR' does not exist and so has been treated as a topic
read.qPCR html
read.taqman html
readLC480 html
Rd warning: C:/Users/biocbuild/bbs-3.12-bioc/tmpdir/RtmpQ7YePK/R.INSTALL9ac7bcd5519/ReadqPCR/man/readLC480.Rd:61: file link 'eSet' in package 'Biobase' does not exist and so has been treated as a topic
readLC480SampleInfo html
Rd warning: C:/Users/biocbuild/bbs-3.12-bioc/tmpdir/RtmpQ7YePK/R.INSTALL9ac7bcd5519/ReadqPCR/man/readLC480SampleInfo.Rd:54: file link 'AnnotatedDataFrame-class' in package 'Biobase' does not exist and so has been treated as a topic
** building package indices
** installing vignettes
'ReadqPCR.Rnw'
** testing if installed package can be loaded from temporary location
** testing if installed package can be loaded from final location
** testing if installed package keeps a record of temporary installation path
install for x64
* installing *source* package 'ReadqPCR' ...
** testing if installed package can be loaded
* MD5 sums
packaged installation of 'ReadqPCR' as ReadqPCR_1.36.0.zip
* DONE (ReadqPCR)
* installing to library 'C:/Users/biocbuild/bbs-3.12-bioc/R/library'
package 'ReadqPCR' successfully unpacked and MD5 sums checked