| Back to Multiple platform build/check report for BioC 3.12 |
|
This page was generated on 2021-05-06 12:33:22 -0400 (Thu, 06 May 2021).
|
To the developers/maintainers of the RSeqAn package: Please make sure to use the following settings in order to reproduce any error or warning you see on this page. |
| Package 1585/1974 | Hostname | OS / Arch | INSTALL | BUILD | CHECK | BUILD BIN | ||||||||
| RSeqAn 1.10.0 (landing page) August Guang
| malbec1 | Linux (Ubuntu 18.04.5 LTS) / x86_64 | OK | OK | OK | |||||||||
| tokay1 | Windows Server 2012 R2 Standard / x64 | OK | OK | OK | OK | |||||||||
| merida1 | macOS 10.14.6 Mojave / x86_64 | OK | OK | OK | OK | |||||||||
| Package: RSeqAn |
| Version: 1.10.0 |
| Command: C:\cygwin\bin\curl.exe -O http://172.29.0.3/BBS/3.12/bioc/src/contrib/RSeqAn_1.10.0.tar.gz && rm -rf RSeqAn.buildbin-libdir && mkdir RSeqAn.buildbin-libdir && C:\Users\biocbuild\bbs-3.12-bioc\R\bin\R.exe CMD INSTALL --merge-multiarch --build --library=RSeqAn.buildbin-libdir RSeqAn_1.10.0.tar.gz && C:\Users\biocbuild\bbs-3.12-bioc\R\bin\R.exe CMD INSTALL RSeqAn_1.10.0.zip && rm RSeqAn_1.10.0.tar.gz RSeqAn_1.10.0.zip |
| StartedAt: 2021-05-05 16:43:32 -0400 (Wed, 05 May 2021) |
| EndedAt: 2021-05-05 16:49:01 -0400 (Wed, 05 May 2021) |
| EllapsedTime: 329.2 seconds |
| RetCode: 0 |
| Status: OK |
##############################################################################
##############################################################################
###
### Running command:
###
### C:\cygwin\bin\curl.exe -O http://172.29.0.3/BBS/3.12/bioc/src/contrib/RSeqAn_1.10.0.tar.gz && rm -rf RSeqAn.buildbin-libdir && mkdir RSeqAn.buildbin-libdir && C:\Users\biocbuild\bbs-3.12-bioc\R\bin\R.exe CMD INSTALL --merge-multiarch --build --library=RSeqAn.buildbin-libdir RSeqAn_1.10.0.tar.gz && C:\Users\biocbuild\bbs-3.12-bioc\R\bin\R.exe CMD INSTALL RSeqAn_1.10.0.zip && rm RSeqAn_1.10.0.tar.gz RSeqAn_1.10.0.zip
###
##############################################################################
##############################################################################
% Total % Received % Xferd Average Speed Time Time Time Current
Dload Upload Total Spent Left Speed
0 0 0 0 0 0 0 0 --:--:-- --:--:-- --:--:-- 0
0 0 0 0 0 0 0 0 --:--:-- --:--:-- --:--:-- 0
100 2131k 100 2131k 0 0 8073k 0 --:--:-- --:--:-- --:--:-- 8072k
install for i386
* installing *source* package 'RSeqAn' ...
** using staged installation
** inst
** help
No man pages found in package 'RSeqAn'
*** installing help indices
** building package indices
** installing vignettes
** testing if installed package can be loaded from temporary location
** testing if installed package can be loaded from final location
** testing if installed package keeps a record of temporary installation path
install for x64
* installing *source* package 'RSeqAn' ...
** testing if installed package can be loaded
* MD5 sums
packaged installation of 'RSeqAn' as RSeqAn_1.10.0.zip
* DONE (RSeqAn)
* installing to library 'C:/Users/biocbuild/bbs-3.12-bioc/R/library'
package 'RSeqAn' successfully unpacked and MD5 sums checked