| Back to Multiple platform build/check report for BioC 3.12 |
|
This page was generated on 2021-05-06 12:32:51 -0400 (Thu, 06 May 2021).
|
To the developers/maintainers of the PSEA package: Please make sure to use the following settings in order to reproduce any error or warning you see on this page. |
| Package 1407/1974 | Hostname | OS / Arch | INSTALL | BUILD | CHECK | BUILD BIN | ||||||||
| PSEA 1.24.0 (landing page) Alexandre Kuhn
| malbec1 | Linux (Ubuntu 18.04.5 LTS) / x86_64 | OK | OK | OK | |||||||||
| tokay1 | Windows Server 2012 R2 Standard / x64 | OK | OK | OK | OK | |||||||||
| merida1 | macOS 10.14.6 Mojave / x86_64 | OK | OK | OK | OK | |||||||||
| Package: PSEA |
| Version: 1.24.0 |
| Command: C:\cygwin\bin\curl.exe -O http://172.29.0.3/BBS/3.12/bioc/src/contrib/PSEA_1.24.0.tar.gz && rm -rf PSEA.buildbin-libdir && mkdir PSEA.buildbin-libdir && C:\Users\biocbuild\bbs-3.12-bioc\R\bin\R.exe CMD INSTALL --merge-multiarch --build --library=PSEA.buildbin-libdir PSEA_1.24.0.tar.gz && C:\Users\biocbuild\bbs-3.12-bioc\R\bin\R.exe CMD INSTALL PSEA_1.24.0.zip && rm PSEA_1.24.0.tar.gz PSEA_1.24.0.zip |
| StartedAt: 2021-05-05 16:58:58 -0400 (Wed, 05 May 2021) |
| EndedAt: 2021-05-05 16:59:25 -0400 (Wed, 05 May 2021) |
| EllapsedTime: 26.7 seconds |
| RetCode: 0 |
| Status: OK |
##############################################################################
##############################################################################
###
### Running command:
###
### C:\cygwin\bin\curl.exe -O http://172.29.0.3/BBS/3.12/bioc/src/contrib/PSEA_1.24.0.tar.gz && rm -rf PSEA.buildbin-libdir && mkdir PSEA.buildbin-libdir && C:\Users\biocbuild\bbs-3.12-bioc\R\bin\R.exe CMD INSTALL --merge-multiarch --build --library=PSEA.buildbin-libdir PSEA_1.24.0.tar.gz && C:\Users\biocbuild\bbs-3.12-bioc\R\bin\R.exe CMD INSTALL PSEA_1.24.0.zip && rm PSEA_1.24.0.tar.gz PSEA_1.24.0.zip
###
##############################################################################
##############################################################################
% Total % Received % Xferd Average Speed Time Time Time Current
Dload Upload Total Spent Left Speed
0 0 0 0 0 0 0 0 --:--:-- --:--:-- --:--:-- 0
100 5847k 100 5847k 0 0 74.5M 0 --:--:-- --:--:-- --:--:-- 76.1M
install for i386
* installing *source* package 'PSEA' ...
** using staged installation
** R
** data
** inst
** byte-compile and prepare package for lazy loading
** help
*** installing help indices
converting help for package 'PSEA'
finding HTML links ... done
coefmat html
crplot html
em_quantvg html
expression html
expression_GSE19380 html
fmm html
groups html
information html
lmfitst html
marker html
pvalmat html
slt html
swlm html
** building package indices
** installing vignettes
** testing if installed package can be loaded from temporary location
** testing if installed package can be loaded from final location
** testing if installed package keeps a record of temporary installation path
install for x64
* installing *source* package 'PSEA' ...
** testing if installed package can be loaded
* MD5 sums
packaged installation of 'PSEA' as PSEA_1.24.0.zip
* DONE (PSEA)
* installing to library 'C:/Users/biocbuild/bbs-3.12-bioc/R/library'
package 'PSEA' successfully unpacked and MD5 sums checked