| Back to Multiple platform build/check report for BioC 3.12 |
|
This page was generated on 2021-05-06 12:32:40 -0400 (Thu, 06 May 2021).
|
To the developers/maintainers of the OutlierD package: Please make sure to use the following settings in order to reproduce any error or warning you see on this page. |
| Package 1284/1974 | Hostname | OS / Arch | INSTALL | BUILD | CHECK | BUILD BIN | ||||||||
| OutlierD 1.54.0 (landing page) Sukwoo Kim
| malbec1 | Linux (Ubuntu 18.04.5 LTS) / x86_64 | OK | ERROR | skipped | |||||||||
| tokay1 | Windows Server 2012 R2 Standard / x64 | OK | ERROR | skipped | skipped | |||||||||
| merida1 | macOS 10.14.6 Mojave / x86_64 | OK | ERROR | skipped | skipped | |||||||||
| Package: OutlierD |
| Version: 1.54.0 |
| Command: C:\cygwin\bin\curl.exe -O http://172.29.0.3/BBS/3.12/bioc/src/contrib/OutlierD_1.54.0.tar.gz && rm -rf OutlierD.buildbin-libdir && mkdir OutlierD.buildbin-libdir && C:\Users\biocbuild\bbs-3.12-bioc\R\bin\R.exe CMD INSTALL --merge-multiarch --build --library=OutlierD.buildbin-libdir OutlierD_1.54.0.tar.gz && C:\Users\biocbuild\bbs-3.12-bioc\R\bin\R.exe CMD INSTALL OutlierD_1.54.0.zip && rm OutlierD_1.54.0.tar.gz OutlierD_1.54.0.zip |
| StartedAt: 2021-05-05 17:02:59 -0400 (Wed, 05 May 2021) |
| EndedAt: 2021-05-05 17:03:38 -0400 (Wed, 05 May 2021) |
| EllapsedTime: 38.7 seconds |
| RetCode: 0 |
| Status: OK |
##############################################################################
##############################################################################
###
### Running command:
###
### C:\cygwin\bin\curl.exe -O http://172.29.0.3/BBS/3.12/bioc/src/contrib/OutlierD_1.54.0.tar.gz && rm -rf OutlierD.buildbin-libdir && mkdir OutlierD.buildbin-libdir && C:\Users\biocbuild\bbs-3.12-bioc\R\bin\R.exe CMD INSTALL --merge-multiarch --build --library=OutlierD.buildbin-libdir OutlierD_1.54.0.tar.gz && C:\Users\biocbuild\bbs-3.12-bioc\R\bin\R.exe CMD INSTALL OutlierD_1.54.0.zip && rm OutlierD_1.54.0.tar.gz OutlierD_1.54.0.zip
###
##############################################################################
##############################################################################
% Total % Received % Xferd Average Speed Time Time Time Current
Dload Upload Total Spent Left Speed
0 0 0 0 0 0 0 0 --:--:-- --:--:-- --:--:-- 0
100 16767 100 16767 0 0 934k 0 --:--:-- --:--:-- --:--:-- 1023k
install for i386
* installing *source* package 'OutlierD' ...
** using staged installation
** R
** data
** byte-compile and prepare package for lazy loading
Warning message:
In .recacheSubclasses(def@className, def, env) :
undefined subclass "numericVector" of class "Mnumeric"; definition not updated
** help
*** installing help indices
converting help for package 'OutlierD'
finding HTML links ... done
OutlierD html
lcms html
** building package indices
** installing vignettes
** testing if installed package can be loaded from temporary location
Warning in .recacheSubclasses(def@className, def, env) :
undefined subclass "numericVector" of class "Mnumeric"; definition not updated
** testing if installed package can be loaded from final location
Warning in .recacheSubclasses(def@className, def, env) :
undefined subclass "numericVector" of class "Mnumeric"; definition not updated
** testing if installed package keeps a record of temporary installation path
install for x64
* installing *source* package 'OutlierD' ...
** testing if installed package can be loaded
Warning in .recacheSubclasses(def@className, def, env) :
undefined subclass "numericVector" of class "Mnumeric"; definition not updated
* MD5 sums
packaged installation of 'OutlierD' as OutlierD_1.54.0.zip
* DONE (OutlierD)
* installing to library 'C:/Users/biocbuild/bbs-3.12-bioc/R/library'
package 'OutlierD' successfully unpacked and MD5 sums checked