| Back to Multiple platform build/check report for BioC 3.12 | 
  | 
This page was generated on 2021-05-06 12:36:01 -0400 (Thu, 06 May 2021).
| 
To the developers/maintainers of the OncoScore package: Please make sure to use the following settings in order to reproduce any error or warning you see on this page.  | 
| Package 1263/1974 | Hostname | OS / Arch | INSTALL | BUILD | CHECK | BUILD BIN | ||||||||
| OncoScore 1.18.0  (landing page) Luca De Sano 
  | malbec1 | Linux (Ubuntu 18.04.5 LTS) / x86_64 | OK | OK | OK | |||||||||
| tokay1 | Windows Server 2012 R2 Standard / x64 | OK | OK | OK | OK | |||||||||
| merida1 | macOS 10.14.6 Mojave / x86_64 | OK | OK | OK | OK | |||||||||
| Package: OncoScore | 
| Version: 1.18.0 | 
| Command: /Library/Frameworks/R.framework/Versions/Current/Resources/bin/R CMD build --keep-empty-dirs --no-resave-data OncoScore | 
| StartedAt: 2021-05-05 21:01:15 -0400 (Wed, 05 May 2021) | 
| EndedAt: 2021-05-05 21:01:57 -0400 (Wed, 05 May 2021) | 
| EllapsedTime: 42.0 seconds | 
| RetCode: 0 | 
| Status: OK | 
| PackageFile: OncoScore_1.18.0.tar.gz | 
| PackageFileSize: 201.2 KiB | 
############################################################################## ############################################################################## ### ### Running command: ### ### /Library/Frameworks/R.framework/Versions/Current/Resources/bin/R CMD build --keep-empty-dirs --no-resave-data OncoScore ### ############################################################################## ############################################################################## * checking for file ‘OncoScore/DESCRIPTION’ ... OK * preparing ‘OncoScore’: * checking DESCRIPTION meta-information ... OK * installing the package to build vignettes * creating vignettes ... OK * checking for LF line-endings in source and make files and shell scripts * checking for empty or unneeded directories * building ‘OncoScore_1.18.0.tar.gz’