| Back to Multiple platform build/check report for BioC 3.12 | 
  | 
This page was generated on 2021-05-06 12:32:11 -0400 (Thu, 06 May 2021).
| 
To the developers/maintainers of the MetaCyto package: Please make sure to use the following settings in order to reproduce any error or warning you see on this page.  | 
| Package 1050/1974 | Hostname | OS / Arch | INSTALL | BUILD | CHECK | BUILD BIN | ||||||||
| MetaCyto 1.12.0  (landing page) Zicheng Hu 
  | malbec1 | Linux (Ubuntu 18.04.5 LTS) / x86_64 | OK | OK | OK | |||||||||
| tokay1 | Windows Server 2012 R2 Standard / x64 | OK | OK | OK | OK | |||||||||
| merida1 | macOS 10.14.6 Mojave / x86_64 | OK | OK | OK | OK | |||||||||
| Package: MetaCyto | 
| Version: 1.12.0 | 
| Command: rm -rf MetaCyto.buildbin-libdir && mkdir MetaCyto.buildbin-libdir && C:\Users\biocbuild\bbs-3.12-bioc\R\bin\R.exe CMD INSTALL --merge-multiarch --build --library=MetaCyto.buildbin-libdir MetaCyto_1.12.0.tar.gz | 
| StartedAt: 2021-05-06 09:29:09 -0400 (Thu, 06 May 2021) | 
| EndedAt: 2021-05-06 09:29:51 -0400 (Thu, 06 May 2021) | 
| EllapsedTime: 41.6 seconds | 
| RetCode: 0 | 
| Status: OK | 
| PackageFile: MetaCyto_1.12.0.zip | 
| PackageFileSize: 1.06 MiB | 
##############################################################################
##############################################################################
###
### Running command:
###
###   rm -rf MetaCyto.buildbin-libdir && mkdir MetaCyto.buildbin-libdir && C:\Users\biocbuild\bbs-3.12-bioc\R\bin\R.exe CMD INSTALL --merge-multiarch --build --library=MetaCyto.buildbin-libdir MetaCyto_1.12.0.tar.gz
###
##############################################################################
##############################################################################
install for i386
* installing *source* package 'MetaCyto' ...
** using staged installation
** R
** inst
** byte-compile and prepare package for lazy loading
** help
*** installing help indices
  converting help for package 'MetaCyto'
    finding HTML links ... done
    autoCluster.batch                       html  
    clusterStats                            html  
    collectData                             html  
    densityPlot                             html  
    fcsInfoParser                           html  
    filterLabels                            html  
    findCutoff                              html  
    flowHC                                  html  
    flowSOM.MC                              html  
    glmAnalysis                             html  
    labelCluster                            html  
    labelSummary                            html  
    markerFinder                            html  
    metaAnalysis                            html  
    nameUpdator                             html  
    panelSummary                            html  
    plotGA                                  html  
    preprocessing                           html  
    preprocessing.batch                     html  
    sampleInfoParser                        html  
    searchCluster                           html  
    searchCluster.batch                     html  
    set2Frame                               html  
** building package indices
** installing vignettes
** testing if installed package can be loaded from temporary location
** testing if installed package can be loaded from final location
** testing if installed package keeps a record of temporary installation path
install for x64
* installing *source* package 'MetaCyto' ...
** testing if installed package can be loaded
* MD5 sums
packaged installation of 'MetaCyto' as MetaCyto_1.12.0.zip
* DONE (MetaCyto)