| Back to Multiple platform build/check report for BioC 3.12 |
|
This page was generated on 2021-05-06 12:35:30 -0400 (Thu, 06 May 2021).
|
To the developers/maintainers of the LiquidAssociation package: Please make sure to use the following settings in order to reproduce any error or warning you see on this page. |
| Package 963/1974 | Hostname | OS / Arch | INSTALL | BUILD | CHECK | BUILD BIN | ||||||||
| LiquidAssociation 1.44.0 (landing page) Yen-Yi Ho
| malbec1 | Linux (Ubuntu 18.04.5 LTS) / x86_64 | OK | OK | OK | |||||||||
| tokay1 | Windows Server 2012 R2 Standard / x64 | OK | OK | OK | OK | |||||||||
| merida1 | macOS 10.14.6 Mojave / x86_64 | OK | OK | OK | OK | |||||||||
| Package: LiquidAssociation |
| Version: 1.44.0 |
| Command: /Library/Frameworks/R.framework/Versions/Current/Resources/bin/R CMD check --install=check:LiquidAssociation.install-out.txt --library=/Library/Frameworks/R.framework/Versions/Current/Resources/library --no-vignettes --timings LiquidAssociation_1.44.0.tar.gz |
| StartedAt: 2021-05-06 03:09:36 -0400 (Thu, 06 May 2021) |
| EndedAt: 2021-05-06 03:11:28 -0400 (Thu, 06 May 2021) |
| EllapsedTime: 111.7 seconds |
| RetCode: 0 |
| Status: OK |
| CheckDir: LiquidAssociation.Rcheck |
| Warnings: 0 |
##############################################################################
##############################################################################
###
### Running command:
###
### /Library/Frameworks/R.framework/Versions/Current/Resources/bin/R CMD check --install=check:LiquidAssociation.install-out.txt --library=/Library/Frameworks/R.framework/Versions/Current/Resources/library --no-vignettes --timings LiquidAssociation_1.44.0.tar.gz
###
##############################################################################
##############################################################################
* using log directory ‘/Users/biocbuild/bbs-3.12-bioc/meat/LiquidAssociation.Rcheck’
* using R version 4.0.5 (2021-03-31)
* using platform: x86_64-apple-darwin17.0 (64-bit)
* using session charset: UTF-8
* using option ‘--no-vignettes’
* checking for file ‘LiquidAssociation/DESCRIPTION’ ... OK
* checking extension type ... Package
* this is package ‘LiquidAssociation’ version ‘1.44.0’
* checking package namespace information ... OK
* checking package dependencies ... OK
* checking if this is a source package ... OK
* checking if there is a namespace ... OK
* checking for hidden files and directories ... OK
* checking for portable file names ... OK
* checking for sufficient/correct file permissions ... OK
* checking whether package ‘LiquidAssociation’ can be installed ... OK
* checking installed package size ... OK
* checking package directory ... OK
* checking ‘build’ directory ... OK
* checking DESCRIPTION meta-information ... NOTE
Package listed in more than one of Depends, Imports, Suggests, Enhances:
‘methods’
A package should be listed in only one of these fields.
* checking top-level files ... OK
* checking for left-over files ... OK
* checking index information ... OK
* checking package subdirectories ... OK
* checking R files for non-ASCII characters ... OK
* checking R files for syntax errors ... OK
* checking whether the package can be loaded ... OK
* checking whether the package can be loaded with stated dependencies ... OK
* checking whether the package can be unloaded cleanly ... OK
* checking whether the namespace can be loaded with stated dependencies ... OK
* checking whether the namespace can be unloaded cleanly ... OK
* checking dependencies in R code ... NOTE
Packages in Depends field not imported from:
‘geepack’ ‘org.Sc.sgd.db’ ‘yeastCC’
These packages need to be imported from (in the NAMESPACE file)
for when this namespace is loaded but not attached.
* checking S3 generic/method consistency ... OK
* checking replacement functions ... OK
* checking foreign function calls ... OK
* checking R code for possible problems ... NOTE
CNM.full,matrix: no visible global function definition for ‘geese’
CNM.full,matrix: no visible binding for global variable ‘groupid’
CNM.full,matrix: no visible binding for global variable ‘visit’
CNM.full,matrix: no visible global function definition for
‘geese.control’
CNM.simple,matrix: no visible global function definition for ‘geese’
CNM.simple,matrix: no visible binding for global variable ‘groupid’
CNM.simple,matrix: no visible binding for global variable ‘visit’
CNM.simple,matrix: no visible global function definition for
‘geese.control’
Undefined global functions or variables:
geese geese.control groupid visit
* checking Rd files ... OK
* checking Rd metadata ... OK
* checking Rd cross-references ... OK
* checking for missing documentation entries ... OK
* checking for code/documentation mismatches ... OK
* checking Rd \usage sections ... OK
* checking Rd contents ... OK
* checking for unstated dependencies in examples ... OK
* checking sizes of PDF files under ‘inst/doc’ ... OK
* checking files in ‘vignettes’ ... OK
* checking examples ... OK
Examples with CPU (user + system) or elapsed time > 5s
user system elapsed
getsGLA-methods 5.518 0.064 5.593
* checking for unstated dependencies in vignettes ... OK
* checking package vignettes in ‘inst/doc’ ... OK
* checking running R code from vignettes ... SKIPPED
* checking re-building of vignette outputs ... SKIPPED
* checking PDF version of manual ... OK
* DONE
Status: 3 NOTEs
See
‘/Users/biocbuild/bbs-3.12-bioc/meat/LiquidAssociation.Rcheck/00check.log’
for details.
LiquidAssociation.Rcheck/00install.out
############################################################################## ############################################################################## ### ### Running command: ### ### /Library/Frameworks/R.framework/Versions/Current/Resources/bin/R CMD INSTALL LiquidAssociation ### ############################################################################## ############################################################################## * installing to library ‘/Library/Frameworks/R.framework/Versions/4.0/Resources/library’ * installing *source* package ‘LiquidAssociation’ ... ** using staged installation ** R ** byte-compile and prepare package for lazy loading ** help *** installing help indices ** building package indices ** installing vignettes ** testing if installed package can be loaded from temporary location ** testing if installed package can be loaded from final location ** testing if installed package keeps a record of temporary installation path * DONE (LiquidAssociation)
LiquidAssociation.Rcheck/LiquidAssociation-Ex.timings
| name | user | system | elapsed | |
| CNM-class | 0.002 | 0.001 | 0.002 | |
| CNM.full-methods | 0.062 | 0.003 | 0.069 | |
| CNM.simple-methods | 0.034 | 0.001 | 0.035 | |
| GLA-methods | 0.005 | 0.001 | 0.005 | |
| LA-methods | 0.001 | 0.000 | 0.002 | |
| LiquidAssociation-package | 0.132 | 0.002 | 0.134 | |
| getsGLA-methods | 5.518 | 0.064 | 5.593 | |
| getsLA-methods | 3.548 | 0.043 | 3.597 | |
| plotGLA-methods | 0.038 | 0.002 | 1.189 | |