| Back to Multiple platform build/check report for BioC 3.12 | 
  | 
This page was generated on 2021-05-06 12:31:55 -0400 (Thu, 06 May 2021).
| 
To the developers/maintainers of the KnowSeq package: Please make sure to use the following settings in order to reproduce any error or warning you see on this page.  | 
| Package 944/1974 | Hostname | OS / Arch | INSTALL | BUILD | CHECK | BUILD BIN | ||||||||
| KnowSeq 1.4.5  (landing page) Daniel Castillo-Secilla 
  | malbec1 | Linux (Ubuntu 18.04.5 LTS) / x86_64 | OK | OK | OK | |||||||||
| tokay1 | Windows Server 2012 R2 Standard / x64 | OK | OK | OK | OK | |||||||||
| merida1 | macOS 10.14.6 Mojave / x86_64 | OK | OK | OK | OK | |||||||||
| Package: KnowSeq | 
| Version: 1.4.5 | 
| Command: chmod a+r KnowSeq -R && C:\Users\biocbuild\bbs-3.12-bioc\R\bin\R.exe CMD build --keep-empty-dirs --no-resave-data KnowSeq | 
| StartedAt: 2021-05-05 21:45:07 -0400 (Wed, 05 May 2021) | 
| EndedAt: 2021-05-05 21:49:17 -0400 (Wed, 05 May 2021) | 
| EllapsedTime: 250.0 seconds | 
| RetCode: 0 | 
| Status: OK | 
| PackageFile: KnowSeq_1.4.5.tar.gz | 
| PackageFileSize: 7.3 MiB | 
############################################################################## ############################################################################## ### ### Running command: ### ### chmod a+r KnowSeq -R && C:\Users\biocbuild\bbs-3.12-bioc\R\bin\R.exe CMD build --keep-empty-dirs --no-resave-data KnowSeq ### ############################################################################## ############################################################################## * checking for file 'KnowSeq/DESCRIPTION' ... OK * preparing 'KnowSeq': * checking DESCRIPTION meta-information ... OK * installing the package to build vignettes * creating vignettes ... OK * checking for LF line-endings in source and make files and shell scripts * checking for empty or unneeded directories * building 'KnowSeq_1.4.5.tar.gz'