| Back to Multiple platform build/check report for BioC 3.12 |
|
This page was generated on 2021-05-06 12:28:04 -0400 (Thu, 06 May 2021).
|
To the developers/maintainers of the KEGGlincs package: Please make sure to use the following settings in order to reproduce any error or warning you see on this page. |
| Package 938/1974 | Hostname | OS / Arch | INSTALL | BUILD | CHECK | BUILD BIN | ||||||||
| KEGGlincs 1.16.0 (landing page) Shana White
| malbec1 | Linux (Ubuntu 18.04.5 LTS) / x86_64 | OK | OK | OK | |||||||||
| tokay1 | Windows Server 2012 R2 Standard / x64 | OK | OK | OK | OK | |||||||||
| merida1 | macOS 10.14.6 Mojave / x86_64 | OK | OK | OK | OK | |||||||||
| Package: KEGGlincs |
| Version: 1.16.0 |
| Command: /home/biocbuild/bbs-3.12-bioc/R/bin/R CMD check --install=check:KEGGlincs.install-out.txt --library=/home/biocbuild/bbs-3.12-bioc/R/library --no-vignettes --timings KEGGlincs_1.16.0.tar.gz |
| StartedAt: 2021-05-06 02:51:43 -0400 (Thu, 06 May 2021) |
| EndedAt: 2021-05-06 02:55:18 -0400 (Thu, 06 May 2021) |
| EllapsedTime: 214.9 seconds |
| RetCode: 0 |
| Status: OK |
| CheckDir: KEGGlincs.Rcheck |
| Warnings: 0 |
##############################################################################
##############################################################################
###
### Running command:
###
### /home/biocbuild/bbs-3.12-bioc/R/bin/R CMD check --install=check:KEGGlincs.install-out.txt --library=/home/biocbuild/bbs-3.12-bioc/R/library --no-vignettes --timings KEGGlincs_1.16.0.tar.gz
###
##############################################################################
##############################################################################
* using log directory ‘/home/biocbuild/bbs-3.12-bioc/meat/KEGGlincs.Rcheck’
* using R version 4.0.5 (2021-03-31)
* using platform: x86_64-pc-linux-gnu (64-bit)
* using session charset: UTF-8
* using option ‘--no-vignettes’
* checking for file ‘KEGGlincs/DESCRIPTION’ ... OK
* checking extension type ... Package
* this is package ‘KEGGlincs’ version ‘1.16.0’
* checking package namespace information ... OK
* checking package dependencies ... OK
* checking if this is a source package ... OK
* checking if there is a namespace ... OK
* checking for hidden files and directories ... OK
* checking for portable file names ... OK
* checking for sufficient/correct file permissions ... OK
* checking whether package ‘KEGGlincs’ can be installed ... OK
* checking installed package size ... OK
* checking package directory ... OK
* checking ‘build’ directory ... OK
* checking DESCRIPTION meta-information ... OK
* checking top-level files ... OK
* checking for left-over files ... OK
* checking index information ... OK
* checking package subdirectories ... OK
* checking R files for non-ASCII characters ... OK
* checking R files for syntax errors ... OK
* checking whether the package can be loaded ... OK
* checking whether the package can be loaded with stated dependencies ... OK
* checking whether the package can be unloaded cleanly ... OK
* checking whether the namespace can be loaded with stated dependencies ... OK
* checking whether the namespace can be unloaded cleanly ... OK
* checking dependencies in R code ... NOTE
Namespace in Imports field not imported from: ‘XML’
All declared Imports should be used.
* checking S3 generic/method consistency ... OK
* checking replacement functions ... OK
* checking foreign function calls ... OK
* checking R code for possible problems ... OK
* checking Rd files ... OK
* checking Rd metadata ... OK
* checking Rd cross-references ... OK
* checking for missing documentation entries ... OK
* checking for code/documentation mismatches ... OK
* checking Rd \usage sections ... OK
* checking Rd contents ... OK
* checking for unstated dependencies in examples ... OK
* checking files in ‘vignettes’ ... OK
* checking examples ... OK
Examples with CPU (user + system) or elapsed time > 5s
user system elapsed
overlap_info 19.416 0.716 20.524
add_edge_data 18.172 0.532 19.604
path_genes_by_cell_type 10.996 0.184 11.428
edge_mapping_info 10.644 0.304 11.183
refine_mappings 9.964 0.208 10.506
get_graph_object 6.964 0.000 7.175
* checking for unstated dependencies in vignettes ... OK
* checking package vignettes in ‘inst/doc’ ... OK
* checking running R code from vignettes ... SKIPPED
* checking re-building of vignette outputs ... SKIPPED
* checking PDF version of manual ... OK
* DONE
Status: 1 NOTE
See
‘/home/biocbuild/bbs-3.12-bioc/meat/KEGGlincs.Rcheck/00check.log’
for details.
KEGGlincs.Rcheck/00install.out
############################################################################## ############################################################################## ### ### Running command: ### ### /home/biocbuild/bbs-3.12-bioc/R/bin/R CMD INSTALL KEGGlincs ### ############################################################################## ############################################################################## * installing to library ‘/home/biocbuild/bbs-3.12-bioc/R/library’ * installing *source* package ‘KEGGlincs’ ... ** using staged installation ** R ** inst ** byte-compile and prepare package for lazy loading ** help *** installing help indices ** building package indices ** installing vignettes ** testing if installed package can be loaded from temporary location ** testing if installed package can be loaded from final location ** testing if installed package keeps a record of temporary installation path * DONE (KEGGlincs)
KEGGlincs.Rcheck/KEGGlincs-Ex.timings
| name | user | system | elapsed | |
| KEGG_lincs | 0.000 | 0.000 | 0.001 | |
| KL_compare | 0 | 0 | 0 | |
| add_edge_data | 18.172 | 0.532 | 19.604 | |
| cyto_vis | 0.396 | 0.000 | 0.604 | |
| edge_mapping_info | 10.644 | 0.304 | 11.183 | |
| expand_KEGG_edges | 0.260 | 0.000 | 0.464 | |
| expand_KEGG_mappings | 0.352 | 0.016 | 0.571 | |
| generate_mappings | 0.000 | 0.000 | 0.001 | |
| get_KGML | 0.268 | 0.000 | 0.889 | |
| get_fisher_info | 0.004 | 0.000 | 0.005 | |
| get_graph_object | 6.964 | 0.000 | 7.175 | |
| keggerize_edges | 0 | 0 | 0 | |
| node_mapping_info | 0.148 | 0.000 | 0.349 | |
| overlap_info | 19.416 | 0.716 | 20.524 | |
| path_genes_by_cell_type | 10.996 | 0.184 | 11.428 | |
| refine_mappings | 9.964 | 0.208 | 10.506 | |
| tidy_edge | 0 | 0 | 0 | |