| Back to Multiple platform build/check report for BioC 3.12 |
|
This page was generated on 2021-05-06 12:31:52 -0400 (Thu, 06 May 2021).
|
To the developers/maintainers of the IPO package: Please make sure to use the following settings in order to reproduce any error or warning you see on this page. |
| Package 911/1974 | Hostname | OS / Arch | INSTALL | BUILD | CHECK | BUILD BIN | ||||||||
| IPO 1.16.0 (landing page) Thomas Riebenbauer
| malbec1 | Linux (Ubuntu 18.04.5 LTS) / x86_64 | OK | OK | OK | |||||||||
| tokay1 | Windows Server 2012 R2 Standard / x64 | OK | OK | WARNINGS | OK | |||||||||
| merida1 | macOS 10.14.6 Mojave / x86_64 | OK | OK | OK | OK | |||||||||
| Package: IPO |
| Version: 1.16.0 |
| Command: C:\cygwin\bin\curl.exe -O http://172.29.0.3/BBS/3.12/bioc/src/contrib/IPO_1.16.0.tar.gz && rm -rf IPO.buildbin-libdir && mkdir IPO.buildbin-libdir && C:\Users\biocbuild\bbs-3.12-bioc\R\bin\R.exe CMD INSTALL --merge-multiarch --build --library=IPO.buildbin-libdir IPO_1.16.0.tar.gz && C:\Users\biocbuild\bbs-3.12-bioc\R\bin\R.exe CMD INSTALL IPO_1.16.0.zip && rm IPO_1.16.0.tar.gz IPO_1.16.0.zip |
| StartedAt: 2021-05-05 17:57:24 -0400 (Wed, 05 May 2021) |
| EndedAt: 2021-05-05 17:58:37 -0400 (Wed, 05 May 2021) |
| EllapsedTime: 72.5 seconds |
| RetCode: 0 |
| Status: OK |
##############################################################################
##############################################################################
###
### Running command:
###
### C:\cygwin\bin\curl.exe -O http://172.29.0.3/BBS/3.12/bioc/src/contrib/IPO_1.16.0.tar.gz && rm -rf IPO.buildbin-libdir && mkdir IPO.buildbin-libdir && C:\Users\biocbuild\bbs-3.12-bioc\R\bin\R.exe CMD INSTALL --merge-multiarch --build --library=IPO.buildbin-libdir IPO_1.16.0.tar.gz && C:\Users\biocbuild\bbs-3.12-bioc\R\bin\R.exe CMD INSTALL IPO_1.16.0.zip && rm IPO_1.16.0.tar.gz IPO_1.16.0.zip
###
##############################################################################
##############################################################################
% Total % Received % Xferd Average Speed Time Time Time Current
Dload Upload Total Spent Left Speed
0 0 0 0 0 0 0 0 --:--:-- --:--:-- --:--:-- 0
100 213k 100 213k 0 0 9.7M 0 --:--:-- --:--:-- --:--:-- 10.4M
install for i386
* installing *source* package 'IPO' ...
** using staged installation
** R
** inst
** byte-compile and prepare package for lazy loading
** help
*** installing help indices
converting help for package 'IPO'
finding HTML links ... done
IPO-package html
attachList html
calcPPS html
calculateXcmsSet html
Rd warning: C:/Users/biocbuild/bbs-3.12-bioc/tmpdir/Rtmp2tokc2/R.INSTALL1d186087dad/IPO/man/calculateXcmsSet.Rd:19: file link 'findPeaks.centWave' in package 'xcms' does not exist and so has been treated as a topic
Rd warning: C:/Users/biocbuild/bbs-3.12-bioc/tmpdir/Rtmp2tokc2/R.INSTALL1d186087dad/IPO/man/calculateXcmsSet.Rd:24: file link 'SerialParam' in package 'BiocParallel' does not exist and so has been treated as a topic
Rd warning: C:/Users/biocbuild/bbs-3.12-bioc/tmpdir/Rtmp2tokc2/R.INSTALL1d186087dad/IPO/man/calculateXcmsSet.Rd:25: file link 'MulticoreParam' in package 'BiocParallel' does not exist and so has been treated as a topic
Rd warning: C:/Users/biocbuild/bbs-3.12-bioc/tmpdir/Rtmp2tokc2/R.INSTALL1d186087dad/IPO/man/calculateXcmsSet.Rd:26: file link 'SnowParam' in package 'BiocParallel' does not exist and so has been treated as a topic
Rd warning: C:/Users/biocbuild/bbs-3.12-bioc/tmpdir/Rtmp2tokc2/R.INSTALL1d186087dad/IPO/man/calculateXcmsSet.Rd:53: file link 'findPeaks' in package 'xcms' does not exist and so has been treated as a topic
combineParams html
createModel html
decode html
findIsotopes.CAMERA html
findIsotopes.IPO html
getBbdParameter html
getCcdParameter html
getDefaultRetCorCenterSample html
getDefaultRetGroupStartingParams html
getDefaultXcmsSetStartingParams html
getNormalizedResponse html
getRGTVValues html
optimizeRetGroup html
optimizeXcmsSet html
Rd warning: C:/Users/biocbuild/bbs-3.12-bioc/tmpdir/Rtmp2tokc2/R.INSTALL1d186087dad/IPO/man/optimizeXcmsSet.Rd:31: file link 'SerialParam' in package 'BiocParallel' does not exist and so has been treated as a topic
Rd warning: C:/Users/biocbuild/bbs-3.12-bioc/tmpdir/Rtmp2tokc2/R.INSTALL1d186087dad/IPO/man/optimizeXcmsSet.Rd:32: file link 'MulticoreParam' in package 'BiocParallel' does not exist and so has been treated as a topic
Rd warning: C:/Users/biocbuild/bbs-3.12-bioc/tmpdir/Rtmp2tokc2/R.INSTALL1d186087dad/IPO/man/optimizeXcmsSet.Rd:33: file link 'SnowParam' in package 'BiocParallel' does not exist and so has been treated as a topic
toMatrix html
typeCastParams html
writeParamsTable html
writeRScript html
** building package indices
** installing vignettes
** testing if installed package can be loaded from temporary location
** testing if installed package can be loaded from final location
** testing if installed package keeps a record of temporary installation path
install for x64
* installing *source* package 'IPO' ...
** testing if installed package can be loaded
* MD5 sums
packaged installation of 'IPO' as IPO_1.16.0.zip
* DONE (IPO)
* installing to library 'C:/Users/biocbuild/bbs-3.12-bioc/R/library'
package 'IPO' successfully unpacked and MD5 sums checked