| Back to Multiple platform build/check report for BioC 3.12 |
|
This page was generated on 2021-05-06 12:35:21 -0400 (Thu, 06 May 2021).
|
To the developers/maintainers of the ILoReg package: Please make sure to use the following settings in order to reproduce any error or warning you see on this page. |
| Package 881/1974 | Hostname | OS / Arch | INSTALL | BUILD | CHECK | BUILD BIN | ||||||||
| ILoReg 1.0.0 (landing page) Johannes Smolander
| malbec1 | Linux (Ubuntu 18.04.5 LTS) / x86_64 | OK | OK | OK | |||||||||
| tokay1 | Windows Server 2012 R2 Standard / x64 | OK | OK | OK | OK | |||||||||
| merida1 | macOS 10.14.6 Mojave / x86_64 | OK | OK | OK | OK | |||||||||
| Package: ILoReg |
| Version: 1.0.0 |
| Command: /Library/Frameworks/R.framework/Versions/Current/Resources/bin/R CMD check --install=check:ILoReg.install-out.txt --library=/Library/Frameworks/R.framework/Versions/Current/Resources/library --no-vignettes --timings ILoReg_1.0.0.tar.gz |
| StartedAt: 2021-05-06 02:48:11 -0400 (Thu, 06 May 2021) |
| EndedAt: 2021-05-06 02:55:22 -0400 (Thu, 06 May 2021) |
| EllapsedTime: 431.4 seconds |
| RetCode: 0 |
| Status: OK |
| CheckDir: ILoReg.Rcheck |
| Warnings: 0 |
##############################################################################
##############################################################################
###
### Running command:
###
### /Library/Frameworks/R.framework/Versions/Current/Resources/bin/R CMD check --install=check:ILoReg.install-out.txt --library=/Library/Frameworks/R.framework/Versions/Current/Resources/library --no-vignettes --timings ILoReg_1.0.0.tar.gz
###
##############################################################################
##############################################################################
* using log directory ‘/Users/biocbuild/bbs-3.12-bioc/meat/ILoReg.Rcheck’
* using R version 4.0.5 (2021-03-31)
* using platform: x86_64-apple-darwin17.0 (64-bit)
* using session charset: UTF-8
* using option ‘--no-vignettes’
* checking for file ‘ILoReg/DESCRIPTION’ ... OK
* checking extension type ... Package
* this is package ‘ILoReg’ version ‘1.0.0’
* package encoding: UTF-8
* checking package namespace information ... OK
* checking package dependencies ... OK
* checking if this is a source package ... OK
* checking if there is a namespace ... OK
* checking for hidden files and directories ... OK
* checking for portable file names ... OK
* checking for sufficient/correct file permissions ... OK
* checking whether package ‘ILoReg’ can be installed ... OK
* checking installed package size ... OK
* checking package directory ... OK
* checking ‘build’ directory ... OK
* checking DESCRIPTION meta-information ... OK
* checking top-level files ... OK
* checking for left-over files ... OK
* checking index information ... OK
* checking package subdirectories ... OK
* checking R files for non-ASCII characters ... OK
* checking R files for syntax errors ... OK
* checking whether the package can be loaded ... OK
* checking whether the package can be loaded with stated dependencies ... OK
* checking whether the package can be unloaded cleanly ... OK
* checking whether the namespace can be loaded with stated dependencies ... OK
* checking whether the namespace can be unloaded cleanly ... OK
* checking dependencies in R code ... OK
* checking S3 generic/method consistency ... OK
* checking replacement functions ... OK
* checking foreign function calls ... OK
* checking R code for possible problems ... OK
* checking Rd files ... OK
* checking Rd metadata ... OK
* checking Rd cross-references ... OK
* checking for missing documentation entries ... OK
* checking for code/documentation mismatches ... OK
* checking Rd \usage sections ... OK
* checking Rd contents ... OK
* checking for unstated dependencies in examples ... OK
* checking contents of ‘data’ directory ... OK
* checking data for non-ASCII characters ... OK
* checking data for ASCII and uncompressed saves ... OK
* checking files in ‘vignettes’ ... OK
* checking examples ... OK
Examples with CPU (user + system) or elapsed time > 5s
user system elapsed
FindAllGeneMarkers 21.374 1.438 22.927
SelectTopGenes 17.614 1.323 18.959
ClusteringScatterPlot 15.756 1.249 17.077
GeneHeatmap 13.888 1.330 15.272
CalcSilhInfo 12.419 1.357 13.755
AnnotationScatterPlot 11.850 1.408 13.345
GeneScatterPlot 10.797 0.977 11.790
FindGeneMarkers 10.191 1.126 11.338
RunTSNE 9.548 1.195 10.769
RunUMAP 9.341 1.045 10.398
VlnPlot 8.068 1.017 9.106
RenameCluster 7.967 1.103 9.081
PCAElbowPlot 7.900 1.122 9.037
RenameAllClusters 7.905 1.090 9.011
RunParallelICP 7.739 1.190 8.944
SelectKClusters 7.747 1.115 8.873
SilhouetteCurve 7.663 1.009 8.630
HierarchicalClustering 7.390 1.061 8.465
RunPCA 7.363 1.031 8.413
MergeClusters 7.198 1.041 8.258
* checking for unstated dependencies in vignettes ... OK
* checking package vignettes in ‘inst/doc’ ... OK
* checking running R code from vignettes ... SKIPPED
* checking re-building of vignette outputs ... SKIPPED
* checking PDF version of manual ... OK
* DONE
Status: OK
ILoReg.Rcheck/00install.out
############################################################################## ############################################################################## ### ### Running command: ### ### /Library/Frameworks/R.framework/Versions/Current/Resources/bin/R CMD INSTALL ILoReg ### ############################################################################## ############################################################################## * installing to library ‘/Library/Frameworks/R.framework/Versions/4.0/Resources/library’ * installing *source* package ‘ILoReg’ ... ** using staged installation ** R ** data *** moving datasets to lazyload DB ** inst ** byte-compile and prepare package for lazy loading ** help *** installing help indices ** building package indices ** installing vignettes ** testing if installed package can be loaded from temporary location ** testing if installed package can be loaded from final location ** testing if installed package keeps a record of temporary installation path * DONE (ILoReg)
ILoReg.Rcheck/ILoReg-Ex.timings
| name | user | system | elapsed | |
| AnnotationScatterPlot | 11.850 | 1.408 | 13.345 | |
| CalcSilhInfo | 12.419 | 1.357 | 13.755 | |
| ClusteringScatterPlot | 15.756 | 1.249 | 17.077 | |
| FindAllGeneMarkers | 21.374 | 1.438 | 22.927 | |
| FindGeneMarkers | 10.191 | 1.126 | 11.338 | |
| GeneHeatmap | 13.888 | 1.330 | 15.272 | |
| GeneScatterPlot | 10.797 | 0.977 | 11.790 | |
| HierarchicalClustering | 7.390 | 1.061 | 8.465 | |
| MergeClusters | 7.198 | 1.041 | 8.258 | |
| PCAElbowPlot | 7.900 | 1.122 | 9.037 | |
| PrepareILoReg | 0.485 | 0.015 | 0.501 | |
| RenameAllClusters | 7.905 | 1.090 | 9.011 | |
| RenameCluster | 7.967 | 1.103 | 9.081 | |
| RunPCA | 7.363 | 1.031 | 8.413 | |
| RunParallelICP | 7.739 | 1.190 | 8.944 | |
| RunTSNE | 9.548 | 1.195 | 10.769 | |
| RunUMAP | 9.341 | 1.045 | 10.398 | |
| SelectKClusters | 7.747 | 1.115 | 8.873 | |
| SelectTopGenes | 17.614 | 1.323 | 18.959 | |
| SilhouetteCurve | 7.663 | 1.009 | 8.630 | |
| VlnPlot | 8.068 | 1.017 | 9.106 | |
| pbmc3k_500 | 0.003 | 0.002 | 0.005 | |