| Back to Multiple platform build/check report for BioC 3.12 |
|
This page was generated on 2021-05-06 12:27:52 -0400 (Thu, 06 May 2021).
|
To the developers/maintainers of the HEM package: Please make sure to use the following settings in order to reproduce any error or warning you see on this page. |
| Package 825/1974 | Hostname | OS / Arch | INSTALL | BUILD | CHECK | BUILD BIN | ||||||||
| HEM 1.62.0 (landing page) HyungJun Cho
| malbec1 | Linux (Ubuntu 18.04.5 LTS) / x86_64 | OK | OK | OK | |||||||||
| tokay1 | Windows Server 2012 R2 Standard / x64 | OK | OK | OK | OK | |||||||||
| merida1 | macOS 10.14.6 Mojave / x86_64 | OK | OK | OK | OK | |||||||||
| Package: HEM |
| Version: 1.62.0 |
| Command: /home/biocbuild/bbs-3.12-bioc/R/bin/R CMD INSTALL HEM |
| StartedAt: 2021-05-05 16:08:05 -0400 (Wed, 05 May 2021) |
| EndedAt: 2021-05-05 16:08:11 -0400 (Wed, 05 May 2021) |
| EllapsedTime: 5.1 seconds |
| RetCode: 0 |
| Status: OK |
##############################################################################
##############################################################################
###
### Running command:
###
### /home/biocbuild/bbs-3.12-bioc/R/bin/R CMD INSTALL HEM
###
##############################################################################
##############################################################################
* installing to library ‘/home/biocbuild/bbs-3.12-bioc/R/library’
* installing *source* package ‘HEM’ ...
** using staged installation
** libs
gcc -I"/home/biocbuild/bbs-3.12-bioc/R/include" -DNDEBUG -I/usr/local/include -fpic -g -O2 -Wall -c hem.c -o hem.o
hem.c: In function ‘onelayerhem’:
hem.c:1390:12: warning: variable ‘k’ set but not used [-Wunused-but-set-variable]
int i, j, k, m, n;
^
hem.c: In function ‘chk_prt’:
hem.c:1593:16: warning: variable ‘l’ set but not used [-Wunused-but-set-variable]
int i, j, k, l;
^
gcc -shared -L/home/biocbuild/bbs-3.12-bioc/R/lib -L/usr/local/lib -o HEM.so hem.o -L/home/biocbuild/bbs-3.12-bioc/R/lib -lR
installing to /home/biocbuild/bbs-3.12-bioc/R/library/00LOCK-HEM/00new/HEM/libs
** R
** data
** byte-compile and prepare package for lazy loading
** help
*** installing help indices
** building package indices
** installing vignettes
** testing if installed package can be loaded from temporary location
** checking absolute paths in shared objects and dynamic libraries
** testing if installed package can be loaded from final location
** testing if installed package keeps a record of temporary installation path
* DONE (HEM)