| Back to Multiple platform build/check report for BioC 3.12 | 
  | 
This page was generated on 2021-05-06 12:31:40 -0400 (Thu, 06 May 2021).
| 
To the developers/maintainers of the GraphPAC package: Please make sure to use the following settings in order to reproduce any error or warning you see on this page.  | 
| Package 784/1974 | Hostname | OS / Arch | INSTALL | BUILD | CHECK | BUILD BIN | ||||||||
| GraphPAC 1.32.0  (landing page) Gregory Ryslik 
  | malbec1 | Linux (Ubuntu 18.04.5 LTS) / x86_64 | OK | OK | OK | |||||||||
| tokay1 | Windows Server 2012 R2 Standard / x64 | OK | OK | OK | OK | |||||||||
| merida1 | macOS 10.14.6 Mojave / x86_64 | OK | OK | OK | OK | |||||||||
| Package: GraphPAC | 
| Version: 1.32.0 | 
| Command: C:\cygwin\bin\curl.exe -O http://172.29.0.3/BBS/3.12/bioc/src/contrib/GraphPAC_1.32.0.tar.gz && rm -rf GraphPAC.buildbin-libdir && mkdir GraphPAC.buildbin-libdir && C:\Users\biocbuild\bbs-3.12-bioc\R\bin\R.exe CMD INSTALL --merge-multiarch --build --library=GraphPAC.buildbin-libdir GraphPAC_1.32.0.tar.gz && C:\Users\biocbuild\bbs-3.12-bioc\R\bin\R.exe CMD INSTALL GraphPAC_1.32.0.zip && rm GraphPAC_1.32.0.tar.gz GraphPAC_1.32.0.zip | 
| StartedAt: 2021-05-05 17:51:25 -0400 (Wed, 05 May 2021) | 
| EndedAt: 2021-05-05 17:52:05 -0400 (Wed, 05 May 2021) | 
| EllapsedTime: 40.2 seconds | 
| RetCode: 0 | 
| Status: OK | 
##############################################################################
##############################################################################
###
### Running command:
###
###   C:\cygwin\bin\curl.exe -O http://172.29.0.3/BBS/3.12/bioc/src/contrib/GraphPAC_1.32.0.tar.gz && rm -rf GraphPAC.buildbin-libdir && mkdir GraphPAC.buildbin-libdir && C:\Users\biocbuild\bbs-3.12-bioc\R\bin\R.exe CMD INSTALL --merge-multiarch --build --library=GraphPAC.buildbin-libdir GraphPAC_1.32.0.tar.gz && C:\Users\biocbuild\bbs-3.12-bioc\R\bin\R.exe CMD INSTALL GraphPAC_1.32.0.zip && rm GraphPAC_1.32.0.tar.gz GraphPAC_1.32.0.zip
###
##############################################################################
##############################################################################
  % Total    % Received % Xferd  Average Speed   Time    Time     Time  Current
                                 Dload  Upload   Total   Spent    Left  Speed
  0     0    0     0    0     0      0      0 --:--:-- --:--:-- --:--:--     0
  5  223k    5 11437    0     0  10835      0  0:00:21  0:00:01  0:00:20 10851
100  223k  100  223k    0     0   202k      0  0:00:01  0:00:01 --:--:--  202k
install for i386
* installing *source* package 'GraphPAC' ...
** using staged installation
** R
** inst
** byte-compile and prepare package for lazy loading
** help
*** installing help indices
  converting help for package 'GraphPAC'
    finding HTML links ... done
    Find.TSP.Path                           html  
    GraphClust                              html  
    Plot.Protein                            html  
    graphPAC-package                        html  
** building package indices
** installing vignettes
** testing if installed package can be loaded from temporary location
** testing if installed package can be loaded from final location
** testing if installed package keeps a record of temporary installation path
install for x64
* installing *source* package 'GraphPAC' ...
** testing if installed package can be loaded
* MD5 sums
packaged installation of 'GraphPAC' as GraphPAC_1.32.0.zip
* DONE (GraphPAC)
* installing to library 'C:/Users/biocbuild/bbs-3.12-bioc/R/library'
package 'GraphPAC' successfully unpacked and MD5 sums checked