| Back to Multiple platform build/check report for BioC 3.12 |
|
This page was generated on 2021-05-06 12:31:29 -0400 (Thu, 06 May 2021).
|
To the developers/maintainers of the GenRank package: Please make sure to use the following settings in order to reproduce any error or warning you see on this page. |
| Package 726/1974 | Hostname | OS / Arch | INSTALL | BUILD | CHECK | BUILD BIN | ||||||||
Chakravarthi Kanduri
| malbec1 | Linux (Ubuntu 18.04.5 LTS) / x86_64 | OK | ERROR | skipped | |||||||||
| tokay1 | Windows Server 2012 R2 Standard / x64 | OK | ERROR | skipped | skipped | |||||||||
| merida1 | macOS 10.14.6 Mojave / x86_64 | OK | ERROR | skipped | skipped | |||||||||
| Package: GenRank |
| Version: 1.18.0 |
| Command: C:\cygwin\bin\curl.exe -O http://172.29.0.3/BBS/3.12/bioc/src/contrib/GenRank_1.18.0.tar.gz && rm -rf GenRank.buildbin-libdir && mkdir GenRank.buildbin-libdir && C:\Users\biocbuild\bbs-3.12-bioc\R\bin\R.exe CMD INSTALL --merge-multiarch --build --library=GenRank.buildbin-libdir GenRank_1.18.0.tar.gz && C:\Users\biocbuild\bbs-3.12-bioc\R\bin\R.exe CMD INSTALL GenRank_1.18.0.zip && rm GenRank_1.18.0.tar.gz GenRank_1.18.0.zip |
| StartedAt: 2021-05-05 19:20:25 -0400 (Wed, 05 May 2021) |
| EndedAt: 2021-05-05 19:20:49 -0400 (Wed, 05 May 2021) |
| EllapsedTime: 24.1 seconds |
| RetCode: 0 |
| Status: OK |
##############################################################################
##############################################################################
###
### Running command:
###
### C:\cygwin\bin\curl.exe -O http://172.29.0.3/BBS/3.12/bioc/src/contrib/GenRank_1.18.0.tar.gz && rm -rf GenRank.buildbin-libdir && mkdir GenRank.buildbin-libdir && C:\Users\biocbuild\bbs-3.12-bioc\R\bin\R.exe CMD INSTALL --merge-multiarch --build --library=GenRank.buildbin-libdir GenRank_1.18.0.tar.gz && C:\Users\biocbuild\bbs-3.12-bioc\R\bin\R.exe CMD INSTALL GenRank_1.18.0.zip && rm GenRank_1.18.0.tar.gz GenRank_1.18.0.zip
###
##############################################################################
##############################################################################
% Total % Received % Xferd Average Speed Time Time Time Current
Dload Upload Total Spent Left Speed
0 0 0 0 0 0 0 0 --:--:-- --:--:-- --:--:-- 0
100 420k 100 420k 0 0 23.8M 0 --:--:-- --:--:-- --:--:-- 25.6M
install for i386
* installing *source* package 'GenRank' ...
** using staged installation
** R
** inst
** byte-compile and prepare package for lazy loading
** help
*** installing help indices
converting help for package 'GenRank'
finding HTML links ... done
CombP html
ComputeCE html
ComputeRP html
** building package indices
** installing vignettes
** testing if installed package can be loaded from temporary location
Warning: Package 'GenRank' is deprecated and will be removed from Bioconductor
version 3.13
** testing if installed package can be loaded from final location
Warning: Package 'GenRank' is deprecated and will be removed from Bioconductor
version 3.13
** testing if installed package keeps a record of temporary installation path
install for x64
* installing *source* package 'GenRank' ...
** testing if installed package can be loaded
Warning: Package 'GenRank' is deprecated and will be removed from Bioconductor
version 3.13
* MD5 sums
packaged installation of 'GenRank' as GenRank_1.18.0.zip
* DONE (GenRank)
* installing to library 'C:/Users/biocbuild/bbs-3.12-bioc/R/library'
package 'GenRank' successfully unpacked and MD5 sums checked