| Back to Multiple platform build/check report for BioC 3.12 | 
  | 
This page was generated on 2021-05-06 12:27:48 -0400 (Thu, 06 May 2021).
| 
To the developers/maintainers of the GOSemSim package: Please make sure to use the following settings in order to reproduce any error or warning you see on this page.  | 
| Package 763/1974 | Hostname | OS / Arch | INSTALL | BUILD | CHECK | BUILD BIN | ||||||||
| GOSemSim 2.16.1  (landing page) Guangchuang Yu 
  | malbec1 | Linux (Ubuntu 18.04.5 LTS) / x86_64 | OK | OK | OK | |||||||||
| tokay1 | Windows Server 2012 R2 Standard / x64 | OK | OK | OK | OK | |||||||||
| merida1 | macOS 10.14.6 Mojave / x86_64 | OK | OK | OK | OK | |||||||||
| Package: GOSemSim | 
| Version: 2.16.1 | 
| Command: /home/biocbuild/bbs-3.12-bioc/R/bin/R CMD build --keep-empty-dirs --no-resave-data GOSemSim | 
| StartedAt: 2021-05-05 19:22:09 -0400 (Wed, 05 May 2021) | 
| EndedAt: 2021-05-05 19:22:34 -0400 (Wed, 05 May 2021) | 
| EllapsedTime: 24.8 seconds | 
| RetCode: 0 | 
| Status: OK | 
| PackageFile: GOSemSim_2.16.1.tar.gz | 
| PackageFileSize: 593.7 KiB | 
############################################################################## ############################################################################## ### ### Running command: ### ### /home/biocbuild/bbs-3.12-bioc/R/bin/R CMD build --keep-empty-dirs --no-resave-data GOSemSim ### ############################################################################## ############################################################################## * checking for file ‘GOSemSim/DESCRIPTION’ ... OK * preparing ‘GOSemSim’: * checking DESCRIPTION meta-information ... OK * cleaning src * installing the package to build vignettes * creating vignettes ... OK * cleaning src * checking for LF line-endings in source and make files and shell scripts * checking for empty or unneeded directories * looking to see if a ‘data/datalist’ file should be added * building ‘GOSemSim_2.16.1.tar.gz’