| Back to Multiple platform build/check report for BioC 3.12 |
|
This page was generated on 2021-05-06 12:31:22 -0400 (Thu, 06 May 2021).
|
To the developers/maintainers of the FRGEpistasis package: Please make sure to use the following settings in order to reproduce any error or warning you see on this page. |
| Package 649/1974 | Hostname | OS / Arch | INSTALL | BUILD | CHECK | BUILD BIN | ||||||||
| FRGEpistasis 1.26.0 (landing page) Futao Zhang
| malbec1 | Linux (Ubuntu 18.04.5 LTS) / x86_64 | OK | OK | OK | |||||||||
| tokay1 | Windows Server 2012 R2 Standard / x64 | OK | OK | OK | OK | |||||||||
| merida1 | macOS 10.14.6 Mojave / x86_64 | OK | OK | OK | OK | |||||||||
| Package: FRGEpistasis |
| Version: 1.26.0 |
| Command: C:\cygwin\bin\curl.exe -O http://172.29.0.3/BBS/3.12/bioc/src/contrib/FRGEpistasis_1.26.0.tar.gz && rm -rf FRGEpistasis.buildbin-libdir && mkdir FRGEpistasis.buildbin-libdir && C:\Users\biocbuild\bbs-3.12-bioc\R\bin\R.exe CMD INSTALL --merge-multiarch --build --library=FRGEpistasis.buildbin-libdir FRGEpistasis_1.26.0.tar.gz && C:\Users\biocbuild\bbs-3.12-bioc\R\bin\R.exe CMD INSTALL FRGEpistasis_1.26.0.zip && rm FRGEpistasis_1.26.0.tar.gz FRGEpistasis_1.26.0.zip |
| StartedAt: 2021-05-05 19:15:31 -0400 (Wed, 05 May 2021) |
| EndedAt: 2021-05-05 19:16:06 -0400 (Wed, 05 May 2021) |
| EllapsedTime: 35.0 seconds |
| RetCode: 0 |
| Status: OK |
##############################################################################
##############################################################################
###
### Running command:
###
### C:\cygwin\bin\curl.exe -O http://172.29.0.3/BBS/3.12/bioc/src/contrib/FRGEpistasis_1.26.0.tar.gz && rm -rf FRGEpistasis.buildbin-libdir && mkdir FRGEpistasis.buildbin-libdir && C:\Users\biocbuild\bbs-3.12-bioc\R\bin\R.exe CMD INSTALL --merge-multiarch --build --library=FRGEpistasis.buildbin-libdir FRGEpistasis_1.26.0.tar.gz && C:\Users\biocbuild\bbs-3.12-bioc\R\bin\R.exe CMD INSTALL FRGEpistasis_1.26.0.zip && rm FRGEpistasis_1.26.0.tar.gz FRGEpistasis_1.26.0.zip
###
##############################################################################
##############################################################################
% Total % Received % Xferd Average Speed Time Time Time Current
Dload Upload Total Spent Left Speed
0 0 0 0 0 0 0 0 --:--:-- --:--:-- --:--:-- 0
100 133k 100 133k 0 0 9552k 0 --:--:-- --:--:-- --:--:-- 10.0M
install for i386
* installing *source* package 'FRGEpistasis' ...
** using staged installation
** R
** inst
** byte-compile and prepare package for lazy loading
** help
*** installing help indices
converting help for package 'FRGEpistasis'
finding HTML links ... done
FRGEpistasis-package html
fRGEpistasis html
fRGInteraction html
fourierExpansion html
frgEpistasisTest html
innerEpi html
innerSnpListInteraction html
logTransPheno html
outerEpi html
outerSnpListInteraction html
pCAInteraction html
pCAPiontwiseEpistasis html
pointwiseInteraction html
rankTransPheno html
reduceGeno html
snpPairInteraction html
** building package indices
** installing vignettes
** testing if installed package can be loaded from temporary location
** testing if installed package can be loaded from final location
** testing if installed package keeps a record of temporary installation path
install for x64
* installing *source* package 'FRGEpistasis' ...
** testing if installed package can be loaded
* MD5 sums
packaged installation of 'FRGEpistasis' as FRGEpistasis_1.26.0.zip
* DONE (FRGEpistasis)
* installing to library 'C:/Users/biocbuild/bbs-3.12-bioc/R/library'
package 'FRGEpistasis' successfully unpacked and MD5 sums checked