| Back to Multiple platform build/check report for BioC 3.12 |
|
This page was generated on 2021-05-06 12:34:53 -0400 (Thu, 06 May 2021).
|
To the developers/maintainers of the ELBOW package: Please make sure to use the following settings in order to reproduce any error or warning you see on this page. |
| Package 540/1974 | Hostname | OS / Arch | INSTALL | BUILD | CHECK | BUILD BIN | ||||||||
| ELBOW 1.26.0 (landing page) Graham Alvare
| malbec1 | Linux (Ubuntu 18.04.5 LTS) / x86_64 | OK | OK | OK | |||||||||
| tokay1 | Windows Server 2012 R2 Standard / x64 | OK | OK | OK | OK | |||||||||
| merida1 | macOS 10.14.6 Mojave / x86_64 | OK | OK | OK | OK | |||||||||
| Package: ELBOW |
| Version: 1.26.0 |
| Command: /Library/Frameworks/R.framework/Versions/Current/Resources/bin/R CMD check --install=check:ELBOW.install-out.txt --library=/Library/Frameworks/R.framework/Versions/Current/Resources/library --no-vignettes --timings ELBOW_1.26.0.tar.gz |
| StartedAt: 2021-05-06 01:25:58 -0400 (Thu, 06 May 2021) |
| EndedAt: 2021-05-06 01:26:39 -0400 (Thu, 06 May 2021) |
| EllapsedTime: 40.6 seconds |
| RetCode: 0 |
| Status: OK |
| CheckDir: ELBOW.Rcheck |
| Warnings: 0 |
##############################################################################
##############################################################################
###
### Running command:
###
### /Library/Frameworks/R.framework/Versions/Current/Resources/bin/R CMD check --install=check:ELBOW.install-out.txt --library=/Library/Frameworks/R.framework/Versions/Current/Resources/library --no-vignettes --timings ELBOW_1.26.0.tar.gz
###
##############################################################################
##############################################################################
* using log directory ‘/Users/biocbuild/bbs-3.12-bioc/meat/ELBOW.Rcheck’
* using R version 4.0.5 (2021-03-31)
* using platform: x86_64-apple-darwin17.0 (64-bit)
* using session charset: UTF-8
* using option ‘--no-vignettes’
* checking for file ‘ELBOW/DESCRIPTION’ ... OK
* checking extension type ... Package
* this is package ‘ELBOW’ version ‘1.26.0’
* checking package namespace information ... OK
* checking package dependencies ... OK
* checking if this is a source package ... OK
* checking if there is a namespace ... OK
* checking for hidden files and directories ... OK
* checking for portable file names ... OK
* checking for sufficient/correct file permissions ... OK
* checking whether package ‘ELBOW’ can be installed ... OK
* checking installed package size ... OK
* checking package directory ... OK
* checking ‘build’ directory ... OK
* checking DESCRIPTION meta-information ... OK
* checking top-level files ... OK
* checking for left-over files ... OK
* checking index information ... OK
* checking package subdirectories ... OK
* checking R files for non-ASCII characters ... OK
* checking R files for syntax errors ... OK
* checking whether the package can be loaded ... OK
* checking whether the package can be loaded with stated dependencies ... OK
* checking whether the package can be unloaded cleanly ... OK
* checking whether the namespace can be loaded with stated dependencies ... OK
* checking whether the namespace can be unloaded cleanly ... OK
* checking dependencies in R code ... OK
* checking S3 generic/method consistency ... OK
* checking replacement functions ... OK
* checking foreign function calls ... OK
* checking R code for possible problems ... OK
* checking Rd files ... OK
* checking Rd metadata ... OK
* checking Rd cross-references ... OK
* checking for missing documentation entries ... OK
* checking for code/documentation mismatches ... OK
* checking Rd \usage sections ... OK
* checking Rd contents ... OK
* checking for unstated dependencies in examples ... OK
* checking contents of ‘data’ directory ... OK
* checking data for non-ASCII characters ... OK
* checking data for ASCII and uncompressed saves ... OK
* checking sizes of PDF files under ‘inst/doc’ ... OK
* checking files in ‘vignettes’ ... OK
* checking examples ... OK
Examples with CPU (user + system) or elapsed time > 5s
user system elapsed
do_elbow_rnaseq 6.283 0.214 6.508
* checking for unstated dependencies in vignettes ... OK
* checking package vignettes in ‘inst/doc’ ... OK
* checking running R code from vignettes ... SKIPPED
* checking re-building of vignette outputs ... SKIPPED
* checking PDF version of manual ... OK
* DONE
Status: OK
ELBOW.Rcheck/00install.out
############################################################################## ############################################################################## ### ### Running command: ### ### /Library/Frameworks/R.framework/Versions/Current/Resources/bin/R CMD INSTALL ELBOW ### ############################################################################## ############################################################################## * installing to library ‘/Library/Frameworks/R.framework/Versions/4.0/Resources/library’ * installing *source* package ‘ELBOW’ ... ** using staged installation ** R ** data ** inst ** byte-compile and prepare package for lazy loading ** help *** installing help indices ** building package indices ** installing vignettes ** testing if installed package can be loaded from temporary location ** testing if installed package can be loaded from final location ** testing if installed package keeps a record of temporary installation path * DONE (ELBOW)
ELBOW.Rcheck/ELBOW-Ex.timings
| name | user | system | elapsed | |
| ELBOW-package | 0.794 | 0.057 | 0.851 | |
| analyze_elbow | 0.957 | 0.049 | 1.009 | |
| do_elbow | 0.069 | 0.003 | 0.072 | |
| do_elbow_rnaseq | 6.283 | 0.214 | 6.508 | |
| elbow_variance | 0.394 | 0.017 | 0.412 | |
| extract_working_sets | 0.046 | 0.001 | 0.048 | |
| get_elbow_limma | 0.370 | 0.017 | 0.388 | |
| get_pvalue | 0.828 | 0.044 | 0.874 | |
| null_variance | 0.786 | 0.016 | 0.802 | |
| plot_dataset | 0.693 | 0.030 | 0.724 | |
| plot_elbow | 0.992 | 0.035 | 1.029 | |
| replicates_to_fold | 0.066 | 0.004 | 0.069 | |