| Back to Multiple platform build/check report for BioC 3.12 | 
  | 
This page was generated on 2021-05-06 12:27:25 -0400 (Thu, 06 May 2021).
| 
To the developers/maintainers of the DriverNet package: Please make sure to use the following settings in order to reproduce any error or warning you see on this page.  | 
| Package 510/1974 | Hostname | OS / Arch | INSTALL | BUILD | CHECK | BUILD BIN | ||||||||
| DriverNet 1.30.0  (landing page) Jiarui Ding 
  | malbec1 | Linux (Ubuntu 18.04.5 LTS) / x86_64 | OK | OK | OK | |||||||||
| tokay1 | Windows Server 2012 R2 Standard / x64 | OK | OK | OK | OK | |||||||||
| merida1 | macOS 10.14.6 Mojave / x86_64 | OK | OK | OK | OK | |||||||||
| Package: DriverNet | 
| Version: 1.30.0 | 
| Command: /home/biocbuild/bbs-3.12-bioc/R/bin/R CMD check --install=check:DriverNet.install-out.txt --library=/home/biocbuild/bbs-3.12-bioc/R/library --no-vignettes --timings DriverNet_1.30.0.tar.gz | 
| StartedAt: 2021-05-06 01:07:18 -0400 (Thu, 06 May 2021) | 
| EndedAt: 2021-05-06 01:08:44 -0400 (Thu, 06 May 2021) | 
| EllapsedTime: 85.6 seconds | 
| RetCode: 0 | 
| Status: OK | 
| CheckDir: DriverNet.Rcheck | 
| Warnings: 0 | 
##############################################################################
##############################################################################
###
### Running command:
###
###   /home/biocbuild/bbs-3.12-bioc/R/bin/R CMD check --install=check:DriverNet.install-out.txt --library=/home/biocbuild/bbs-3.12-bioc/R/library --no-vignettes --timings DriverNet_1.30.0.tar.gz
###
##############################################################################
##############################################################################
* using log directory ‘/home/biocbuild/bbs-3.12-bioc/meat/DriverNet.Rcheck’
* using R version 4.0.5 (2021-03-31)
* using platform: x86_64-pc-linux-gnu (64-bit)
* using session charset: UTF-8
* using option ‘--no-vignettes’
* checking for file ‘DriverNet/DESCRIPTION’ ... OK
* checking extension type ... Package
* this is package ‘DriverNet’ version ‘1.30.0’
* checking package namespace information ... OK
* checking package dependencies ... OK
* checking if this is a source package ... OK
* checking if there is a namespace ... OK
* checking for hidden files and directories ... OK
* checking for portable file names ... OK
* checking for sufficient/correct file permissions ... OK
* checking whether package ‘DriverNet’ can be installed ... OK
* checking installed package size ... OK
* checking package directory ... OK
* checking ‘build’ directory ... OK
* checking DESCRIPTION meta-information ... OK
* checking top-level files ... OK
* checking for left-over files ... OK
* checking index information ... OK
* checking package subdirectories ... OK
* checking R files for non-ASCII characters ... OK
* checking R files for syntax errors ... OK
* checking whether the package can be loaded ... OK
* checking whether the package can be loaded with stated dependencies ... OK
* checking whether the package can be unloaded cleanly ... OK
* checking whether the namespace can be loaded with stated dependencies ... OK
* checking whether the namespace can be unloaded cleanly ... OK
* checking dependencies in R code ... NOTE
Package in Depends field not imported from: ‘methods’
  These packages need to be imported from (in the NAMESPACE file)
  for when this namespace is loaded but not attached.
* checking S3 generic/method consistency ... OK
* checking replacement functions ... OK
* checking foreign function calls ... OK
* checking R code for possible problems ... NOTE
.computeDriversHelper: no visible global function definition for ‘new’
getPatientOutlierMatrix: no visible binding for global variable ‘sd’
getPatientOutlierMatrix: no visible global function definition for
  ‘dnorm’
resultSummary: no visible global function definition for ‘write.table’
Undefined global functions or variables:
  dnorm new sd write.table
Consider adding
  importFrom("methods", "new")
  importFrom("stats", "dnorm", "sd")
  importFrom("utils", "write.table")
to your NAMESPACE file (and ensure that your DESCRIPTION Imports field
contains 'methods').
* checking Rd files ... OK
* checking Rd metadata ... OK
* checking Rd cross-references ... OK
* checking for missing documentation entries ... OK
* checking for code/documentation mismatches ... OK
* checking Rd \usage sections ... OK
* checking Rd contents ... OK
* checking for unstated dependencies in examples ... OK
* checking contents of ‘data’ directory ... OK
* checking data for non-ASCII characters ... OK
* checking data for ASCII and uncompressed saves ... OK
* checking files in ‘vignettes’ ... OK
* checking examples ... OK
Examples with CPU (user + system) or elapsed time > 5s
                          user system elapsed
DriverNet-package       31.984  0.072  32.127
computeDrivers          17.952  0.044  18.013
computeRandomizedResult 12.340  0.016  12.375
* checking for unstated dependencies in vignettes ... OK
* checking package vignettes in ‘inst/doc’ ... OK
* checking running R code from vignettes ... SKIPPED
* checking re-building of vignette outputs ... SKIPPED
* checking PDF version of manual ... OK
* DONE
Status: 2 NOTEs
See
  ‘/home/biocbuild/bbs-3.12-bioc/meat/DriverNet.Rcheck/00check.log’
for details.
DriverNet.Rcheck/00install.out
############################################################################## ############################################################################## ### ### Running command: ### ### /home/biocbuild/bbs-3.12-bioc/R/bin/R CMD INSTALL DriverNet ### ############################################################################## ############################################################################## * installing to library ‘/home/biocbuild/bbs-3.12-bioc/R/library’ * installing *source* package ‘DriverNet’ ... ** using staged installation ** R ** data ** byte-compile and prepare package for lazy loading ** help *** installing help indices ** building package indices ** installing vignettes ** testing if installed package can be loaded from temporary location ** testing if installed package can be loaded from final location ** testing if installed package keeps a record of temporary installation path * DONE (DriverNet)
DriverNet.Rcheck/DriverNet-Ex.timings
| name | user | system | elapsed | |
| DriverNet-package | 31.984 | 0.072 | 32.127 | |
| DriverNetResult-class | 0.024 | 0.012 | 0.036 | |
| actualEvents | 0.060 | 0.048 | 0.108 | |
| computeDrivers | 17.952 | 0.044 | 18.013 | |
| computeRandomizedResult | 12.340 | 0.016 | 12.375 | |
| drivers | 0.044 | 0.036 | 0.084 | |
| getPatientOutlierMatrix | 0.128 | 0.004 | 0.136 | |
| preprocessMatrices | 0.172 | 0.004 | 0.180 | |
| resultSummary | 0.204 | 0.016 | 0.223 | |
| sampleDriversList | 0.024 | 0.004 | 0.028 | |
| sampleGeneNames | 0.020 | 0.000 | 0.021 | |
| sampleInfluenceGraph | 0.152 | 0.000 | 0.153 | |
| samplePatientExpressionMatrix | 0.100 | 0.000 | 0.102 | |
| samplePatientMutationMatrix | 0.012 | 0.000 | 0.011 | |
| samplePatientOutlierMatrix | 0.008 | 0.004 | 0.012 | |
| sampleRandomDriversResult | 0.004 | 0.000 | 0.001 | |
| totalEvents | 0.008 | 0.028 | 0.037 | |