| Back to Multiple platform build/check report for BioC 3.12 | 
  | 
This page was generated on 2021-05-06 12:30:30 -0400 (Thu, 06 May 2021).
| 
To the developers/maintainers of the CountClust package: Please make sure to use the following settings in order to reproduce any error or warning you see on this page.  | 
| Package 387/1974 | Hostname | OS / Arch | INSTALL | BUILD | CHECK | BUILD BIN | ||||||||
| CountClust 1.18.0  (landing page) Kushal Dey 
  | malbec1 | Linux (Ubuntu 18.04.5 LTS) / x86_64 | OK | OK | OK | |||||||||
| tokay1 | Windows Server 2012 R2 Standard / x64 | OK | OK | OK | OK | |||||||||
| merida1 | macOS 10.14.6 Mojave / x86_64 | OK | OK | OK | OK | |||||||||
| Package: CountClust | 
| Version: 1.18.0 | 
| Command: chmod a+r CountClust -R && C:\Users\biocbuild\bbs-3.12-bioc\R\bin\R.exe CMD build --keep-empty-dirs --no-resave-data CountClust | 
| StartedAt: 2021-05-05 20:23:47 -0400 (Wed, 05 May 2021) | 
| EndedAt: 2021-05-05 20:24:48 -0400 (Wed, 05 May 2021) | 
| EllapsedTime: 60.6 seconds | 
| RetCode: 0 | 
| Status: OK | 
| PackageFile: CountClust_1.18.0.tar.gz | 
| PackageFileSize: 5.836 MiB | 
############################################################################## ############################################################################## ### ### Running command: ### ### chmod a+r CountClust -R && C:\Users\biocbuild\bbs-3.12-bioc\R\bin\R.exe CMD build --keep-empty-dirs --no-resave-data CountClust ### ############################################################################## ############################################################################## * checking for file 'CountClust/DESCRIPTION' ... OK * preparing 'CountClust': * checking DESCRIPTION meta-information ... OK * installing the package to build vignettes * creating vignettes ... OK * checking for LF line-endings in source and make files and shell scripts * checking for empty or unneeded directories * building 'CountClust_1.18.0.tar.gz'