| Back to Multiple platform build/check report for BioC 3.12 |
|
This page was generated on 2021-05-06 12:34:31 -0400 (Thu, 06 May 2021).
|
To the developers/maintainers of the Chicago package: Please make sure to use the following settings in order to reproduce any error or warning you see on this page. |
| Package 279/1974 | Hostname | OS / Arch | INSTALL | BUILD | CHECK | BUILD BIN | ||||||||
| Chicago 1.18.0 (landing page) Mikhail Spivakov
| malbec1 | Linux (Ubuntu 18.04.5 LTS) / x86_64 | OK | OK | OK | |||||||||
| tokay1 | Windows Server 2012 R2 Standard / x64 | OK | OK | OK | OK | |||||||||
| merida1 | macOS 10.14.6 Mojave / x86_64 | OK | OK | OK | OK | |||||||||
| Package: Chicago |
| Version: 1.18.0 |
| Command: /Library/Frameworks/R.framework/Versions/Current/Resources/bin/R CMD check --install=check:Chicago.install-out.txt --library=/Library/Frameworks/R.framework/Versions/Current/Resources/library --no-vignettes --timings Chicago_1.18.0.tar.gz |
| StartedAt: 2021-05-06 00:09:07 -0400 (Thu, 06 May 2021) |
| EndedAt: 2021-05-06 00:11:38 -0400 (Thu, 06 May 2021) |
| EllapsedTime: 150.8 seconds |
| RetCode: 0 |
| Status: OK |
| CheckDir: Chicago.Rcheck |
| Warnings: 0 |
##############################################################################
##############################################################################
###
### Running command:
###
### /Library/Frameworks/R.framework/Versions/Current/Resources/bin/R CMD check --install=check:Chicago.install-out.txt --library=/Library/Frameworks/R.framework/Versions/Current/Resources/library --no-vignettes --timings Chicago_1.18.0.tar.gz
###
##############################################################################
##############################################################################
* using log directory ‘/Users/biocbuild/bbs-3.12-bioc/meat/Chicago.Rcheck’
* using R version 4.0.5 (2021-03-31)
* using platform: x86_64-apple-darwin17.0 (64-bit)
* using session charset: UTF-8
* using option ‘--no-vignettes’
* checking for file ‘Chicago/DESCRIPTION’ ... OK
* checking extension type ... Package
* this is package ‘Chicago’ version ‘1.18.0’
* checking package namespace information ... OK
* checking package dependencies ... OK
* checking if this is a source package ... OK
* checking if there is a namespace ... OK
* checking for hidden files and directories ... OK
* checking for portable file names ... OK
* checking for sufficient/correct file permissions ... OK
* checking whether package ‘Chicago’ can be installed ... OK
* checking installed package size ... OK
* checking package directory ... OK
* checking ‘build’ directory ... OK
* checking DESCRIPTION meta-information ... OK
* checking top-level files ... OK
* checking for left-over files ... OK
* checking index information ... OK
* checking package subdirectories ... OK
* checking R files for non-ASCII characters ... OK
* checking R files for syntax errors ... OK
* checking whether the package can be loaded ... OK
* checking whether the package can be loaded with stated dependencies ... OK
* checking whether the package can be unloaded cleanly ... OK
* checking whether the namespace can be loaded with stated dependencies ... OK
* checking whether the namespace can be unloaded cleanly ... OK
* checking dependencies in R code ... OK
* checking S3 generic/method consistency ... OK
* checking replacement functions ... OK
* checking foreign function calls ... OK
* checking R code for possible problems ... OK
* checking Rd files ... OK
* checking Rd metadata ... OK
* checking Rd cross-references ... OK
* checking for missing documentation entries ... OK
* checking for code/documentation mismatches ... OK
* checking Rd \usage sections ... OK
* checking Rd contents ... OK
* checking for unstated dependencies in examples ... OK
* checking contents of ‘data’ directory ... OK
* checking data for non-ASCII characters ... OK
* checking data for ASCII and uncompressed saves ... OK
* checking files in ‘vignettes’ ... OK
* checking examples ... OK
Examples with CPU (user + system) or elapsed time > 5s
user system elapsed
normaliseOtherEnds 15.457 1.761 17.333
exportResults 16.591 0.503 18.303
* checking for unstated dependencies in ‘tests’ ... OK
* checking tests ...
Running ‘testthat.R’
OK
* checking for unstated dependencies in vignettes ... OK
* checking package vignettes in ‘inst/doc’ ... OK
* checking running R code from vignettes ... SKIPPED
* checking re-building of vignette outputs ... SKIPPED
* checking PDF version of manual ... OK
* DONE
Status: OK
Chicago.Rcheck/00install.out
############################################################################## ############################################################################## ### ### Running command: ### ### /Library/Frameworks/R.framework/Versions/Current/Resources/bin/R CMD INSTALL Chicago ### ############################################################################## ############################################################################## * installing to library ‘/Library/Frameworks/R.framework/Versions/4.0/Resources/library’ * installing *source* package ‘Chicago’ ... ** using staged installation ** R ** data ** inst ** byte-compile and prepare package for lazy loading ** help *** installing help indices ** building package indices ** installing vignettes ** testing if installed package can be loaded from temporary location ** testing if installed package can be loaded from final location ** testing if installed package keeps a record of temporary installation path * DONE (Chicago)
Chicago.Rcheck/tests/testthat.Rout
R version 4.0.5 (2021-03-31) -- "Shake and Throw"
Copyright (C) 2021 The R Foundation for Statistical Computing
Platform: x86_64-apple-darwin17.0 (64-bit)
R is free software and comes with ABSOLUTELY NO WARRANTY.
You are welcome to redistribute it under certain conditions.
Type 'license()' or 'licence()' for distribution details.
R is a collaborative project with many contributors.
Type 'contributors()' for more information and
'citation()' on how to cite R or R packages in publications.
Type 'demo()' for some demos, 'help()' for on-line help, or
'help.start()' for an HTML browser interface to help.
Type 'q()' to quit R.
> library(testthat)
> library(Chicago)
Loading required package: data.table
Welcome to CHiCAGO - version 1.18.0
If you are new to CHiCAGO, please consider reading the vignette through the command: vignette("Chicago").
NOTE: Default values of tlb.minProxOEPerBin and tlb.minProxB2BPerBin changed as of Version 1.1.5. No action is required unless you specified non-default values, or wish to re-run the pipeline on old chicagoData objects. See news(package="Chicago")
>
> test_check("Chicago")
Read 4 items
Read 4 items
Read 4 items
[ FAIL 0 | WARN 0 | SKIP 0 | PASS 11 ]
>
> proc.time()
user system elapsed
4.374 0.305 4.669
Chicago.Rcheck/Chicago-Ex.timings
| name | user | system | elapsed | |
| cdUnitTest | 0.087 | 0.008 | 0.098 | |
| chicagoData | 0.001 | 0.000 | 0.001 | |
| chicagoPipeline | 0.060 | 0.004 | 0.066 | |
| copyCD | 0.006 | 0.001 | 0.008 | |
| defaultSettings | 0.000 | 0.001 | 0.001 | |
| estimateBrownianComponent | 0.247 | 0.016 | 0.264 | |
| estimateDistFun | 0.031 | 0.005 | 0.037 | |
| estimateTechnicalNoise | 0.116 | 0.007 | 0.123 | |
| exportResults | 16.591 | 0.503 | 18.303 | |
| getPvals | 0.053 | 0.002 | 0.056 | |
| getScores | 0.072 | 0.006 | 0.078 | |
| getSkOnly | 0.235 | 0.009 | 0.246 | |
| mergeSamples | 0.150 | 0.006 | 0.156 | |
| modifySettings | 0.076 | 0.003 | 0.080 | |
| normaliseBaits | 0.122 | 0.005 | 0.127 | |
| normaliseOtherEnds | 15.457 | 1.761 | 17.333 | |
| overlapFragWithFeatures | 0.100 | 0.015 | 0.117 | |
| peakEnrichment4Features | 1.328 | 0.167 | 1.497 | |
| plotBaits | 0.227 | 0.033 | 0.261 | |
| plotDistFun | 0.065 | 0.003 | 0.068 | |
| readAndMerge | 0.128 | 0.018 | 0.146 | |
| readSample | 0.059 | 0.009 | 0.069 | |
| setExperiment | 0.047 | 0.008 | 0.054 | |