| Back to Multiple platform build/check report for BioC 3.12 |
|
This page was generated on 2021-05-06 12:30:22 -0400 (Thu, 06 May 2021).
|
To the developers/maintainers of the CMA package: Please make sure to use the following settings in order to reproduce any error or warning you see on this page. |
| Package 328/1974 | Hostname | OS / Arch | INSTALL | BUILD | CHECK | BUILD BIN | ||||||||
| CMA 1.48.0 (landing page) Roman Hornung
| malbec1 | Linux (Ubuntu 18.04.5 LTS) / x86_64 | OK | OK | OK | |||||||||
| tokay1 | Windows Server 2012 R2 Standard / x64 | OK | OK | OK | OK | |||||||||
| merida1 | macOS 10.14.6 Mojave / x86_64 | OK | OK | OK | OK | |||||||||
| Package: CMA |
| Version: 1.48.0 |
| Command: C:\cygwin\bin\curl.exe -O http://172.29.0.3/BBS/3.12/bioc/src/contrib/CMA_1.48.0.tar.gz && rm -rf CMA.buildbin-libdir && mkdir CMA.buildbin-libdir && C:\Users\biocbuild\bbs-3.12-bioc\R\bin\R.exe CMD INSTALL --merge-multiarch --build --library=CMA.buildbin-libdir CMA_1.48.0.tar.gz && C:\Users\biocbuild\bbs-3.12-bioc\R\bin\R.exe CMD INSTALL CMA_1.48.0.zip && rm CMA_1.48.0.tar.gz CMA_1.48.0.zip |
| StartedAt: 2021-05-05 16:58:40 -0400 (Wed, 05 May 2021) |
| EndedAt: 2021-05-05 17:00:35 -0400 (Wed, 05 May 2021) |
| EllapsedTime: 115.4 seconds |
| RetCode: 0 |
| Status: OK |
##############################################################################
##############################################################################
###
### Running command:
###
### C:\cygwin\bin\curl.exe -O http://172.29.0.3/BBS/3.12/bioc/src/contrib/CMA_1.48.0.tar.gz && rm -rf CMA.buildbin-libdir && mkdir CMA.buildbin-libdir && C:\Users\biocbuild\bbs-3.12-bioc\R\bin\R.exe CMD INSTALL --merge-multiarch --build --library=CMA.buildbin-libdir CMA_1.48.0.tar.gz && C:\Users\biocbuild\bbs-3.12-bioc\R\bin\R.exe CMD INSTALL CMA_1.48.0.zip && rm CMA_1.48.0.tar.gz CMA_1.48.0.zip
###
##############################################################################
##############################################################################
% Total % Received % Xferd Average Speed Time Time Time Current
Dload Upload Total Spent Left Speed
0 0 0 0 0 0 0 0 --:--:-- --:--:-- --:--:-- 0
100 817k 100 817k 0 0 36.4M 0 --:--:-- --:--:-- --:--:-- 38.0M
install for i386
* installing *source* package 'CMA' ...
** using staged installation
** R
** data
** byte-compile and prepare package for lazy loading
** help
*** installing help indices
converting help for package 'CMA'
finding HTML links ... done
CMA-package html
ElasticNetCMA-methods html
ElasticNetCMA html
GeneSelection-methods html
GeneSelection html
GenerateLearningsets html
LassoCMA-methods html
LassoCMA html
Planarplot-methods html
Planarplot html
best html
boxplot html
classification-methods html
classification html
cloutput-class html
clvarseloutput-class html
compBoostCMA-methods html
compBoostCMA html
compare-methods html
compare html
dldaCMA-methods html
dldaCMA html
evaloutput-class html
evaluation-methods html
evaluation html
fdaCMA-methods html
fdaCMA html
filter html
flexdaCMA-methods html
flexdaCMA html
ftable html
gbmCMA-methods html
gbmCMA html
genesel-class html
golub html
internals html
join-methods html
join html
khan html
knnCMA-methods html
knnCMA html
ldaCMA-methods html
ldaCMA html
learningsets-class html
nnetCMA-methods html
nnetCMA html
obsinfo html
pknnCMA-methods html
pknnCMA html
plot,cloutput-method html
plot,genesel-method html
plot,tuningresult-method html
plrCMA-methods html
plrCMA html
pls_ldaCMA-methods html
pls_ldaCMA html
pls_lrCMA-methods html
pls_lrCMA html
pls_rfCMA-methods html
pls_rfCMA html
pnnCMA-methods html
pnnCMA html
prediction-methods html
prediction html
predoutput-class html
qdaCMA-methods html
qdaCMA html
rfCMA-methods html
rfCMA html
roc html
scdaCMA-methods html
scdaCMA html
shrinkldaCMA-methods html
shrinkldaCMA html
summary html
svmCMA-methods html
svmCMA html
toplist html
tune-methods html
tune html
tuningresult-class html
varseloutput-class html
weighted_mcr-methods html
weighted_mcr html
wmc-methods html
wmc html
wmcr_result-class html
** building package indices
** installing vignettes
** testing if installed package can be loaded from temporary location
** testing if installed package can be loaded from final location
** testing if installed package keeps a record of temporary installation path
install for x64
* installing *source* package 'CMA' ...
** testing if installed package can be loaded
* MD5 sums
packaged installation of 'CMA' as CMA_1.48.0.zip
* DONE (CMA)
* installing to library 'C:/Users/biocbuild/bbs-3.12-bioc/R/library'
package 'CMA' successfully unpacked and MD5 sums checked