| Back to Multiple platform build/check report for BioC 3.12 | 
  | 
This page was generated on 2021-05-06 12:30:01 -0400 (Thu, 06 May 2021).
| 
To the developers/maintainers of the BiocSet package: Please make sure to use the following settings in order to reproduce any error or warning you see on this page.  | 
| Package 168/1974 | Hostname | OS / Arch | INSTALL | BUILD | CHECK | BUILD BIN | ||||||||
| BiocSet 1.4.0  (landing page) Kayla Morrell 
  | malbec1 | Linux (Ubuntu 18.04.5 LTS) / x86_64 | OK | OK | OK | |||||||||
| tokay1 | Windows Server 2012 R2 Standard / x64 | OK | OK | OK | OK | |||||||||
| merida1 | macOS 10.14.6 Mojave / x86_64 | OK | OK | OK | OK | |||||||||
| Package: BiocSet | 
| Version: 1.4.0 | 
| Command: rm -rf BiocSet.buildbin-libdir && mkdir BiocSet.buildbin-libdir && C:\Users\biocbuild\bbs-3.12-bioc\R\bin\R.exe CMD INSTALL --merge-multiarch --build --library=BiocSet.buildbin-libdir BiocSet_1.4.0.tar.gz | 
| StartedAt: 2021-05-06 08:33:09 -0400 (Thu, 06 May 2021) | 
| EndedAt: 2021-05-06 08:33:56 -0400 (Thu, 06 May 2021) | 
| EllapsedTime: 46.4 seconds | 
| RetCode: 0 | 
| Status: OK | 
| PackageFile: BiocSet_1.4.0.zip | 
| PackageFileSize: 798.8 KiB | 
##############################################################################
##############################################################################
###
### Running command:
###
###   rm -rf BiocSet.buildbin-libdir && mkdir BiocSet.buildbin-libdir && C:\Users\biocbuild\bbs-3.12-bioc\R\bin\R.exe CMD INSTALL --merge-multiarch --build --library=BiocSet.buildbin-libdir BiocSet_1.4.0.tar.gz
###
##############################################################################
##############################################################################
install for i386
* installing *source* package 'BiocSet' ...
** using staged installation
** R
** inst
** byte-compile and prepare package for lazy loading
** help
*** installing help indices
  converting help for package 'BiocSet'
    finding HTML links ... done
    BiocSet-class                           html  
    BiocSet-methods                         html  
    OBOSet-class                            html  
    coerce                                  html  
    element_funs                            html  
    elementset_funs                         html  
    genesetcollection                       html  
    import                                  html  
    intersect_single                        html  
    mapping_element                         html  
    mapping_set                             html  
    obo_relations                           html  
    set_funs                                html  
    tblelement                              html  
    tblelementset                           html  
    tblset                                  html  
    union_single                            html  
    url_ref                                 html  
** building package indices
** installing vignettes
** testing if installed package can be loaded from temporary location
** testing if installed package can be loaded from final location
** testing if installed package keeps a record of temporary installation path
install for x64
* installing *source* package 'BiocSet' ...
** testing if installed package can be loaded
* MD5 sums
packaged installation of 'BiocSet' as BiocSet_1.4.0.zip
* DONE (BiocSet)