| Back to Multiple platform build/check report for BioC 3.12 | 
  | 
This page was generated on 2021-05-06 12:30:01 -0400 (Thu, 06 May 2021).
| 
To the developers/maintainers of the BiocGenerics package: Please make sure to use the following settings in order to reproduce any error or warning you see on this page.  | 
| Package 160/1974 | Hostname | OS / Arch | INSTALL | BUILD | CHECK | BUILD BIN | ||||||||
| BiocGenerics 0.36.1  (landing page) Bioconductor Package Maintainer 
  | malbec1 | Linux (Ubuntu 18.04.5 LTS) / x86_64 | OK | OK | WARNINGS | |||||||||
| tokay1 | Windows Server 2012 R2 Standard / x64 | OK | OK | WARNINGS | OK | |||||||||
| merida1 | macOS 10.14.6 Mojave / x86_64 | OK | OK | WARNINGS | OK | |||||||||
| Package: BiocGenerics | 
| Version: 0.36.1 | 
| Command: chmod a+r BiocGenerics -R && C:\Users\biocbuild\bbs-3.12-bioc\R\bin\R.exe CMD build --keep-empty-dirs --no-resave-data BiocGenerics | 
| StartedAt: 2021-05-05 19:52:44 -0400 (Wed, 05 May 2021) | 
| EndedAt: 2021-05-05 19:53:32 -0400 (Wed, 05 May 2021) | 
| EllapsedTime: 47.9 seconds | 
| RetCode: 0 | 
| Status: OK | 
| PackageFile: BiocGenerics_0.36.1.tar.gz | 
| PackageFileSize: 46.46 KiB | 
############################################################################## ############################################################################## ### ### Running command: ### ### chmod a+r BiocGenerics -R && C:\Users\biocbuild\bbs-3.12-bioc\R\bin\R.exe CMD build --keep-empty-dirs --no-resave-data BiocGenerics ### ############################################################################## ############################################################################## * checking for file 'BiocGenerics/DESCRIPTION' ... OK * preparing 'BiocGenerics': * checking DESCRIPTION meta-information ... OK * checking for LF line-endings in source and make files and shell scripts * checking for empty or unneeded directories * building 'BiocGenerics_0.36.1.tar.gz'