| Back to Multiple platform build/check report for BioC 3.12 |
|
This page was generated on 2021-05-06 12:34:16 -0400 (Thu, 06 May 2021).
|
To the developers/maintainers of the AffiXcan package: Please make sure to use the following settings in order to reproduce any error or warning you see on this page. |
| Package 22/1974 | Hostname | OS / Arch | INSTALL | BUILD | CHECK | BUILD BIN | ||||||||
| AffiXcan 1.8.0 (landing page) Alessandro Lussana
| malbec1 | Linux (Ubuntu 18.04.5 LTS) / x86_64 | OK | OK | OK | |||||||||
| tokay1 | Windows Server 2012 R2 Standard / x64 | OK | OK | OK | OK | |||||||||
| merida1 | macOS 10.14.6 Mojave / x86_64 | OK | OK | OK | OK | |||||||||
| Package: AffiXcan |
| Version: 1.8.0 |
| Command: /Library/Frameworks/R.framework/Versions/Current/Resources/bin/R CMD check --install=check:AffiXcan.install-out.txt --library=/Library/Frameworks/R.framework/Versions/Current/Resources/library --no-vignettes --timings AffiXcan_1.8.0.tar.gz |
| StartedAt: 2021-05-05 23:04:23 -0400 (Wed, 05 May 2021) |
| EndedAt: 2021-05-05 23:07:45 -0400 (Wed, 05 May 2021) |
| EllapsedTime: 201.4 seconds |
| RetCode: 0 |
| Status: OK |
| CheckDir: AffiXcan.Rcheck |
| Warnings: 0 |
##############################################################################
##############################################################################
###
### Running command:
###
### /Library/Frameworks/R.framework/Versions/Current/Resources/bin/R CMD check --install=check:AffiXcan.install-out.txt --library=/Library/Frameworks/R.framework/Versions/Current/Resources/library --no-vignettes --timings AffiXcan_1.8.0.tar.gz
###
##############################################################################
##############################################################################
* using log directory ‘/Users/biocbuild/bbs-3.12-bioc/meat/AffiXcan.Rcheck’
* using R version 4.0.5 (2021-03-31)
* using platform: x86_64-apple-darwin17.0 (64-bit)
* using session charset: UTF-8
* using option ‘--no-vignettes’
* checking for file ‘AffiXcan/DESCRIPTION’ ... OK
* this is package ‘AffiXcan’ version ‘1.8.0’
* package encoding: UTF-8
* checking package namespace information ... OK
* checking package dependencies ... OK
* checking if this is a source package ... OK
* checking if there is a namespace ... OK
* checking for hidden files and directories ... OK
* checking for portable file names ... OK
* checking for sufficient/correct file permissions ... OK
* checking whether package ‘AffiXcan’ can be installed ... OK
* checking installed package size ... OK
* checking package directory ... OK
* checking ‘build’ directory ... OK
* checking DESCRIPTION meta-information ... OK
* checking top-level files ... OK
* checking for left-over files ... OK
* checking index information ... OK
* checking package subdirectories ... OK
* checking R files for non-ASCII characters ... OK
* checking R files for syntax errors ... OK
* checking whether the package can be loaded ... OK
* checking whether the package can be loaded with stated dependencies ... OK
* checking whether the package can be unloaded cleanly ... OK
* checking whether the namespace can be loaded with stated dependencies ... OK
* checking whether the namespace can be unloaded cleanly ... OK
* checking dependencies in R code ... OK
* checking S3 generic/method consistency ... OK
* checking replacement functions ... OK
* checking foreign function calls ... OK
* checking R code for possible problems ... NOTE
computeBs: no visible binding for global variable ‘V1’
computeRSquared: no visible binding for global variable ‘exprMatrix’
Undefined global functions or variables:
V1 exprMatrix
* checking Rd files ... OK
* checking Rd metadata ... OK
* checking Rd cross-references ... OK
* checking for missing documentation entries ... OK
* checking for code/documentation mismatches ... OK
* checking Rd \usage sections ... OK
* checking Rd contents ... OK
* checking for unstated dependencies in examples ... OK
* checking contents of ‘data’ directory ... OK
* checking data for non-ASCII characters ... OK
* checking data for ASCII and uncompressed saves ... OK
* checking files in ‘vignettes’ ... OK
* checking examples ... OK
Examples with CPU (user + system) or elapsed time > 5s
user system elapsed
AffiXcan-package 4.506 1.383 3.612
affiXcanImpute 3.474 1.725 2.511
* checking for unstated dependencies in vignettes ... OK
* checking package vignettes in ‘inst/doc’ ... OK
* checking running R code from vignettes ... SKIPPED
* checking re-building of vignette outputs ... SKIPPED
* checking PDF version of manual ... OK
* DONE
Status: 1 NOTE
See
‘/Users/biocbuild/bbs-3.12-bioc/meat/AffiXcan.Rcheck/00check.log’
for details.
AffiXcan.Rcheck/00install.out
############################################################################## ############################################################################## ### ### Running command: ### ### /Library/Frameworks/R.framework/Versions/Current/Resources/bin/R CMD INSTALL AffiXcan ### ############################################################################## ############################################################################## * installing to library ‘/Library/Frameworks/R.framework/Versions/4.0/Resources/library’ * installing *source* package ‘AffiXcan’ ... ** using staged installation ** R ** data ** inst ** byte-compile and prepare package for lazy loading ** help *** installing help indices ** building package indices ** installing vignettes ** testing if installed package can be loaded from temporary location ** testing if installed package can be loaded from final location ** testing if installed package keeps a record of temporary installation path * DONE (AffiXcan)
AffiXcan.Rcheck/AffiXcan-Ex.timings
| name | user | system | elapsed | |
| AffiXcan-package | 4.506 | 1.383 | 3.612 | |
| affiXcanBs | 0.003 | 0.000 | 0.004 | |
| affiXcanGReX | 0.002 | 0.001 | 0.002 | |
| affiXcanImpute | 3.474 | 1.725 | 2.511 | |
| affiXcanPca | 0.003 | 0.001 | 0.004 | |
| affiXcanPcs | 0.003 | 0.001 | 0.004 | |
| affiXcanTrain | 0.002 | 0.001 | 0.002 | |
| assoc2list | 0.001 | 0.000 | 0.001 | |
| computeBs | 0.012 | 0.001 | 0.013 | |
| computeCorrelation | 0.005 | 0.000 | 0.005 | |
| computeExpr | 0.005 | 0.001 | 0.006 | |
| computePca | 0.005 | 0.001 | 0.006 | |
| computePcs | 0.002 | 0.000 | 0.003 | |
| computeRSquared | 0.003 | 0.001 | 0.003 | |
| exprMatrix | 0.012 | 0.004 | 0.016 | |
| overlookRegions | 0 | 0 | 0 | |
| regionAssoc | 0.006 | 0.004 | 0.009 | |
| subsetKFold | 0.000 | 0.000 | 0.001 | |
| trainingCovariates | 0.003 | 0.002 | 0.005 | |