| Back to Multiple platform build/check report for BioC 3.12 |
|
This page was generated on 2021-05-06 12:29:56 -0400 (Thu, 06 May 2021).
|
To the developers/maintainers of the ASpediaFI package: Please make sure to use the following settings in order to reproduce any error or warning you see on this page. |
| Package 94/1974 | Hostname | OS / Arch | INSTALL | BUILD | CHECK | BUILD BIN | ||||||||
| ASpediaFI 1.4.0 (landing page) Doyeong Yu
| malbec1 | Linux (Ubuntu 18.04.5 LTS) / x86_64 | OK | OK | OK | |||||||||
| tokay1 | Windows Server 2012 R2 Standard / x64 | OK | OK | OK | OK | |||||||||
| merida1 | macOS 10.14.6 Mojave / x86_64 | OK | OK | OK | OK | |||||||||
| Package: ASpediaFI |
| Version: 1.4.0 |
| Command: rm -rf ASpediaFI.buildbin-libdir && mkdir ASpediaFI.buildbin-libdir && C:\Users\biocbuild\bbs-3.12-bioc\R\bin\R.exe CMD INSTALL --merge-multiarch --build --library=ASpediaFI.buildbin-libdir ASpediaFI_1.4.0.tar.gz |
| StartedAt: 2021-05-06 08:27:57 -0400 (Thu, 06 May 2021) |
| EndedAt: 2021-05-06 08:29:45 -0400 (Thu, 06 May 2021) |
| EllapsedTime: 107.9 seconds |
| RetCode: 0 |
| Status: OK |
| PackageFile: ASpediaFI_1.4.0.zip |
| PackageFileSize: 3.363 MiB |
##############################################################################
##############################################################################
###
### Running command:
###
### rm -rf ASpediaFI.buildbin-libdir && mkdir ASpediaFI.buildbin-libdir && C:\Users\biocbuild\bbs-3.12-bioc\R\bin\R.exe CMD INSTALL --merge-multiarch --build --library=ASpediaFI.buildbin-libdir ASpediaFI_1.4.0.tar.gz
###
##############################################################################
##############################################################################
install for i386
* installing *source* package 'ASpediaFI' ...
** using staged installation
** R
** data
** inst
** byte-compile and prepare package for lazy loading
Creating a new generic function for 'as.table' in package 'ASpediaFI'
** help
*** installing help indices
converting help for package 'ASpediaFI'
finding HTML links ... done
ASpediaFI-accessor html
ASpediaFI-class html
GSE114922.fpkm html
GSE114922.psi html
analyzeFI html
annotateASevents html
exportNetwork html
quantifyPSI html
visualize html
** building package indices
** installing vignettes
** testing if installed package can be loaded from temporary location
** testing if installed package can be loaded from final location
** testing if installed package keeps a record of temporary installation path
install for x64
* installing *source* package 'ASpediaFI' ...
** testing if installed package can be loaded
* MD5 sums
packaged installation of 'ASpediaFI' as ASpediaFI_1.4.0.zip
* DONE (ASpediaFI)