| Back to Multiple platform build/check report for BioC 3.12 | 
  | 
This page was generated on 2021-05-06 12:34:15 -0400 (Thu, 06 May 2021).
| 
To the developers/maintainers of the ADaCGH2 package: Please make sure to use the following settings in order to reproduce any error or warning you see on this page.  | 
| Package 15/1974 | Hostname | OS / Arch | INSTALL | BUILD | CHECK | BUILD BIN | ||||||||
| ADaCGH2 2.30.0  (landing page) Ramon Diaz-Uriarte 
  | malbec1 | Linux (Ubuntu 18.04.5 LTS) / x86_64 | OK | OK | OK | |||||||||
| tokay1 | Windows Server 2012 R2 Standard / x64 | OK | OK | OK | OK | |||||||||
| merida1 | macOS 10.14.6 Mojave / x86_64 | OK | OK | OK | OK | |||||||||
| Package: ADaCGH2 | 
| Version: 2.30.0 | 
| Command: rm -rf ADaCGH2.buildbin-libdir && mkdir ADaCGH2.buildbin-libdir && /Users/biocbuild/BBS/utils/build-universal.sh ADaCGH2_2.30.0.tar.gz /Library/Frameworks/R.framework/Versions/Current/Resources/bin/R ADaCGH2.buildbin-libdir | 
| StartedAt: 2021-05-06 07:49:40 -0400 (Thu, 06 May 2021) | 
| EndedAt: 2021-05-06 07:50:19 -0400 (Thu, 06 May 2021) | 
| EllapsedTime: 39.4 seconds | 
| RetCode: 0 | 
| Status: OK | 
| PackageFile: ADaCGH2_2.30.0.tgz | 
| PackageFileSize: 1.153 MiB | 
##############################################################################
##############################################################################
###
### Running command:
###
###   rm -rf ADaCGH2.buildbin-libdir && mkdir ADaCGH2.buildbin-libdir && /Users/biocbuild/BBS/utils/build-universal.sh ADaCGH2_2.30.0.tar.gz /Library/Frameworks/R.framework/Versions/Current/Resources/bin/R ADaCGH2.buildbin-libdir
###
##############################################################################
##############################################################################
>>>>>>> 
>>>>>>> INSTALLATION WITH 'R CMD INSTALL --preclean --no-multiarch --library=ADaCGH2.buildbin-libdir ADaCGH2_2.30.0.tar.gz'
>>>>>>> 
* installing *source* package ‘ADaCGH2’ ...
** using staged installation
** libs
clang -mmacosx-version-min=10.13 -I"/Library/Frameworks/R.framework/Resources/include" -DNDEBUG   -I/usr/local/include   -fPIC  -Wall -g -O2  -c init.c -o init.o
clang -mmacosx-version-min=10.13 -I"/Library/Frameworks/R.framework/Resources/include" -DNDEBUG   -I/usr/local/include   -fPIC  -Wall -g -O2  -c r_haarseg.c -o r_haarseg.o
r_haarseg.c:65:12: warning: unused variable 'totalNorm' [-Wunused-variable]
    double totalNorm;
           ^
r_haarseg.c:152:8: warning: '/*' within block comment [-Wcomment]
                                         }/* for j */
                                          ^
r_haarseg.c:176:8: warning: '/*' within block comment [-Wcomment]
                                         }/* for j */
                                          ^
r_haarseg.c:128:9: warning: unused variable 'j' [-Wunused-variable]
         int k,j;
               ^
4 warnings generated.
clang -mmacosx-version-min=10.13 -dynamiclib -Wl,-headerpad_max_install_names -undefined dynamic_lookup -single_module -multiply_defined suppress -L/Library/Frameworks/R.framework/Resources/lib -L/usr/local/lib -o ADaCGH2.so init.o r_haarseg.o -F/Library/Frameworks/R.framework/.. -framework R -Wl,-framework -Wl,CoreFoundation
installing to /Users/biocbuild/bbs-3.12-bioc/meat/ADaCGH2.buildbin-libdir/00LOCK-ADaCGH2/00new/ADaCGH2/libs
** R
** data
** inst
** byte-compile and prepare package for lazy loading
** help
*** installing help indices
** building package indices
** installing vignettes
** testing if installed package can be loaded from temporary location
** checking absolute paths in shared objects and dynamic libraries
** testing if installed package can be loaded from final location
** testing if installed package keeps a record of temporary installation path
* DONE (ADaCGH2)
>>>>>>> 
>>>>>>> FIXING LINKS FOR ADaCGH2.buildbin-libdir/ADaCGH2/libs/ADaCGH2.so
>>>>>>> 
install_name_tool -change "/usr/local/lib/libgcc_s.1.dylib" "/Library/Frameworks/R.framework/Versions/4.0/Resources/lib/libgcc_s.1.dylib" "ADaCGH2.buildbin-libdir/ADaCGH2/libs/ADaCGH2.so"
install_name_tool -change "/usr/local/lib/libgfortran.5.dylib" "/Library/Frameworks/R.framework/Versions/4.0/Resources/lib/libgfortran.5.dylib" "ADaCGH2.buildbin-libdir/ADaCGH2/libs/ADaCGH2.so"
install_name_tool -change "/usr/local/lib/libquadmath.0.dylib" "/Library/Frameworks/R.framework/Versions/4.0/Resources/lib/libquadmath.0.dylib" "ADaCGH2.buildbin-libdir/ADaCGH2/libs/ADaCGH2.so"