| Back to Long Tests report for BioC 3.11 |
This page was generated on 2020-01-11 19:30:02 -0500 (Sat, 11 Jan 2020).
| SUMMARY | OS / Arch | CHECK | |||||
| malbec2 | Linux (Ubuntu 18.04.3 LTS) / x86_64 |
| |||||
| tokay2 | Windows Server 2012 R2 Standard / x64 |
| |||||
| [celaya2] | OS X 10.11.6 El Capitan / x86_64 |
| |||||
| Package | Maintainer | CHECK | |||||
| 1/4 | beachmat 2.3.1 | Aaron Lun | OK | ||||
| 2/4 | BiocParallel 1.21.2 | Bioconductor Package Maintainer | WARNINGS | ||||
| 3/4 | GenomicFeatures 1.39.2 | Bioconductor Package Maintainer | WARNINGS | ||||
| 4/4 | HDF5Array 1.15.2 | Hervé Pagès | ERROR | ||||