| Back to Multiple platform build/check report for BioC 3.11 |
|
This page was generated on 2020-01-16 13:49:16 -0500 (Thu, 16 Jan 2020).
| Package 1793/1818 | Hostname | OS / Arch | INSTALL | BUILD | CHECK | BUILD BIN | ||||||
| vulcan 1.9.0 Federico M. Giorgi
| malbec2 | Linux (Ubuntu 18.04.3 LTS) / x86_64 | OK | OK | OK | |||||||
| tokay2 | Windows Server 2012 R2 Standard / x64 | OK | OK | OK | NA | |||||||
| celaya2 | OS X 10.11.6 El Capitan / x86_64 | OK | OK | [ OK ] | OK |
| Package: vulcan |
| Version: 1.9.0 |
| Command: /Library/Frameworks/R.framework/Versions/Current/Resources/bin/R CMD check --install=check:vulcan.install-out.txt --library=/Library/Frameworks/R.framework/Versions/Current/Resources/library --no-vignettes --timings vulcan_1.9.0.tar.gz |
| StartedAt: 2020-01-16 09:49:11 -0500 (Thu, 16 Jan 2020) |
| EndedAt: 2020-01-16 09:59:00 -0500 (Thu, 16 Jan 2020) |
| EllapsedTime: 589.1 seconds |
| RetCode: 0 |
| Status: OK |
| CheckDir: vulcan.Rcheck |
| Warnings: 0 |
##############################################################################
##############################################################################
###
### Running command:
###
### /Library/Frameworks/R.framework/Versions/Current/Resources/bin/R CMD check --install=check:vulcan.install-out.txt --library=/Library/Frameworks/R.framework/Versions/Current/Resources/library --no-vignettes --timings vulcan_1.9.0.tar.gz
###
##############################################################################
##############################################################################
* using log directory ‘/Users/biocbuild/bbs-3.11-bioc/meat/vulcan.Rcheck’
* using R Under development (unstable) (2019-12-14 r77572)
* using platform: x86_64-apple-darwin15.6.0 (64-bit)
* using session charset: UTF-8
* using option ‘--no-vignettes’
* checking for file ‘vulcan/DESCRIPTION’ ... OK
* checking extension type ... Package
* this is package ‘vulcan’ version ‘1.9.0’
* package encoding: UTF-8
* checking package namespace information ... OK
* checking package dependencies ... NOTE
Depends: includes the non-default packages:
'ChIPpeakAnno', 'TxDb.Hsapiens.UCSC.hg19.knownGene', 'zoo',
'GenomicRanges', 'S4Vectors', 'viper', 'DiffBind', 'locfit'
Adding so many packages to the search path is excessive and importing
selectively is preferable.
* checking if this is a source package ... OK
* checking if there is a namespace ... OK
* checking for hidden files and directories ... OK
* checking for portable file names ... OK
* checking for sufficient/correct file permissions ... OK
* checking whether package ‘vulcan’ can be installed ... OK
* checking installed package size ... OK
* checking package directory ... OK
* checking ‘build’ directory ... OK
* checking DESCRIPTION meta-information ... OK
* checking top-level files ... OK
* checking for left-over files ... OK
* checking index information ... OK
* checking package subdirectories ... OK
* checking R files for non-ASCII characters ... OK
* checking R files for syntax errors ... OK
* checking whether the package can be loaded ... OK
* checking whether the package can be loaded with stated dependencies ... OK
* checking whether the package can be unloaded cleanly ... OK
* checking whether the namespace can be loaded with stated dependencies ... OK
* checking whether the namespace can be unloaded cleanly ... OK
* checking dependencies in R code ... OK
* checking S3 generic/method consistency ... OK
* checking replacement functions ... OK
* checking foreign function calls ... OK
* checking R code for possible problems ... OK
* checking Rd files ... OK
* checking Rd metadata ... OK
* checking Rd cross-references ... OK
* checking for missing documentation entries ... OK
* checking for code/documentation mismatches ... OK
* checking Rd \usage sections ... OK
* checking Rd contents ... OK
* checking for unstated dependencies in examples ... OK
* checking sizes of PDF files under ‘inst/doc’ ... OK
* checking files in ‘vignettes’ ... OK
* checking examples ... OK
Examples with CPU (user + system) or elapsed time > 5s
user system elapsed
average_fragment_length 9.668 0.737 10.454
* checking for unstated dependencies in vignettes ... OK
* checking package vignettes in ‘inst/doc’ ... OK
* checking running R code from vignettes ... SKIPPED
* checking re-building of vignette outputs ... SKIPPED
* checking PDF version of manual ... OK
* DONE
Status: 1 NOTE
See
‘/Users/biocbuild/bbs-3.11-bioc/meat/vulcan.Rcheck/00check.log’
for details.
vulcan.Rcheck/00install.out
############################################################################## ############################################################################## ### ### Running command: ### ### /Library/Frameworks/R.framework/Versions/Current/Resources/bin/R CMD INSTALL vulcan ### ############################################################################## ############################################################################## * installing to library ‘/Library/Frameworks/R.framework/Versions/4.0/Resources/library’ * installing *source* package ‘vulcan’ ... ** using staged installation ** R ** inst ** byte-compile and prepare package for lazy loading ** help *** installing help indices ** building package indices ** installing vignettes ** testing if installed package can be loaded from temporary location ** testing if installed package can be loaded from final location ** testing if installed package keeps a record of temporary installation path * DONE (vulcan)
vulcan.Rcheck/vulcan-Ex.timings
| name | user | system | elapsed | |
| average_fragment_length | 9.668 | 0.737 | 10.454 | |
| corr2p | 0.003 | 0.001 | 0.003 | |
| densityauc | 0.042 | 0.011 | 0.053 | |
| dpareto | 0.005 | 0.002 | 0.007 | |
| fisherp | 0.001 | 0.000 | 0.001 | |
| gsea | 0.256 | 0.076 | 0.331 | |
| kmgformat | 0.012 | 0.003 | 0.017 | |
| null_gsea | 0.048 | 0.007 | 0.054 | |
| p2corr | 0.001 | 0.000 | 0.001 | |
| p2z | 0 | 0 | 0 | |
| pareto.fit | 0.007 | 0.002 | 0.010 | |
| plot_gsea | 0.054 | 0.007 | 0.061 | |
| ppareto | 0.005 | 0.002 | 0.007 | |
| rea | 0.005 | 0.001 | 0.006 | |
| slice | 0.001 | 0.000 | 0.001 | |
| stouffer | 0.000 | 0.000 | 0.001 | |
| textplot2 | 0.274 | 0.015 | 0.289 | |
| val2col | 0.004 | 0.000 | 0.005 | |
| vulcan | 4.702 | 0.280 | 4.986 | |
| vulcan.annotate | 1.870 | 0.132 | 2.002 | |
| vulcan.import | 0.038 | 0.003 | 0.042 | |
| vulcan.normalize | 0.000 | 0.000 | 0.001 | |
| vulcan.pathways | 2.123 | 0.120 | 2.243 | |
| wstouffer | 0 | 0 | 0 | |
| z2p | 0.001 | 0.000 | 0.000 | |