| Back to Multiple platform build/check report for BioC 3.11 |
|
This page was generated on 2020-10-17 11:57:59 -0400 (Sat, 17 Oct 2020).
| TO THE DEVELOPERS/MAINTAINERS OF THE vtpnet PACKAGE: Please make sure to use the following settings in order to reproduce any error or warning you see on this page. |
| Package 1878/1905 | Hostname | OS / Arch | INSTALL | BUILD | CHECK | BUILD BIN | ||||||
| vtpnet 0.28.0 VJ Carey
| malbec2 | Linux (Ubuntu 18.04.4 LTS) / x86_64 | OK | OK | OK | |||||||
| tokay2 | Windows Server 2012 R2 Standard / x64 | [ OK ] | OK | OK | NA | |||||||
| machv2 | macOS 10.14.6 Mojave / x86_64 | OK | OK | OK | OK |
| Package: vtpnet |
| Version: 0.28.0 |
| Command: C:\cygwin\bin\curl.exe -O https://malbec2.bioconductor.org/BBS/3.11/bioc/src/contrib/vtpnet_0.28.0.tar.gz && rm -rf vtpnet.buildbin-libdir && mkdir vtpnet.buildbin-libdir && C:\Users\biocbuild\bbs-3.11-bioc\R\bin\R.exe CMD INSTALL --merge-multiarch --build --library=vtpnet.buildbin-libdir vtpnet_0.28.0.tar.gz && C:\Users\biocbuild\bbs-3.11-bioc\R\bin\R.exe CMD INSTALL vtpnet_0.28.0.zip && rm vtpnet_0.28.0.tar.gz vtpnet_0.28.0.zip |
| StartedAt: 2020-10-16 19:28:35 -0400 (Fri, 16 Oct 2020) |
| EndedAt: 2020-10-16 19:29:59 -0400 (Fri, 16 Oct 2020) |
| EllapsedTime: 84.2 seconds |
| RetCode: 0 |
| Status: OK |
##############################################################################
##############################################################################
###
### Running command:
###
### C:\cygwin\bin\curl.exe -O https://malbec2.bioconductor.org/BBS/3.11/bioc/src/contrib/vtpnet_0.28.0.tar.gz && rm -rf vtpnet.buildbin-libdir && mkdir vtpnet.buildbin-libdir && C:\Users\biocbuild\bbs-3.11-bioc\R\bin\R.exe CMD INSTALL --merge-multiarch --build --library=vtpnet.buildbin-libdir vtpnet_0.28.0.tar.gz && C:\Users\biocbuild\bbs-3.11-bioc\R\bin\R.exe CMD INSTALL vtpnet_0.28.0.zip && rm vtpnet_0.28.0.tar.gz vtpnet_0.28.0.zip
###
##############################################################################
##############################################################################
% Total % Received % Xferd Average Speed Time Time Time Current
Dload Upload Total Spent Left Speed
0 0 0 0 0 0 0 0 --:--:-- --:--:-- --:--:-- 0
27 19.9M 27 5552k 0 0 48.7M 0 --:--:-- --:--:-- --:--:-- 51.1M
100 19.9M 100 19.9M 0 0 82.6M 0 --:--:-- --:--:-- --:--:-- 84.6M
install for i386
* installing *source* package 'vtpnet' ...
** using staged installation
** R
** data
** byte-compile and prepare package for lazy loading
** help
*** installing help indices
converting help for package 'vtpnet'
finding HTML links ... done
vtpnet-package html
** building package indices
** installing vignettes
** testing if installed package can be loaded from temporary location
** testing if installed package can be loaded from final location
** testing if installed package keeps a record of temporary installation path
install for x64
* installing *source* package 'vtpnet' ...
** testing if installed package can be loaded
* MD5 sums
packaged installation of 'vtpnet' as vtpnet_0.28.0.zip
* DONE (vtpnet)
* installing to library 'C:/Users/biocbuild/bbs-3.11-bioc/R/library'
package 'vtpnet' successfully unpacked and MD5 sums checked