| Back to Multiple platform build/check report for BioC 3.11 |
|
This page was generated on 2020-10-17 11:57:59 -0400 (Sat, 17 Oct 2020).
| TO THE DEVELOPERS/MAINTAINERS OF THE vbmp PACKAGE: Please make sure to use the following settings in order to reproduce any error or warning you see on this page. |
| Package 1869/1905 | Hostname | OS / Arch | INSTALL | BUILD | CHECK | BUILD BIN | ||||||
| vbmp 1.56.0 Nicola Lama
| malbec2 | Linux (Ubuntu 18.04.4 LTS) / x86_64 | OK | OK | OK | |||||||
| tokay2 | Windows Server 2012 R2 Standard / x64 | [ OK ] | OK | OK | NA | |||||||
| machv2 | macOS 10.14.6 Mojave / x86_64 | OK | OK | OK | OK |
| Package: vbmp |
| Version: 1.56.0 |
| Command: C:\cygwin\bin\curl.exe -O https://malbec2.bioconductor.org/BBS/3.11/bioc/src/contrib/vbmp_1.56.0.tar.gz && rm -rf vbmp.buildbin-libdir && mkdir vbmp.buildbin-libdir && C:\Users\biocbuild\bbs-3.11-bioc\R\bin\R.exe CMD INSTALL --merge-multiarch --build --library=vbmp.buildbin-libdir vbmp_1.56.0.tar.gz && C:\Users\biocbuild\bbs-3.11-bioc\R\bin\R.exe CMD INSTALL vbmp_1.56.0.zip && rm vbmp_1.56.0.tar.gz vbmp_1.56.0.zip |
| StartedAt: 2020-10-16 16:43:41 -0400 (Fri, 16 Oct 2020) |
| EndedAt: 2020-10-16 16:44:07 -0400 (Fri, 16 Oct 2020) |
| EllapsedTime: 25.5 seconds |
| RetCode: 0 |
| Status: OK |
##############################################################################
##############################################################################
###
### Running command:
###
### C:\cygwin\bin\curl.exe -O https://malbec2.bioconductor.org/BBS/3.11/bioc/src/contrib/vbmp_1.56.0.tar.gz && rm -rf vbmp.buildbin-libdir && mkdir vbmp.buildbin-libdir && C:\Users\biocbuild\bbs-3.11-bioc\R\bin\R.exe CMD INSTALL --merge-multiarch --build --library=vbmp.buildbin-libdir vbmp_1.56.0.tar.gz && C:\Users\biocbuild\bbs-3.11-bioc\R\bin\R.exe CMD INSTALL vbmp_1.56.0.zip && rm vbmp_1.56.0.tar.gz vbmp_1.56.0.zip
###
##############################################################################
##############################################################################
% Total % Received % Xferd Average Speed Time Time Time Current
Dload Upload Total Spent Left Speed
0 0 0 0 0 0 0 0 --:--:-- --:--:-- --:--:-- 0
0 0 0 0 0 0 0 0 --:--:-- --:--:-- --:--:-- 0
7 1545k 7 112k 0 0 86919 0 0:00:18 0:00:01 0:00:17 87681
100 1545k 100 1545k 0 0 1144k 0 0:00:01 0:00:01 --:--:-- 1154k
install for i386
* installing *source* package 'vbmp' ...
** using staged installation
** R
** data
** byte-compile and prepare package for lazy loading
** help
*** installing help indices
converting help for package 'vbmp'
finding HTML links ... done
BRCA12 html
covParams html
lowerBound html
plotDiagnostics html
predClass html
predError html
predLik html
predictCPP html
vbmp html
** building package indices
** installing vignettes
** testing if installed package can be loaded from temporary location
** testing if installed package can be loaded from final location
** testing if installed package keeps a record of temporary installation path
install for x64
* installing *source* package 'vbmp' ...
** testing if installed package can be loaded
* MD5 sums
packaged installation of 'vbmp' as vbmp_1.56.0.zip
* DONE (vbmp)
* installing to library 'C:/Users/biocbuild/bbs-3.11-bioc/R/library'
package 'vbmp' successfully unpacked and MD5 sums checked