| Back to Multiple platform build/check report for BioC 3.11 |
|
This page was generated on 2020-10-16 11:59:04 -0400 (Fri, 16 Oct 2020).
| TO THE DEVELOPERS/MAINTAINERS OF THE tradeSeq PACKAGE: Please make sure to use the following settings in order to reproduce any error or warning you see on this page. |
| Package 1821/1905 | Hostname | OS / Arch | INSTALL | BUILD | CHECK | BUILD BIN | ||||||
| tradeSeq 1.2.01 Hector Roux de Bezieux
| malbec2 | Linux (Ubuntu 18.04.4 LTS) / x86_64 | OK | OK | OK | |||||||
| tokay2 | Windows Server 2012 R2 Standard / x64 | OK | OK | OK | [ OK ] | |||||||
| machv2 | macOS 10.14.6 Mojave / x86_64 | OK | OK | OK | OK |
| Package: tradeSeq |
| Version: 1.2.01 |
| Command: rm -rf tradeSeq.buildbin-libdir && mkdir tradeSeq.buildbin-libdir && C:\Users\biocbuild\bbs-3.11-bioc\R\bin\R.exe CMD INSTALL --merge-multiarch --build --library=tradeSeq.buildbin-libdir tradeSeq_1.2.01.tar.gz |
| StartedAt: 2020-10-16 11:30:26 -0400 (Fri, 16 Oct 2020) |
| EndedAt: 2020-10-16 11:31:26 -0400 (Fri, 16 Oct 2020) |
| EllapsedTime: 59.7 seconds |
| RetCode: 0 |
| Status: OK |
| PackageFile: tradeSeq_1.2.01.zip |
| PackageFileSize: 2.074 MiB |
##############################################################################
##############################################################################
###
### Running command:
###
### rm -rf tradeSeq.buildbin-libdir && mkdir tradeSeq.buildbin-libdir && C:\Users\biocbuild\bbs-3.11-bioc\R\bin\R.exe CMD INSTALL --merge-multiarch --build --library=tradeSeq.buildbin-libdir tradeSeq_1.2.01.tar.gz
###
##############################################################################
##############################################################################
install for i386
* installing *source* package 'tradeSeq' ...
** using staged installation
** R
** data
** inst
** byte-compile and prepare package for lazy loading
** help
*** installing help indices
converting help for package 'tradeSeq'
finding HTML links ... done
associationTest html
celltype html
clusterExpressionPatterns html
finding level-2 HTML links ... done
countMatrix html
crv html
diffEndTest html
earlyDETest html
evaluateK html
fitGAM html
gamList html
getSmootherPvalues html
getSmootherTestStats html
nknots html
patternTest html
plotGeneCount html
plotSmoothers html
predictCells html
predictSmooth html
sds html
startVsEndTest html
** building package indices
** installing vignettes
** testing if installed package can be loaded from temporary location
** testing if installed package can be loaded from final location
** testing if installed package keeps a record of temporary installation path
install for x64
* installing *source* package 'tradeSeq' ...
** testing if installed package can be loaded
* MD5 sums
packaged installation of 'tradeSeq' as tradeSeq_1.2.01.zip
* DONE (tradeSeq)