| Back to Multiple platform build/check report for BioC 3.11 | 
  | 
This page was generated on 2020-10-16 11:59:01 -0400 (Fri, 16 Oct 2020).
| TO THE DEVELOPERS/MAINTAINERS OF THE switchde PACKAGE: Please make sure to use the following settings in order to reproduce any error or warning you see on this page. | 
| Package 1770/1905 | Hostname | OS / Arch | INSTALL | BUILD | CHECK | BUILD BIN | ||||||
| switchde 1.14.0 Kieran Campbell 
  | malbec2 | Linux (Ubuntu 18.04.4 LTS) / x86_64 | OK | OK | OK | |||||||
| tokay2 | Windows Server 2012 R2 Standard / x64 | OK | OK | OK | [ OK ] | |||||||
| machv2 | macOS 10.14.6 Mojave / x86_64 | OK | OK | OK | OK | 
| Package: switchde | 
| Version: 1.14.0 | 
| Command: rm -rf switchde.buildbin-libdir && mkdir switchde.buildbin-libdir && C:\Users\biocbuild\bbs-3.11-bioc\R\bin\R.exe CMD INSTALL --merge-multiarch --build --library=switchde.buildbin-libdir switchde_1.14.0.tar.gz | 
| StartedAt: 2020-10-16 11:27:12 -0400 (Fri, 16 Oct 2020) | 
| EndedAt: 2020-10-16 11:28:07 -0400 (Fri, 16 Oct 2020) | 
| EllapsedTime: 55.2 seconds | 
| RetCode: 0 | 
| Status: OK | 
| PackageFile: switchde_1.14.0.zip | 
| PackageFileSize: 539.9 KiB | 
##############################################################################
##############################################################################
###
### Running command:
###
###   rm -rf switchde.buildbin-libdir && mkdir switchde.buildbin-libdir && C:\Users\biocbuild\bbs-3.11-bioc\R\bin\R.exe CMD INSTALL --merge-multiarch --build --library=switchde.buildbin-libdir switchde_1.14.0.tar.gz
###
##############################################################################
##############################################################################
install for i386
* installing *source* package 'switchde' ...
** using staged installation
** R
** data
*** moving datasets to lazyload DB
** inst
** byte-compile and prepare package for lazy loading
** help
*** installing help indices
  converting help for package 'switchde'
    finding HTML links ... done
    ex_pseudotime                           html  
    example_sigmoid                         html  
    extract_pars                            html  
    fit_nzi_model                           html  
    fit_zi_model                            html  
    sanitise_inputs                         html  
    sigmoid                                 html  
    switchde                                html  
    switchplot                              html  
    synth_gex                               html  
** building package indices
** installing vignettes
** testing if installed package can be loaded from temporary location
** testing if installed package can be loaded from final location
** testing if installed package keeps a record of temporary installation path
install for x64
* installing *source* package 'switchde' ...
** testing if installed package can be loaded
* MD5 sums
packaged installation of 'switchde' as switchde_1.14.0.zip
* DONE (switchde)