| Back to Multiple platform build/check report for BioC 3.11 | 
  | 
This page was generated on 2020-10-16 11:58:58 -0400 (Fri, 16 Oct 2020).
| TO THE DEVELOPERS/MAINTAINERS OF THE stageR PACKAGE: Please make sure to use the following settings in order to reproduce any error or warning you see on this page. | 
| Package 1739/1905 | Hostname | OS / Arch | INSTALL | BUILD | CHECK | BUILD BIN | ||||||
| stageR 1.10.0 Koen Van den Berge 
  | malbec2 | Linux (Ubuntu 18.04.4 LTS) / x86_64 | OK | OK | WARNINGS | |||||||
| tokay2 | Windows Server 2012 R2 Standard / x64 | OK | OK | WARNINGS | [ OK ] | |||||||
| machv2 | macOS 10.14.6 Mojave / x86_64 | OK | OK | WARNINGS | OK | 
| Package: stageR | 
| Version: 1.10.0 | 
| Command: rm -rf stageR.buildbin-libdir && mkdir stageR.buildbin-libdir && C:\Users\biocbuild\bbs-3.11-bioc\R\bin\R.exe CMD INSTALL --merge-multiarch --build --library=stageR.buildbin-libdir stageR_1.10.0.tar.gz | 
| StartedAt: 2020-10-16 11:25:08 -0400 (Fri, 16 Oct 2020) | 
| EndedAt: 2020-10-16 11:26:00 -0400 (Fri, 16 Oct 2020) | 
| EllapsedTime: 51.5 seconds | 
| RetCode: 0 | 
| Status: OK | 
| PackageFile: stageR_1.10.0.zip | 
| PackageFileSize: 1.037 MiB | 
##############################################################################
##############################################################################
###
### Running command:
###
###   rm -rf stageR.buildbin-libdir && mkdir stageR.buildbin-libdir && C:\Users\biocbuild\bbs-3.11-bioc\R\bin\R.exe CMD INSTALL --merge-multiarch --build --library=stageR.buildbin-libdir stageR_1.10.0.tar.gz
###
##############################################################################
##############################################################################
install for i386
* installing *source* package 'stageR' ...
** using staged installation
** R
** data
*** moving datasets to lazyload DB
** inst
** byte-compile and prepare package for lazy loading
** help
*** installing help indices
  converting help for package 'stageR'
    finding HTML links ... done
    adjustedAlphaLevel                      html  
    esetProstate                            html  
    getAdjustedPValues                      html  
    finding level-2 HTML links ... done
Rd warning: C:/Users/biocbuild/bbs-3.11-bioc/tmpdir/RtmpamvgMk/R.INSTALL1cac348b774b/stageR/man/getAdjustedPValues.Rd:34: missing link 'stageWiseAdjustment,stageR,character,numeric-method'
    getAlpha                                html  
    getMethod                               html  
    getPConfirmation                        html  
    getPScreen                              html  
    getResults                              html  
    getSignificantGenes                     html  
    getSignificantTx                        html  
    getTx2gene                              html  
    hammer.eset                             html  
    isAdjusted                              html  
    isPScreenAdjusted                       html  
    stageR                                  html  
    stageRClass                             html  
Rd warning: C:/Users/biocbuild/bbs-3.11-bioc/tmpdir/RtmpamvgMk/R.INSTALL1cac348b774b/stageR/man/stageRClass.Rd:19: missing link 'getAdjustedPValues,stageR,logical,logical-method'
Rd warning: C:/Users/biocbuild/bbs-3.11-bioc/tmpdir/RtmpamvgMk/R.INSTALL1cac348b774b/stageR/man/stageRClass.Rd:19: missing link 'getResults,stageR-method'
    stageRTx                                html  
    stageWiseAdjustment                     html  
** building package indices
** installing vignettes
** testing if installed package can be loaded from temporary location
** testing if installed package can be loaded from final location
** testing if installed package keeps a record of temporary installation path
install for x64
* installing *source* package 'stageR' ...
** testing if installed package can be loaded
* MD5 sums
packaged installation of 'stageR' as stageR_1.10.0.zip
* DONE (stageR)