| Back to Multiple platform build/check report for BioC 3.11 |
|
This page was generated on 2020-10-16 11:58:58 -0400 (Fri, 16 Oct 2020).
| TO THE DEVELOPERS/MAINTAINERS OF THE ssrch PACKAGE: Please make sure to use the following settings in order to reproduce any error or warning you see on this page. |
| Package 1737/1905 | Hostname | OS / Arch | INSTALL | BUILD | CHECK | BUILD BIN | ||||||
| ssrch 1.4.0 VJ Carey
| malbec2 | Linux (Ubuntu 18.04.4 LTS) / x86_64 | OK | OK | OK | |||||||
| tokay2 | Windows Server 2012 R2 Standard / x64 | OK | OK | OK | [ OK ] | |||||||
| machv2 | macOS 10.14.6 Mojave / x86_64 | OK | OK | OK | OK |
| Package: ssrch |
| Version: 1.4.0 |
| Command: rm -rf ssrch.buildbin-libdir && mkdir ssrch.buildbin-libdir && C:\Users\biocbuild\bbs-3.11-bioc\R\bin\R.exe CMD INSTALL --merge-multiarch --build --library=ssrch.buildbin-libdir ssrch_1.4.0.tar.gz |
| StartedAt: 2020-10-16 11:25:00 -0400 (Fri, 16 Oct 2020) |
| EndedAt: 2020-10-16 11:25:52 -0400 (Fri, 16 Oct 2020) |
| EllapsedTime: 51.6 seconds |
| RetCode: 0 |
| Status: OK |
| PackageFile: ssrch_1.4.0.zip |
| PackageFileSize: 1.385 MiB |
##############################################################################
##############################################################################
###
### Running command:
###
### rm -rf ssrch.buildbin-libdir && mkdir ssrch.buildbin-libdir && C:\Users\biocbuild\bbs-3.11-bioc\R\bin\R.exe CMD INSTALL --merge-multiarch --build --library=ssrch.buildbin-libdir ssrch_1.4.0.tar.gz
###
##############################################################################
##############################################################################
install for i386
* installing *source* package 'ssrch' ...
** using staged installation
** R
** data
*** moving datasets to lazyload DB
** inst
** byte-compile and prepare package for lazy loading
** help
*** installing help indices
converting help for package 'ssrch'
finding HTML links ... done
DocSet html
ctxsearch html
docset_cancer68 html
docset_searchapp html
ds_can1009b html
dsutils html
parseDoc html
study_publ_dates html
titles68 html
urls68 html
** building package indices
** installing vignettes
** testing if installed package can be loaded from temporary location
** testing if installed package can be loaded from final location
** testing if installed package keeps a record of temporary installation path
install for x64
* installing *source* package 'ssrch' ...
** testing if installed package can be loaded
* MD5 sums
packaged installation of 'ssrch' as ssrch_1.4.0.zip
* DONE (ssrch)