| Back to Multiple platform build/check report for BioC 3.11 |
|
This page was generated on 2020-10-17 11:57:52 -0400 (Sat, 17 Oct 2020).
| TO THE DEVELOPERS/MAINTAINERS OF THE sscu PACKAGE: Please make sure to use the following settings in order to reproduce any error or warning you see on this page. |
| Package 1732/1905 | Hostname | OS / Arch | INSTALL | BUILD | CHECK | BUILD BIN | ||||||
| sscu 2.18.0 Yu Sun
| malbec2 | Linux (Ubuntu 18.04.4 LTS) / x86_64 | OK | OK | WARNINGS | |||||||
| tokay2 | Windows Server 2012 R2 Standard / x64 | [ OK ] | OK | WARNINGS | NA | |||||||
| machv2 | macOS 10.14.6 Mojave / x86_64 | OK | OK | WARNINGS | OK |
| Package: sscu |
| Version: 2.18.0 |
| Command: C:\cygwin\bin\curl.exe -O https://malbec2.bioconductor.org/BBS/3.11/bioc/src/contrib/sscu_2.18.0.tar.gz && rm -rf sscu.buildbin-libdir && mkdir sscu.buildbin-libdir && C:\Users\biocbuild\bbs-3.11-bioc\R\bin\R.exe CMD INSTALL --merge-multiarch --build --library=sscu.buildbin-libdir sscu_2.18.0.tar.gz && C:\Users\biocbuild\bbs-3.11-bioc\R\bin\R.exe CMD INSTALL sscu_2.18.0.zip && rm sscu_2.18.0.tar.gz sscu_2.18.0.zip |
| StartedAt: 2020-10-16 17:24:54 -0400 (Fri, 16 Oct 2020) |
| EndedAt: 2020-10-16 17:25:59 -0400 (Fri, 16 Oct 2020) |
| EllapsedTime: 64.5 seconds |
| RetCode: 0 |
| Status: OK |
##############################################################################
##############################################################################
###
### Running command:
###
### C:\cygwin\bin\curl.exe -O https://malbec2.bioconductor.org/BBS/3.11/bioc/src/contrib/sscu_2.18.0.tar.gz && rm -rf sscu.buildbin-libdir && mkdir sscu.buildbin-libdir && C:\Users\biocbuild\bbs-3.11-bioc\R\bin\R.exe CMD INSTALL --merge-multiarch --build --library=sscu.buildbin-libdir sscu_2.18.0.tar.gz && C:\Users\biocbuild\bbs-3.11-bioc\R\bin\R.exe CMD INSTALL sscu_2.18.0.zip && rm sscu_2.18.0.tar.gz sscu_2.18.0.zip
###
##############################################################################
##############################################################################
% Total % Received % Xferd Average Speed Time Time Time Current
Dload Upload Total Spent Left Speed
0 0 0 0 0 0 0 0 --:--:-- --:--:-- --:--:-- 0
100 1368k 100 1368k 0 0 20.1M 0 --:--:-- --:--:-- --:--:-- 22.6M
install for i386
* installing *source* package 'sscu' ...
** using staged installation
** R
** inst
** byte-compile and prepare package for lazy loading
** help
*** installing help indices
converting help for package 'sscu'
finding HTML links ... done
akashi_test html
genomic_gc3 html
finding level-2 HTML links ... done
low_frequency_op html
op_corre_CodonW html
op_corre_NCprime html
op_highly html
op_highly_stats html
s_index html
sscu-package html
** building package indices
** installing vignettes
** testing if installed package can be loaded from temporary location
** testing if installed package can be loaded from final location
** testing if installed package keeps a record of temporary installation path
install for x64
* installing *source* package 'sscu' ...
** testing if installed package can be loaded
* MD5 sums
packaged installation of 'sscu' as sscu_2.18.0.zip
* DONE (sscu)
* installing to library 'C:/Users/biocbuild/bbs-3.11-bioc/R/library'
package 'sscu' successfully unpacked and MD5 sums checked