| Back to Multiple platform build/check report for BioC 3.11 |
|
This page was generated on 2020-10-16 11:58:54 -0400 (Fri, 16 Oct 2020).
| TO THE DEVELOPERS/MAINTAINERS OF THE slalom PACKAGE: Please make sure to use the following settings in order to reproduce any error or warning you see on this page. |
| Package 1680/1905 | Hostname | OS / Arch | INSTALL | BUILD | CHECK | BUILD BIN | ||||||
| slalom 1.10.0 Davis McCarthy
| malbec2 | Linux (Ubuntu 18.04.4 LTS) / x86_64 | OK | OK | OK | |||||||
| tokay2 | Windows Server 2012 R2 Standard / x64 | OK | OK | OK | [ OK ] | |||||||
| machv2 | macOS 10.14.6 Mojave / x86_64 | OK | OK | OK | OK |
| Package: slalom |
| Version: 1.10.0 |
| Command: rm -rf slalom.buildbin-libdir && mkdir slalom.buildbin-libdir && C:\Users\biocbuild\bbs-3.11-bioc\R\bin\R.exe CMD INSTALL --merge-multiarch --build --library=slalom.buildbin-libdir slalom_1.10.0.tar.gz |
| StartedAt: 2020-10-16 11:21:31 -0400 (Fri, 16 Oct 2020) |
| EndedAt: 2020-10-16 11:23:15 -0400 (Fri, 16 Oct 2020) |
| EllapsedTime: 104.5 seconds |
| RetCode: 0 |
| Status: OK |
| PackageFile: slalom_1.10.0.zip |
| PackageFileSize: 20.53 MiB |
##############################################################################
##############################################################################
###
### Running command:
###
### rm -rf slalom.buildbin-libdir && mkdir slalom.buildbin-libdir && C:\Users\biocbuild\bbs-3.11-bioc\R\bin\R.exe CMD INSTALL --merge-multiarch --build --library=slalom.buildbin-libdir slalom_1.10.0.tar.gz
###
##############################################################################
##############################################################################
install for i386
* installing *source* package 'slalom' ...
** using staged installation
** libs
"C:/rtools40/mingw32/bin/"g++ -std=gnu++11 -I"C:/Users/BIOCBU~1/BBS-3~1.11-/R/include" -DNDEBUG -I'C:/Users/biocbuild/bbs-3.11-bioc/R/library/Rcpp/include' -I'C:/Users/biocbuild/bbs-3.11-bioc/R/library/RcppArmadillo/include' -I'C:/Users/biocbuild/bbs-3.11-bioc/R/library/BH/include' -I"C:/extsoft/include" -O2 -Wall -mfpmath=sse -msse2 -mstackrealign -c RcppExports.cpp -o RcppExports.o
"C:/rtools40/mingw32/bin/"g++ -std=gnu++11 -I"C:/Users/BIOCBU~1/BBS-3~1.11-/R/include" -DNDEBUG -I'C:/Users/biocbuild/bbs-3.11-bioc/R/library/Rcpp/include' -I'C:/Users/biocbuild/bbs-3.11-bioc/R/library/RcppArmadillo/include' -I'C:/Users/biocbuild/bbs-3.11-bioc/R/library/BH/include' -I"C:/extsoft/include" -O2 -Wall -mfpmath=sse -msse2 -mstackrealign -c slalom-classes.cpp -o slalom-classes.o
In file included from C:/Users/biocbuild/bbs-3.11-bioc/R/library/BH/include/boost/mpl/aux_/na_assert.hpp:23,
from C:/Users/biocbuild/bbs-3.11-bioc/R/library/BH/include/boost/mpl/arg.hpp:25,
from C:/Users/biocbuild/bbs-3.11-bioc/R/library/BH/include/boost/mpl/placeholders.hpp:24,
from C:/Users/biocbuild/bbs-3.11-bioc/R/library/BH/include/boost/mpl/apply.hpp:24,
from C:/Users/biocbuild/bbs-3.11-bioc/R/library/BH/include/boost/mpl/aux_/iter_apply.hpp:17,
from C:/Users/biocbuild/bbs-3.11-bioc/R/library/BH/include/boost/mpl/aux_/find_if_pred.hpp:14,
from C:/Users/biocbuild/bbs-3.11-bioc/R/library/BH/include/boost/mpl/find_if.hpp:17,
from C:/Users/biocbuild/bbs-3.11-bioc/R/library/BH/include/boost/mpl/find.hpp:17,
from C:/Users/biocbuild/bbs-3.11-bioc/R/library/BH/include/boost/mpl/aux_/contains_impl.hpp:20,
from C:/Users/biocbuild/bbs-3.11-bioc/R/library/BH/include/boost/mpl/contains.hpp:20,
from C:/Users/biocbuild/bbs-3.11-bioc/R/library/BH/include/boost/math/policies/policy.hpp:10,
from C:/Users/biocbuild/bbs-3.11-bioc/R/library/BH/include/boost/math/special_functions/math_fwd.hpp:29,
from C:/Users/biocbuild/bbs-3.11-bioc/R/library/BH/include/boost/math/special_functions/digamma.hpp:15,
from slalom-classes.cpp:20:
C:/Users/biocbuild/bbs-3.11-bioc/R/library/BH/include/boost/mpl/assert.hpp:194:21: warning: unnecessary parentheses in declaration of 'assert_arg' [-Wparentheses]
failed ************ (Pred::************
^
C:/Users/biocbuild/bbs-3.11-bioc/R/library/BH/include/boost/mpl/assert.hpp:199:21: warning: unnecessary parentheses in declaration of 'assert_not_arg' [-Wparentheses]
failed ************ (boost::mpl::not_<Pred>::************
^
slalom-classes.cpp: In member function 'void SlalomModel::train()':
slalom-classes.cpp:223:20: warning: unused variable 'meanerr' [-Wunused-variable]
double meanerr = arma::mean(error);
^~~~~~~
slalom-classes.cpp:202:12: warning: unused variable 'meanerr' [-Wunused-variable]
double meanerr = arma::mean(error);
^~~~~~~
slalom-classes.cpp: In member function 'void SlalomModel::updateEpsilon()':
slalom-classes.cpp:431:23: warning: comparison of integer expressions of different signedness: 'int' and 'const uword' {aka 'const unsigned int'} [-Wsign-compare]
for (int i = 0; i < this->epsilon_E1.n_elem; i++) {
~~^~~~~~~~~~~~~~~~~~~~~~~~~
C:/rtools40/mingw32/bin/g++ -std=gnu++11 -shared -s -static-libgcc -o slalom.dll tmp.def RcppExports.o slalom-classes.o -LC:/Users/BIOCBU~1/BBS-3~1.11-/R/bin/i386 -lRlapack -LC:/Users/BIOCBU~1/BBS-3~1.11-/R/bin/i386 -lRblas -lgfortran -lm -lquadmath -LC:/extsoft/lib/i386 -LC:/extsoft/lib -LC:/Users/BIOCBU~1/BBS-3~1.11-/R/bin/i386 -lR
installing to C:/Users/biocbuild/bbs-3.11-bioc/meat/slalom.buildbin-libdir/00LOCK-slalom/00new/slalom/libs/i386
** R
** data
*** moving datasets to lazyload DB
** inst
** byte-compile and prepare package for lazy loading
** help
*** installing help indices
converting help for package 'slalom'
finding HTML links ... done
Rcpp_SlalomModel html
SlalomModel html
addResultsToSingleCellExperiment html
initSlalom html
mesc html
newSlalomModel html
plotLoadings html
plotRelevance html
plotTerms html
slalom html
topTerms html
trainSlalom html
updateSlalom html
** building package indices
** installing vignettes
** testing if installed package can be loaded from temporary location
** testing if installed package can be loaded from final location
** testing if installed package keeps a record of temporary installation path
install for x64
* installing *source* package 'slalom' ...
** libs
"C:/rtools40/mingw64/bin/"g++ -std=gnu++11 -I"C:/Users/BIOCBU~1/BBS-3~1.11-/R/include" -DNDEBUG -I'C:/Users/biocbuild/bbs-3.11-bioc/R/library/Rcpp/include' -I'C:/Users/biocbuild/bbs-3.11-bioc/R/library/RcppArmadillo/include' -I'C:/Users/biocbuild/bbs-3.11-bioc/R/library/BH/include' -I"C:/extsoft/include" -O2 -Wall -mfpmath=sse -msse2 -mstackrealign -c RcppExports.cpp -o RcppExports.o
"C:/rtools40/mingw64/bin/"g++ -std=gnu++11 -I"C:/Users/BIOCBU~1/BBS-3~1.11-/R/include" -DNDEBUG -I'C:/Users/biocbuild/bbs-3.11-bioc/R/library/Rcpp/include' -I'C:/Users/biocbuild/bbs-3.11-bioc/R/library/RcppArmadillo/include' -I'C:/Users/biocbuild/bbs-3.11-bioc/R/library/BH/include' -I"C:/extsoft/include" -O2 -Wall -mfpmath=sse -msse2 -mstackrealign -c slalom-classes.cpp -o slalom-classes.o
In file included from C:/Users/biocbuild/bbs-3.11-bioc/R/library/BH/include/boost/mpl/aux_/na_assert.hpp:23,
from C:/Users/biocbuild/bbs-3.11-bioc/R/library/BH/include/boost/mpl/arg.hpp:25,
from C:/Users/biocbuild/bbs-3.11-bioc/R/library/BH/include/boost/mpl/placeholders.hpp:24,
from C:/Users/biocbuild/bbs-3.11-bioc/R/library/BH/include/boost/mpl/apply.hpp:24,
from C:/Users/biocbuild/bbs-3.11-bioc/R/library/BH/include/boost/mpl/aux_/iter_apply.hpp:17,
from C:/Users/biocbuild/bbs-3.11-bioc/R/library/BH/include/boost/mpl/aux_/find_if_pred.hpp:14,
from C:/Users/biocbuild/bbs-3.11-bioc/R/library/BH/include/boost/mpl/find_if.hpp:17,
from C:/Users/biocbuild/bbs-3.11-bioc/R/library/BH/include/boost/mpl/find.hpp:17,
from C:/Users/biocbuild/bbs-3.11-bioc/R/library/BH/include/boost/mpl/aux_/contains_impl.hpp:20,
from C:/Users/biocbuild/bbs-3.11-bioc/R/library/BH/include/boost/mpl/contains.hpp:20,
from C:/Users/biocbuild/bbs-3.11-bioc/R/library/BH/include/boost/math/policies/policy.hpp:10,
from C:/Users/biocbuild/bbs-3.11-bioc/R/library/BH/include/boost/math/special_functions/math_fwd.hpp:29,
from C:/Users/biocbuild/bbs-3.11-bioc/R/library/BH/include/boost/math/special_functions/digamma.hpp:15,
from slalom-classes.cpp:20:
C:/Users/biocbuild/bbs-3.11-bioc/R/library/BH/include/boost/mpl/assert.hpp:194:21: warning: unnecessary parentheses in declaration of 'assert_arg' [-Wparentheses]
failed ************ (Pred::************
^
C:/Users/biocbuild/bbs-3.11-bioc/R/library/BH/include/boost/mpl/assert.hpp:199:21: warning: unnecessary parentheses in declaration of 'assert_not_arg' [-Wparentheses]
failed ************ (boost::mpl::not_<Pred>::************
^
slalom-classes.cpp: In member function 'void SlalomModel::train()':
slalom-classes.cpp:223:20: warning: unused variable 'meanerr' [-Wunused-variable]
double meanerr = arma::mean(error);
^~~~~~~
slalom-classes.cpp:202:12: warning: unused variable 'meanerr' [-Wunused-variable]
double meanerr = arma::mean(error);
^~~~~~~
slalom-classes.cpp: In member function 'void SlalomModel::updateEpsilon()':
slalom-classes.cpp:431:23: warning: comparison of integer expressions of different signedness: 'int' and 'const uword' {aka 'const unsigned int'} [-Wsign-compare]
for (int i = 0; i < this->epsilon_E1.n_elem; i++) {
~~^~~~~~~~~~~~~~~~~~~~~~~~~
C:/rtools40/mingw64/bin/g++ -std=gnu++11 -shared -s -static-libgcc -o slalom.dll tmp.def RcppExports.o slalom-classes.o -LC:/Users/BIOCBU~1/BBS-3~1.11-/R/bin/x64 -lRlapack -LC:/Users/BIOCBU~1/BBS-3~1.11-/R/bin/x64 -lRblas -lgfortran -lm -lquadmath -LC:/extsoft/lib/x64 -LC:/extsoft/lib -LC:/Users/BIOCBU~1/BBS-3~1.11-/R/bin/x64 -lR
installing to C:/Users/biocbuild/bbs-3.11-bioc/meat/slalom.buildbin-libdir/slalom/libs/x64
** testing if installed package can be loaded
* MD5 sums
packaged installation of 'slalom' as slalom_1.10.0.zip
* DONE (slalom)