| Back to Multiple platform build/check report for BioC 3.11 |
|
This page was generated on 2020-10-17 11:55:44 -0400 (Sat, 17 Oct 2020).
| TO THE DEVELOPERS/MAINTAINERS OF THE sevenbridges PACKAGE: Please make sure to use the following settings in order to reproduce any error or warning you see on this page. |
| Package 1640/1905 | Hostname | OS / Arch | INSTALL | BUILD | CHECK | BUILD BIN | ||||||
| sevenbridges 1.18.1 Nan Xiao
| malbec2 | Linux (Ubuntu 18.04.4 LTS) / x86_64 | OK | OK | [ OK ] | |||||||
| tokay2 | Windows Server 2012 R2 Standard / x64 | OK | OK | OK | NA | |||||||
| machv2 | macOS 10.14.6 Mojave / x86_64 | OK | OK | OK | OK |
| Package: sevenbridges |
| Version: 1.18.1 |
| Command: /home/biocbuild/bbs-3.11-bioc/R/bin/R CMD check --install=check:sevenbridges.install-out.txt --library=/home/biocbuild/bbs-3.11-bioc/R/library --no-vignettes --timings sevenbridges_1.18.1.tar.gz |
| StartedAt: 2020-10-17 05:26:25 -0400 (Sat, 17 Oct 2020) |
| EndedAt: 2020-10-17 05:29:35 -0400 (Sat, 17 Oct 2020) |
| EllapsedTime: 190.2 seconds |
| RetCode: 0 |
| Status: OK |
| CheckDir: sevenbridges.Rcheck |
| Warnings: 0 |
##############################################################################
##############################################################################
###
### Running command:
###
### /home/biocbuild/bbs-3.11-bioc/R/bin/R CMD check --install=check:sevenbridges.install-out.txt --library=/home/biocbuild/bbs-3.11-bioc/R/library --no-vignettes --timings sevenbridges_1.18.1.tar.gz
###
##############################################################################
##############################################################################
* using log directory ‘/home/biocbuild/bbs-3.11-bioc/meat/sevenbridges.Rcheck’
* using R version 4.0.3 (2020-10-10)
* using platform: x86_64-pc-linux-gnu (64-bit)
* using session charset: UTF-8
* using option ‘--no-vignettes’
* checking for file ‘sevenbridges/DESCRIPTION’ ... OK
* checking extension type ... Package
* this is package ‘sevenbridges’ version ‘1.18.1’
* package encoding: UTF-8
* checking package namespace information ... OK
* checking package dependencies ... OK
* checking if this is a source package ... OK
* checking if there is a namespace ... OK
* checking for hidden files and directories ... OK
* checking for portable file names ... OK
* checking for sufficient/correct file permissions ... OK
* checking whether package ‘sevenbridges’ can be installed ... OK
* checking installed package size ... OK
* checking package directory ... OK
* checking ‘build’ directory ... OK
* checking DESCRIPTION meta-information ... OK
* checking top-level files ... OK
* checking for left-over files ... OK
* checking index information ... OK
* checking package subdirectories ... OK
* checking R files for non-ASCII characters ... OK
* checking R files for syntax errors ... OK
* checking whether the package can be loaded ... OK
* checking whether the package can be loaded with stated dependencies ... OK
* checking whether the package can be unloaded cleanly ... OK
* checking whether the namespace can be loaded with stated dependencies ... OK
* checking whether the namespace can be unloaded cleanly ... OK
* checking dependencies in R code ... OK
* checking S3 generic/method consistency ... OK
* checking replacement functions ... OK
* checking foreign function calls ... OK
* checking R code for possible problems ... OK
* checking Rd files ... OK
* checking Rd metadata ... OK
* checking Rd cross-references ... OK
* checking for missing documentation entries ... OK
* checking for code/documentation mismatches ... OK
* checking Rd \usage sections ... OK
* checking Rd contents ... OK
* checking for unstated dependencies in examples ... OK
* checking files in ‘vignettes’ ... OK
* checking examples ... OK
Examples with CPU (user + system) or elapsed time > 5s
user system elapsed
Flow 62.243 0.016 62.315
Tool-class 15.260 0.008 15.385
link_what 8.884 0.008 8.892
link 8.455 0.000 8.455
convert_app 8.289 0.000 8.289
* checking for unstated dependencies in ‘tests’ ... OK
* checking tests ...
Running ‘testthat.R’
OK
* checking for unstated dependencies in vignettes ... OK
* checking package vignettes in ‘inst/doc’ ... OK
* checking running R code from vignettes ... SKIPPED
* checking re-building of vignette outputs ... SKIPPED
* checking PDF version of manual ... OK
* DONE
Status: OK
sevenbridges.Rcheck/00install.out
############################################################################## ############################################################################## ### ### Running command: ### ### /home/biocbuild/bbs-3.11-bioc/R/bin/R CMD INSTALL sevenbridges ### ############################################################################## ############################################################################## * installing to library ‘/home/biocbuild/bbs-3.11-bioc/R/library’ * installing *source* package ‘sevenbridges’ ... ** using staged installation ** R ** inst ** byte-compile and prepare package for lazy loading ** help *** installing help indices ** building package indices ** installing vignettes ** testing if installed package can be loaded from temporary location ** testing if installed package can be loaded from final location ** testing if installed package keeps a record of temporary installation path * DONE (sevenbridges)
sevenbridges.Rcheck/tests/testthat.Rout
R version 4.0.3 (2020-10-10) -- "Bunny-Wunnies Freak Out"
Copyright (C) 2020 The R Foundation for Statistical Computing
Platform: x86_64-pc-linux-gnu (64-bit)
R is free software and comes with ABSOLUTELY NO WARRANTY.
You are welcome to redistribute it under certain conditions.
Type 'license()' or 'licence()' for distribution details.
R is a collaborative project with many contributors.
Type 'contributors()' for more information and
'citation()' on how to cite R or R packages in publications.
Type 'demo()' for some demos, 'help()' for on-line help, or
'help.start()' for an HTML browser interface to help.
Type 'q()' to quit R.
> library("testthat")
> library("sevenbridges")
> test_check("sevenbridges")
══ testthat results ═══════════════════════════════════════════════════════════
[ OK: 0 | SKIPPED: 0 | WARNINGS: 0 | FAILED: 0 ]
>
> proc.time()
user system elapsed
3.020 0.122 3.127
sevenbridges.Rcheck/sevenbridges-Ex.timings
| name | user | system | elapsed | |
| App-class | 0.001 | 0.000 | 0.001 | |
| Auth-class | 0.012 | 0.000 | 0.012 | |
| Binding | 0.033 | 0.008 | 0.040 | |
| CCBList | 0.014 | 0.000 | 0.014 | |
| CWL | 0.001 | 0.000 | 0.001 | |
| CommandInputParameter-class | 0.037 | 0.000 | 0.037 | |
| CommandInputSchema-class | 0.018 | 0.000 | 0.018 | |
| CommandLineBinding-class | 0.007 | 0.000 | 0.007 | |
| CommandLineTool | 0.015 | 0.000 | 0.015 | |
| CommandOutputBinding-class | 0.007 | 0.000 | 0.007 | |
| CommandOutputParameter-class | 0.013 | 0.000 | 0.013 | |
| CommandOutputSchema-class | 0.012 | 0.000 | 0.012 | |
| DSCList | 0.016 | 0.000 | 0.016 | |
| Enum | 0.023 | 0.000 | 0.022 | |
| Expression-class | 0.007 | 0.000 | 0.007 | |
| ExpressionTool-class | 0.019 | 0.000 | 0.019 | |
| File-class | 0.058 | 0.000 | 0.058 | |
| Files-class | 0.007 | 0.000 | 0.008 | |
| Flow | 62.243 | 0.016 | 62.315 | |
| Metadata | 0.077 | 0.000 | 0.077 | |
| Parameter | 0.036 | 0.000 | 0.036 | |
| Process | 0.043 | 0.000 | 0.043 | |
| ProcessRequirement | 0.048 | 0.000 | 0.049 | |
| Schema | 0.015 | 0.000 | 0.015 | |
| TaskHook | 0.001 | 0.000 | 0.002 | |
| Tool-class | 15.260 | 0.008 | 15.385 | |
| Workflow | 0.027 | 0.000 | 0.027 | |
| WorkflowStep | 0.000 | 0.003 | 0.005 | |
| addIdNum | 0 | 0 | 0 | |
| api | 0 | 0 | 0 | |
| as-methods | 0.071 | 0.000 | 0.070 | |
| batch | 0.001 | 0.000 | 0.001 | |
| cli_list_projects | 0 | 0 | 0 | |
| cli_list_tags | 0 | 0 | 0 | |
| cli_upload | 0 | 0 | 0 | |
| convert_app | 8.289 | 0.000 | 8.289 | |
| cwl-utils | 0.093 | 0.000 | 0.116 | |
| delete-methods | 0 | 0 | 0 | |
| download-methods | 0 | 0 | 0 | |
| get_token | 0 | 0 | 0 | |
| get_uploader | 0 | 0 | 0 | |
| input_output_matrix | 0.121 | 0.001 | 0.122 | |
| link | 8.455 | 0.000 | 8.455 | |
| link_what | 8.884 | 0.008 | 8.892 | |
| project_details | 0 | 0 | 0 | |
| project_members | 0 | 0 | 0 | |
| requirements | 0.048 | 0.000 | 0.048 | |
| response-methods | 0 | 0 | 0 | |
| sbg_get_env | 0 | 0 | 0 | |
| sbg_set_env | 0 | 0 | 0 | |
| set_test_env | 0 | 0 | 0 | |
| shorthand-cwl | 0.024 | 0.000 | 0.024 | |
| tag-methods | 0 | 0 | 0 | |
| test_tool_bunny | 0 | 0 | 0 | |
| test_tool_cwlrun | 0.001 | 0.000 | 0.000 | |
| test_tool_rabix | 0 | 0 | 0 | |
| upload_complete_all | 0 | 0 | 0 | |
| upload_complete_part | 0 | 0 | 0 | |
| upload_delete | 0 | 0 | 0 | |
| upload_info | 0 | 0 | 0 | |
| upload_info_part | 0 | 0 | 0 | |
| upload_init | 0.001 | 0.000 | 0.001 | |