| Back to Multiple platform build/check report for BioC 3.11 | 
  | 
This page was generated on 2020-10-17 11:57:46 -0400 (Sat, 17 Oct 2020).
| TO THE DEVELOPERS/MAINTAINERS OF THE scruff PACKAGE: Please make sure to use the following settings in order to reproduce any error or warning you see on this page. | 
| Package 1611/1905 | Hostname | OS / Arch | INSTALL | BUILD | CHECK | BUILD BIN | ||||||
| scruff 1.6.0 Zhe Wang 
  | malbec2 | Linux (Ubuntu 18.04.4 LTS) / x86_64 | OK | OK | OK | |||||||
| tokay2 | Windows Server 2012 R2 Standard / x64 | [ OK ] | OK | OK | OK | |||||||
| machv2 | macOS 10.14.6 Mojave / x86_64 | OK | OK | OK | OK | 
| Package: scruff | 
| Version: 1.6.0 | 
| Command: C:\cygwin\bin\curl.exe -O https://malbec2.bioconductor.org/BBS/3.11/bioc/src/contrib/scruff_1.6.0.tar.gz && rm -rf scruff.buildbin-libdir && mkdir scruff.buildbin-libdir && C:\Users\biocbuild\bbs-3.11-bioc\R\bin\R.exe CMD INSTALL --merge-multiarch --build --library=scruff.buildbin-libdir scruff_1.6.0.tar.gz && C:\Users\biocbuild\bbs-3.11-bioc\R\bin\R.exe CMD INSTALL scruff_1.6.0.zip && rm scruff_1.6.0.tar.gz scruff_1.6.0.zip | 
| StartedAt: 2020-10-16 19:33:08 -0400 (Fri, 16 Oct 2020) | 
| EndedAt: 2020-10-16 19:35:31 -0400 (Fri, 16 Oct 2020) | 
| EllapsedTime: 142.8 seconds | 
| RetCode: 0 | 
| Status: OK | 
##############################################################################
##############################################################################
###
### Running command:
###
###   C:\cygwin\bin\curl.exe -O https://malbec2.bioconductor.org/BBS/3.11/bioc/src/contrib/scruff_1.6.0.tar.gz && rm -rf scruff.buildbin-libdir && mkdir scruff.buildbin-libdir && C:\Users\biocbuild\bbs-3.11-bioc\R\bin\R.exe CMD INSTALL --merge-multiarch --build --library=scruff.buildbin-libdir scruff_1.6.0.tar.gz && C:\Users\biocbuild\bbs-3.11-bioc\R\bin\R.exe CMD INSTALL scruff_1.6.0.zip && rm scruff_1.6.0.tar.gz scruff_1.6.0.zip
###
##############################################################################
##############################################################################
  % Total    % Received % Xferd  Average Speed   Time    Time     Time  Current
                                 Dload  Upload   Total   Spent    Left  Speed
  0     0    0     0    0     0      0      0 --:--:-- --:--:-- --:--:--     0
  8 4409k    8  368k    0     0   629k      0  0:00:07 --:--:--  0:00:07  638k
100 4409k  100 4409k    0     0  6771k      0 --:--:-- --:--:-- --:--:-- 6857k
install for i386
* installing *source* package 'scruff' ...
** using staged installation
** R
** data
** inst
** byte-compile and prepare package for lazy loading
** help
*** installing help indices
  converting help for package 'scruff'
    finding HTML links ... done
    alignRsubread                           html  
    bamExample                              html  
    barcodeExample                          html  
    cbtop10000                              html  
    countUMI                                html  
    demultiplex                             html  
    gview                                   html  
    qcplots                                 html  
    rview                                   html  
    sceExample                              html  
    scruff                                  html  
    tenxBamqc                               html  
    validCb                                 html  
** building package indices
** installing vignettes
** testing if installed package can be loaded from temporary location
** testing if installed package can be loaded from final location
** testing if installed package keeps a record of temporary installation path
install for x64
* installing *source* package 'scruff' ...
** testing if installed package can be loaded
* MD5 sums
packaged installation of 'scruff' as scruff_1.6.0.zip
* DONE (scruff)
* installing to library 'C:/Users/biocbuild/bbs-3.11-bioc/R/library'
package 'scruff' successfully unpacked and MD5 sums checked