| Back to Multiple platform build/check report for BioC 3.11 |
|
This page was generated on 2020-10-17 11:57:45 -0400 (Sat, 17 Oct 2020).
| TO THE DEVELOPERS/MAINTAINERS OF THE scfind PACKAGE: Please make sure to use the following settings in order to reproduce any error or warning you see on this page. |
| Package 1593/1905 | Hostname | OS / Arch | INSTALL | BUILD | CHECK | BUILD BIN | ||||||
Vladimir Kiselev
| malbec2 | Linux (Ubuntu 18.04.4 LTS) / x86_64 | OK | ERROR | skipped | |||||||
| tokay2 | Windows Server 2012 R2 Standard / x64 | [ OK ] | ERROR | skipped | skipped | |||||||
| machv2 | macOS 10.14.6 Mojave / x86_64 | OK | ERROR | skipped | skipped |
| Package: scfind |
| Version: 1.10.0 |
| Command: C:\cygwin\bin\curl.exe -O https://malbec2.bioconductor.org/BBS/3.11/bioc/src/contrib/scfind_1.10.0.tar.gz && rm -rf scfind.buildbin-libdir && mkdir scfind.buildbin-libdir && C:\Users\biocbuild\bbs-3.11-bioc\R\bin\R.exe CMD INSTALL --merge-multiarch --build --library=scfind.buildbin-libdir scfind_1.10.0.tar.gz && C:\Users\biocbuild\bbs-3.11-bioc\R\bin\R.exe CMD INSTALL scfind_1.10.0.zip && rm scfind_1.10.0.tar.gz scfind_1.10.0.zip |
| StartedAt: 2020-10-16 18:20:42 -0400 (Fri, 16 Oct 2020) |
| EndedAt: 2020-10-16 18:21:57 -0400 (Fri, 16 Oct 2020) |
| EllapsedTime: 74.9 seconds |
| RetCode: 0 |
| Status: OK |
##############################################################################
##############################################################################
###
### Running command:
###
### C:\cygwin\bin\curl.exe -O https://malbec2.bioconductor.org/BBS/3.11/bioc/src/contrib/scfind_1.10.0.tar.gz && rm -rf scfind.buildbin-libdir && mkdir scfind.buildbin-libdir && C:\Users\biocbuild\bbs-3.11-bioc\R\bin\R.exe CMD INSTALL --merge-multiarch --build --library=scfind.buildbin-libdir scfind_1.10.0.tar.gz && C:\Users\biocbuild\bbs-3.11-bioc\R\bin\R.exe CMD INSTALL scfind_1.10.0.zip && rm scfind_1.10.0.tar.gz scfind_1.10.0.zip
###
##############################################################################
##############################################################################
% Total % Received % Xferd Average Speed Time Time Time Current
Dload Upload Total Spent Left Speed
0 0 0 0 0 0 0 0 --:--:-- --:--:-- --:--:-- 0
53 1612k 53 864k 0 0 7904k 0 --:--:-- --:--:-- --:--:-- 8228k
100 1612k 100 1612k 0 0 13.4M 0 --:--:-- --:--:-- --:--:-- 14.0M
install for i386
* installing *source* package 'scfind' ...
** using staged installation
** libs
"C:/rtools40/mingw32/bin/"g++ -std=gnu++11 -I"C:/Users/BIOCBU~1/BBS-3~1.11-/R/include" -DNDEBUG -I'C:/Users/biocbuild/bbs-3.11-bioc/R/library/Rcpp/include' -I"C:/extsoft/include" -O2 -Wall -mfpmath=sse -msse2 -mstackrealign -c RcppExports.cpp -o RcppExports.o
"C:/rtools40/mingw32/bin/"g++ -std=gnu++11 -I"C:/Users/BIOCBU~1/BBS-3~1.11-/R/include" -DNDEBUG -I'C:/Users/biocbuild/bbs-3.11-bioc/R/library/Rcpp/include' -I"C:/extsoft/include" -O2 -Wall -mfpmath=sse -msse2 -mstackrealign -c eliasFano.cpp -o eliasFano.o
eliasFano.cpp: In function 'std::vector<bool> int2bin(int)':
eliasFano.cpp:8:9: warning: unused variable 'rem' [-Wunused-variable]
int rem;
^~~
eliasFano.cpp: In function 'Rcpp::NumericVector eliasFanoDecoding(Rcpp::LogicalVector, Rcpp::LogicalVector, int)':
eliasFano.cpp:83:31: warning: comparison of integer expressions of different signedness: 'int' and 'std::vector<bool>::size_type' {aka 'unsigned int'} [-Wsign-compare]
for (int k = 0; k < h.size(); k++) {
~~^~~~~~~~~~
C:/rtools40/mingw32/bin/g++ -std=gnu++11 -shared -s -static-libgcc -o scfind.dll tmp.def RcppExports.o eliasFano.o -LC:/Users/BIOCBU~1/BBS-3~1.11-/R/bin/i386 -lRlapack -LC:/Users/BIOCBU~1/BBS-3~1.11-/R/bin/i386 -lRblas -lgfortran -lm -lquadmath -LC:/extsoft/lib/i386 -LC:/extsoft/lib -LC:/Users/BIOCBU~1/BBS-3~1.11-/R/bin/i386 -lR
installing to C:/Users/biocbuild/bbs-3.11-bioc/meat/scfind.buildbin-libdir/00LOCK-scfind/00new/scfind/libs/i386
** R
** data
*** moving datasets to lazyload DB
** inst
** byte-compile and prepare package for lazy loading
** help
*** installing help indices
converting help for package 'scfind'
finding HTML links ... done
ann html
buildCellIndex html
buildCellTypeIndex html
findCell html
findCellType html
yan html
** building package indices
** installing vignettes
** testing if installed package can be loaded from temporary location
Warning: Package 'scfind' is deprecated and will be removed from Bioconductor
version 3.12
** testing if installed package can be loaded from final location
Warning: Package 'scfind' is deprecated and will be removed from Bioconductor
version 3.12
** testing if installed package keeps a record of temporary installation path
install for x64
* installing *source* package 'scfind' ...
** libs
"C:/rtools40/mingw64/bin/"g++ -std=gnu++11 -I"C:/Users/BIOCBU~1/BBS-3~1.11-/R/include" -DNDEBUG -I'C:/Users/biocbuild/bbs-3.11-bioc/R/library/Rcpp/include' -I"C:/extsoft/include" -O2 -Wall -mfpmath=sse -msse2 -mstackrealign -c RcppExports.cpp -o RcppExports.o
"C:/rtools40/mingw64/bin/"g++ -std=gnu++11 -I"C:/Users/BIOCBU~1/BBS-3~1.11-/R/include" -DNDEBUG -I'C:/Users/biocbuild/bbs-3.11-bioc/R/library/Rcpp/include' -I"C:/extsoft/include" -O2 -Wall -mfpmath=sse -msse2 -mstackrealign -c eliasFano.cpp -o eliasFano.o
eliasFano.cpp: In function 'std::vector<bool> int2bin(int)':
eliasFano.cpp:8:9: warning: unused variable 'rem' [-Wunused-variable]
int rem;
^~~
eliasFano.cpp: In function 'Rcpp::NumericVector eliasFanoDecoding(Rcpp::LogicalVector, Rcpp::LogicalVector, int)':
eliasFano.cpp:83:31: warning: comparison of integer expressions of different signedness: 'int' and 'std::vector<bool>::size_type' {aka 'long long unsigned int'} [-Wsign-compare]
for (int k = 0; k < h.size(); k++) {
~~^~~~~~~~~~
C:/rtools40/mingw64/bin/g++ -std=gnu++11 -shared -s -static-libgcc -o scfind.dll tmp.def RcppExports.o eliasFano.o -LC:/Users/BIOCBU~1/BBS-3~1.11-/R/bin/x64 -lRlapack -LC:/Users/BIOCBU~1/BBS-3~1.11-/R/bin/x64 -lRblas -lgfortran -lm -lquadmath -LC:/extsoft/lib/x64 -LC:/extsoft/lib -LC:/Users/BIOCBU~1/BBS-3~1.11-/R/bin/x64 -lR
installing to C:/Users/biocbuild/bbs-3.11-bioc/meat/scfind.buildbin-libdir/scfind/libs/x64
** testing if installed package can be loaded
Warning: Package 'scfind' is deprecated and will be removed from Bioconductor
version 3.12
* MD5 sums
packaged installation of 'scfind' as scfind_1.10.0.zip
* DONE (scfind)
* installing to library 'C:/Users/biocbuild/bbs-3.11-bioc/R/library'
package 'scfind' successfully unpacked and MD5 sums checked