| Back to Multiple platform build/check report for BioC 3.11 | 
  | 
This page was generated on 2020-10-17 11:57:46 -0400 (Sat, 17 Oct 2020).
| TO THE DEVELOPERS/MAINTAINERS OF THE scPCA PACKAGE: Please make sure to use the following settings in order to reproduce any error or warning you see on this page. | 
| Package 1607/1905 | Hostname | OS / Arch | INSTALL | BUILD | CHECK | BUILD BIN | ||||||
| scPCA 1.2.0 Philippe Boileau 
  | malbec2 | Linux (Ubuntu 18.04.4 LTS) / x86_64 | OK | OK | OK | |||||||
| tokay2 | Windows Server 2012 R2 Standard / x64 | OK | OK | OK | [ OK ] | |||||||
| machv2 | macOS 10.14.6 Mojave / x86_64 | OK | OK | OK | OK | 
| Package: scPCA | 
| Version: 1.2.0 | 
| Command: rm -rf scPCA.buildbin-libdir && mkdir scPCA.buildbin-libdir && C:\Users\biocbuild\bbs-3.11-bioc\R\bin\R.exe CMD INSTALL --merge-multiarch --build --library=scPCA.buildbin-libdir scPCA_1.2.0.tar.gz | 
| StartedAt: 2020-10-17 11:36:51 -0400 (Sat, 17 Oct 2020) | 
| EndedAt: 2020-10-17 11:37:03 -0400 (Sat, 17 Oct 2020) | 
| EllapsedTime: 12.2 seconds | 
| RetCode: 0 | 
| Status: OK | 
| PackageFile: scPCA_1.2.0.zip | 
| PackageFileSize: 896.9 KiB | 
##############################################################################
##############################################################################
###
### Running command:
###
###   rm -rf scPCA.buildbin-libdir && mkdir scPCA.buildbin-libdir && C:\Users\biocbuild\bbs-3.11-bioc\R\bin\R.exe CMD INSTALL --merge-multiarch --build --library=scPCA.buildbin-libdir scPCA_1.2.0.tar.gz
###
##############################################################################
##############################################################################
install for i386
* installing *source* package 'scPCA' ...
** using staged installation
** R
** data
*** moving datasets to lazyload DB
** inst
** byte-compile and prepare package for lazy loading
** help
*** installing help indices
  converting help for package 'scPCA'
    finding HTML links ... done
    background_df                           html  
    bpContrastiveCov                        html  
    bpFitCPCA                               html  
    bpFitGrid                               html  
    checkArgs                               html  
    coerceMatrix                            html  
    contrastiveCov                          html  
    covMat                                  html  
    cvSelectParams                          html  
    fitCPCA                                 html  
    fitGrid                                 html  
    safeColScale                            html  
    scPCA                                   html  
    selectParams                            html  
    spcaWrapper                             html  
    toy_df                                  html  
*** copying figures
** building package indices
** installing vignettes
** testing if installed package can be loaded from temporary location
** testing if installed package can be loaded from final location
** testing if installed package keeps a record of temporary installation path
install for x64
* installing *source* package 'scPCA' ...
** testing if installed package can be loaded
* MD5 sums
packaged installation of 'scPCA' as scPCA_1.2.0.zip
* DONE (scPCA)