| Back to Multiple platform build/check report for BioC 3.11 |
|
This page was generated on 2020-10-17 11:57:38 -0400 (Sat, 17 Oct 2020).
| TO THE DEVELOPERS/MAINTAINERS OF THE ribor PACKAGE: Please make sure to use the following settings in order to reproduce any error or warning you see on this page. |
| Package 1488/1905 | Hostname | OS / Arch | INSTALL | BUILD | CHECK | BUILD BIN | ||||||
| ribor 1.0.0 Michael Geng
| malbec2 | Linux (Ubuntu 18.04.4 LTS) / x86_64 | OK | OK | OK | |||||||
| tokay2 | Windows Server 2012 R2 Standard / x64 | OK | OK | OK | [ OK ] | |||||||
| machv2 | macOS 10.14.6 Mojave / x86_64 | OK | OK | OK | OK |
| Package: ribor |
| Version: 1.0.0 |
| Command: rm -rf ribor.buildbin-libdir && mkdir ribor.buildbin-libdir && C:\Users\biocbuild\bbs-3.11-bioc\R\bin\R.exe CMD INSTALL --merge-multiarch --build --library=ribor.buildbin-libdir ribor_1.0.0.tar.gz |
| StartedAt: 2020-10-17 11:28:32 -0400 (Sat, 17 Oct 2020) |
| EndedAt: 2020-10-17 11:29:10 -0400 (Sat, 17 Oct 2020) |
| EllapsedTime: 37.8 seconds |
| RetCode: 0 |
| Status: OK |
| PackageFile: ribor_1.0.0.zip |
| PackageFileSize: 4.072 MiB |
##############################################################################
##############################################################################
###
### Running command:
###
### rm -rf ribor.buildbin-libdir && mkdir ribor.buildbin-libdir && C:\Users\biocbuild\bbs-3.11-bioc\R\bin\R.exe CMD INSTALL --merge-multiarch --build --library=ribor.buildbin-libdir ribor_1.0.0.tar.gz
###
##############################################################################
##############################################################################
install for i386
* installing *source* package 'ribor' ...
** using staged installation
** R
** inst
** byte-compile and prepare package for lazy loading
** help
*** installing help indices
converting help for package 'ribor'
finding HTML links ... done
get_coverage html
get_experiments html
get_info html
get_length_distribution html
get_metadata html
get_metagene html
get_reference_names html
get_region_coordinates html
get_region_counts html
get_region_lengths html
get_rnaseq html
get_tidy_metagene html
plot_length_distribution html
plot_metagene html
plot_region_counts html
rename_default html
rename_transcripts html
ribo-class html
ribor html
set_aliases html
** building package indices
** installing vignettes
** testing if installed package can be loaded from temporary location
** testing if installed package can be loaded from final location
** testing if installed package keeps a record of temporary installation path
install for x64
* installing *source* package 'ribor' ...
** testing if installed package can be loaded
* MD5 sums
packaged installation of 'ribor' as ribor_1.0.0.zip
* DONE (ribor)