| Back to Multiple platform build/check report for BioC 3.11 |
|
This page was generated on 2020-01-16 13:50:53 -0500 (Thu, 16 Jan 2020).
| Package 1499/1818 | Hostname | OS / Arch | INSTALL | BUILD | CHECK | BUILD BIN | ||||||
| rWikiPathways 1.7.1 Egon Willighagen
| malbec2 | Linux (Ubuntu 18.04.3 LTS) / x86_64 | OK | OK | OK | |||||||
| tokay2 | Windows Server 2012 R2 Standard / x64 | OK | OK | OK | OK | |||||||
| celaya2 | OS X 10.11.6 El Capitan / x86_64 | OK | OK | [ OK ] | OK |
| Package: rWikiPathways |
| Version: 1.7.1 |
| Command: /Library/Frameworks/R.framework/Versions/Current/Resources/bin/R CMD check --install=check:rWikiPathways.install-out.txt --library=/Library/Frameworks/R.framework/Versions/Current/Resources/library --no-vignettes --timings rWikiPathways_1.7.1.tar.gz |
| StartedAt: 2020-01-16 08:31:48 -0500 (Thu, 16 Jan 2020) |
| EndedAt: 2020-01-16 08:33:48 -0500 (Thu, 16 Jan 2020) |
| EllapsedTime: 119.5 seconds |
| RetCode: 0 |
| Status: OK |
| CheckDir: rWikiPathways.Rcheck |
| Warnings: 0 |
##############################################################################
##############################################################################
###
### Running command:
###
### /Library/Frameworks/R.framework/Versions/Current/Resources/bin/R CMD check --install=check:rWikiPathways.install-out.txt --library=/Library/Frameworks/R.framework/Versions/Current/Resources/library --no-vignettes --timings rWikiPathways_1.7.1.tar.gz
###
##############################################################################
##############################################################################
* using log directory ‘/Users/biocbuild/bbs-3.11-bioc/meat/rWikiPathways.Rcheck’
* using R Under development (unstable) (2019-12-14 r77572)
* using platform: x86_64-apple-darwin15.6.0 (64-bit)
* using session charset: UTF-8
* using option ‘--no-vignettes’
* checking for file ‘rWikiPathways/DESCRIPTION’ ... OK
* checking extension type ... Package
* this is package ‘rWikiPathways’ version ‘1.7.1’
* checking package namespace information ... OK
* checking package dependencies ... OK
* checking if this is a source package ... OK
* checking if there is a namespace ... OK
* checking for hidden files and directories ... NOTE
Found the following hidden files and directories:
.travis.yml
These were most likely included in error. See section ‘Package
structure’ in the ‘Writing R Extensions’ manual.
* checking for portable file names ... OK
* checking for sufficient/correct file permissions ... OK
* checking whether package ‘rWikiPathways’ can be installed ... OK
* checking installed package size ... OK
* checking package directory ... OK
* checking ‘build’ directory ... OK
* checking DESCRIPTION meta-information ... OK
* checking top-level files ... OK
* checking for left-over files ... OK
* checking index information ... OK
* checking package subdirectories ... OK
* checking R files for non-ASCII characters ... OK
* checking R files for syntax errors ... OK
* checking whether the package can be loaded ... OK
* checking whether the package can be loaded with stated dependencies ... OK
* checking whether the package can be unloaded cleanly ... OK
* checking whether the namespace can be loaded with stated dependencies ... OK
* checking whether the namespace can be unloaded cleanly ... OK
* checking dependencies in R code ... OK
* checking S3 generic/method consistency ... OK
* checking replacement functions ... OK
* checking foreign function calls ... OK
* checking R code for possible problems ... OK
* checking Rd files ... OK
* checking Rd metadata ... OK
* checking Rd cross-references ... OK
* checking for missing documentation entries ... OK
* checking for code/documentation mismatches ... OK
* checking Rd \usage sections ... OK
* checking Rd contents ... OK
* checking for unstated dependencies in examples ... OK
* checking files in ‘vignettes’ ... OK
* checking examples ... OK
Examples with CPU (user + system) or elapsed time > 5s
user system elapsed
findPathwaysByLiterature 0.407 0.256 5.049
findPathwayIdsByLiterature 0.175 0.054 5.563
listPathwayNames 0.022 0.006 5.284
listPathwayUrls 0.017 0.004 5.425
* checking for unstated dependencies in ‘tests’ ... OK
* checking tests ...
Running ‘testthat.R’
OK
* checking for unstated dependencies in vignettes ... OK
* checking package vignettes in ‘inst/doc’ ... OK
* checking running R code from vignettes ... SKIPPED
* checking re-building of vignette outputs ... SKIPPED
* checking PDF version of manual ... OK
* DONE
Status: 1 NOTE
See
‘/Users/biocbuild/bbs-3.11-bioc/meat/rWikiPathways.Rcheck/00check.log’
for details.
rWikiPathways.Rcheck/00install.out
############################################################################## ############################################################################## ### ### Running command: ### ### /Library/Frameworks/R.framework/Versions/Current/Resources/bin/R CMD INSTALL rWikiPathways ### ############################################################################## ############################################################################## * installing to library ‘/Library/Frameworks/R.framework/Versions/4.0/Resources/library’ * installing *source* package ‘rWikiPathways’ ... ** using staged installation ** R ** inst ** byte-compile and prepare package for lazy loading ** help *** installing help indices ** building package indices ** installing vignettes ** testing if installed package can be loaded from temporary location ** testing if installed package can be loaded from final location ** testing if installed package keeps a record of temporary installation path * DONE (rWikiPathways)
rWikiPathways.Rcheck/tests/testthat.Rout
R Under development (unstable) (2019-12-14 r77572) -- "Unsuffered Consequences"
Copyright (C) 2019 The R Foundation for Statistical Computing
Platform: x86_64-apple-darwin15.6.0 (64-bit)
R is free software and comes with ABSOLUTELY NO WARRANTY.
You are welcome to redistribute it under certain conditions.
Type 'license()' or 'licence()' for distribution details.
R is a collaborative project with many contributors.
Type 'contributors()' for more information and
'citation()' on how to cite R or R packages in publications.
Type 'demo()' for some demos, 'help()' for on-line help, or
'help.start()' for an HTML browser interface to help.
Type 'q()' to quit R.
> library(testthat)
> library(rWikiPathways)
>
> test_check("rWikiPathways")
══ testthat results ═══════════════════════════════════════════════════════════
[ OK: 27 | SKIPPED: 0 | WARNINGS: 0 | FAILED: 0 ]
>
> proc.time()
user system elapsed
2.560 0.349 23.519
rWikiPathways.Rcheck/rWikiPathways-Ex.timings
| name | user | system | elapsed | |
| downloadPathwayArchive | 0 | 0 | 0 | |
| findPathwayIdsByLiterature | 0.175 | 0.054 | 5.563 | |
| findPathwayIdsByText | 0.013 | 0.001 | 0.743 | |
| findPathwayIdsByXref | 0.021 | 0.003 | 0.659 | |
| findPathwayNamesByLiterature | 0.119 | 0.013 | 4.468 | |
| findPathwayNamesByText | 0.017 | 0.005 | 0.707 | |
| findPathwayNamesByXref | 0.023 | 0.006 | 0.532 | |
| findPathwayUrlsByLiterature | 0.080 | 0.024 | 4.461 | |
| findPathwayUrlsByText | 0.021 | 0.007 | 0.717 | |
| findPathwayUrlsByXref | 0.025 | 0.008 | 0.543 | |
| findPathwaysByLiterature | 0.407 | 0.256 | 5.049 | |
| findPathwaysByText | 0.051 | 0.036 | 0.775 | |
| findPathwaysByXref | 0.174 | 0.138 | 0.820 | |
| getColoredPathway | 0.000 | 0.000 | 0.001 | |
| getCurationTagNames | 0.010 | 0.001 | 0.058 | |
| getCurationTags | 0.011 | 0.003 | 0.057 | |
| getEveryCurationTag | 0.123 | 0.092 | 1.006 | |
| getOntologyTermIds | 0.012 | 0.003 | 0.051 | |
| getOntologyTermNames | 0.011 | 0.003 | 0.049 | |
| getOntologyTerms | 0.011 | 0.002 | 0.049 | |
| getPathway | 0.035 | 0.004 | 0.077 | |
| getPathwayHistory | 0.012 | 0.003 | 0.052 | |
| getPathwayIdsByCurationTag | 0.025 | 0.004 | 0.634 | |
| getPathwayIdsByOntologyTerm | 0.010 | 0.000 | 0.066 | |
| getPathwayIdsByParentOntologyTerm | 0.010 | 0.001 | 0.062 | |
| getPathwayInfo | 0.010 | 0.001 | 0.046 | |
| getPathwaysByCurationTag | 0.063 | 0.038 | 0.707 | |
| getPathwaysByOntologyTerm | 0.011 | 0.003 | 0.062 | |
| getPathwaysByParentOntologyTerm | 0.013 | 0.003 | 0.068 | |
| getRecentChanges | 0.056 | 0.035 | 0.360 | |
| getRecentChangesIds | 0.013 | 0.002 | 0.238 | |
| getRecentChangesNames | 0.013 | 0.004 | 0.246 | |
| getXrefList | 0.009 | 0.000 | 0.194 | |
| listOrganisms | 0.010 | 0.001 | 0.043 | |
| listPathwayIds | 0.014 | 0.003 | 4.626 | |
| listPathwayNames | 0.022 | 0.006 | 5.284 | |
| listPathwayUrls | 0.017 | 0.004 | 5.425 | |
| listPathways | 0.075 | 0.059 | 4.812 | |
| wikipathwaysAPI | 0.003 | 0.004 | 0.007 | |
| wikipathwaysGET | 0.010 | 0.002 | 0.044 | |